BEGIN:VCALENDAR
VERSION:2.0
PRODID:-//EZFacility.com, Inc.//EZL 2.5.5.28621
BEGIN:VEVENT
UID:16260832@ezleagues.ezfacility.com
DTSTAMP:20260424T043231Z
CREATED:20260424T043231Z
DTSTART:20250222T003000Z
DTEND:20250222T011000Z
LOCATION:Court 3
CONTACT:
SUMMARY:Naturally Delicious VS. Spike Sluts
DESCRIPTION:League Name: 25 Winter II Adult Coed 6's Volleyball League\nGam
 e Type: Regular\nGame Status: Complete\nHome Team: Naturally Delicious\nAw
 ay Team: Spike Sluts\nHome Score: 1\nAway Score: 0
END:VEVENT
BEGIN:VEVENT
UID:16260847@ezleagues.ezfacility.com
DTSTAMP:20260424T043231Z
CREATED:20260424T043231Z
DTSTART:20250222T003000Z
DTEND:20250222T011000Z
LOCATION:Court 3
CONTACT:
SUMMARY:Naturally Delicious VS. Spike Sluts
DESCRIPTION:League Name: 25 Winter II Adult Coed 6's Volleyball League\nGam
 e Type: Regular\nGame Status: Complete\nHome Team: Naturally Delicious\nAw
 ay Team: Spike Sluts\nHome Score: 1\nAway Score: 0
END:VEVENT
BEGIN:VEVENT
UID:16260855@ezleagues.ezfacility.com
DTSTAMP:20260424T043231Z
CREATED:20260424T043231Z
DTSTART:20250222T003000Z
DTEND:20250222T011000Z
LOCATION:Court 4
CONTACT:
SUMMARY:Get Some VS. Spike Sluts
DESCRIPTION:League Name: 25 Winter II Adult Coed 6's Volleyball League\nGam
 e Type: Regular\nGame Status: Complete\nHome Team: Get Some\nAway Team: Sp
 ike Sluts\nHome Score: 1\nAway Score: 0
END:VEVENT
BEGIN:VEVENT
UID:16260840@ezleagues.ezfacility.com
DTSTAMP:20260424T043231Z
CREATED:20260424T043231Z
DTSTART:20250222T003000Z
DTEND:20250222T011000Z
LOCATION:Court 4
CONTACT:
SUMMARY:Spike Sluts VS. It's A Set-Up
DESCRIPTION:League Name: 25 Winter II Adult Coed 6's Volleyball League\nGam
 e Type: Regular\nGame Status: Complete\nHome Team: Spike Sluts\nAway Team:
  It's A Set-Up\nHome Score: 1\nAway Score: 0
END:VEVENT
BEGIN:VEVENT
UID:16260871@ezleagues.ezfacility.com
DTSTAMP:20260424T043231Z
CREATED:20260424T043231Z
DTSTART:20250222T003000Z
DTEND:20250222T011000Z
LOCATION:Court 4
CONTACT:
SUMMARY:Spike Sluts VS. Chewblockas
DESCRIPTION:League Name: 25 Winter II Adult Coed 6's Volleyball League\nGam
 e Type: Regular\nGame Status: Complete\nHome Team: Spike Sluts\nAway Team:
  Chewblockas\nHome Score: 1\nAway Score: 0
END:VEVENT
BEGIN:VEVENT
UID:16260864@ezleagues.ezfacility.com
DTSTAMP:20260424T043231Z
CREATED:20260424T043231Z
DTSTART:20250222T003000Z
DTEND:20250222T011000Z
LOCATION:Court 5
CONTACT:
SUMMARY:Spike Sluts VS. It's A Set-Up
DESCRIPTION:League Name: 25 Winter II Adult Coed 6's Volleyball League\nGam
 e Type: Regular\nGame Status: Complete\nHome Team: Spike Sluts\nAway Team:
  It's A Set-Up\nHome Score: 1\nAway Score: 0
END:VEVENT
BEGIN:VEVENT
UID:16312638@ezleagues.ezfacility.com
DTSTAMP:20260424T043231Z
CREATED:20260424T043231Z
DTSTART:20250308T000000Z
DTEND:20250308T004000Z
LOCATION:Court 2
CONTACT:
SUMMARY:It's A Set-Up VS. Spike Sluts
DESCRIPTION:League Name: 25 Winter II Adult Coed 6's Volleyball League\nGam
 e Type: Regular\nGame Status: Complete\nHome Team: It's A Set-Up\nAway Tea
 m: Spike Sluts\nHome Score: 1\nAway Score: 0
END:VEVENT
BEGIN:VEVENT
UID:16312646@ezleagues.ezfacility.com
DTSTAMP:20260424T043231Z
CREATED:20260424T043231Z
DTSTART:20250308T000000Z
DTEND:20250308T004000Z
LOCATION:Court 3
CONTACT:
SUMMARY:That's what she set VS. Spike Sluts
DESCRIPTION:League Name: 25 Winter II Adult Coed 6's Volleyball League\nGam
 e Type: Regular\nGame Status: Complete\nHome Team: That's what she set\nAw
 ay Team: Spike Sluts\nHome Score: 1\nAway Score: 0
END:VEVENT
BEGIN:VEVENT
UID:16312756@ezleagues.ezfacility.com
DTSTAMP:20260424T043231Z
CREATED:20260424T043231Z
DTSTART:20250308T000000Z
DTEND:20250308T004000Z
LOCATION:Court 3
CONTACT:
SUMMARY:It's A Set-Up VS. Spike Sluts
DESCRIPTION:League Name: 25 Winter II Adult Coed 6's Volleyball League\nGam
 e Type: Regular\nGame Status: Complete\nHome Team: It's A Set-Up\nAway Tea
 m: Spike Sluts\nHome Score: 1\nAway Score: 0
END:VEVENT
BEGIN:VEVENT
UID:16312592@ezleagues.ezfacility.com
DTSTAMP:20260424T043231Z
CREATED:20260424T043231Z
DTSTART:20250308T000000Z
DTEND:20250308T004000Z
LOCATION:Court 3
CONTACT:
SUMMARY:Spike Sluts VS. Hits and Giggles
DESCRIPTION:League Name: 25 Winter II Adult Coed 6's Volleyball League\nGam
 e Type: Regular\nGame Status: Complete\nHome Team: Spike Sluts\nAway Team:
  Hits and Giggles\nHome Score: 1\nAway Score: 0
END:VEVENT
BEGIN:VEVENT
UID:16312694@ezleagues.ezfacility.com
DTSTAMP:20260424T043231Z
CREATED:20260424T043231Z
DTSTART:20250308T000000Z
DTEND:20250308T004000Z
LOCATION:Court 4
CONTACT:
SUMMARY:Spike Sluts VS. Hits and Giggles
DESCRIPTION:League Name: 25 Winter II Adult Coed 6's Volleyball League\nGam
 e Type: Regular\nGame Status: Complete\nHome Team: Spike Sluts\nAway Team:
  Hits and Giggles\nHome Score: 1\nAway Score: 0
END:VEVENT
BEGIN:VEVENT
UID:16312554@ezleagues.ezfacility.com
DTSTAMP:20260424T043231Z
CREATED:20260424T043231Z
DTSTART:20250308T000000Z
DTEND:20250308T004000Z
LOCATION:Court 4
CONTACT:
SUMMARY:Spike Sluts VS. Flying Penguins
DESCRIPTION:League Name: 25 Winter II Adult Coed 6's Volleyball League\nGam
 e Type: Regular\nGame Status: Complete\nHome Team: Spike Sluts\nAway Team:
  Flying Penguins\nHome Score: 1\nAway Score: 0
END:VEVENT
BEGIN:VEVENT
UID:16312959@ezleagues.ezfacility.com
DTSTAMP:20260424T043231Z
CREATED:20260424T043231Z
DTSTART:20250314T233000Z
DTEND:20250315T001000Z
LOCATION:Court 1
CONTACT:
SUMMARY:That's what she set VS. Spike Sluts
DESCRIPTION:League Name: 25 Winter II Adult Coed 6's Volleyball League\nGam
 e Type: Regular\nGame Status: Complete\nHome Team: That's what she set\nAw
 ay Team: Spike Sluts\nHome Score: 1\nAway Score: 0
END:VEVENT
BEGIN:VEVENT
UID:16312983@ezleagues.ezfacility.com
DTSTAMP:20260424T043231Z
CREATED:20260424T043231Z
DTSTART:20250314T233000Z
DTEND:20250315T001000Z
LOCATION:Court 2
CONTACT:
SUMMARY:Sloppy Sets VS. Spike Sluts
DESCRIPTION:League Name: 25 Winter II Adult Coed 6's Volleyball League\nGam
 e Type: Regular\nGame Status: Complete\nHome Team: Sloppy Sets\nAway Team:
  Spike Sluts\nHome Score: 1\nAway Score: 0
END:VEVENT
BEGIN:VEVENT
UID:16312913@ezleagues.ezfacility.com
DTSTAMP:20260424T043231Z
CREATED:20260424T043231Z
DTSTART:20250314T233000Z
DTEND:20250315T001000Z
LOCATION:Court 2
CONTACT:
SUMMARY:Spike Sluts VS. Fellowship of the Swing
DESCRIPTION:League Name: 25 Winter II Adult Coed 6's Volleyball League\nGam
 e Type: Regular\nGame Status: Complete\nHome Team: Spike Sluts\nAway Team:
  Fellowship of the Swing\nHome Score: 1\nAway Score: 0
END:VEVENT
BEGIN:VEVENT
UID:16312997@ezleagues.ezfacility.com
DTSTAMP:20260424T043231Z
CREATED:20260424T043231Z
DTSTART:20250314T233000Z
DTEND:20250315T001000Z
LOCATION:Court 2
CONTACT:
SUMMARY:Spike Sluts VS. Sloppy Sets
DESCRIPTION:League Name: 25 Winter II Adult Coed 6's Volleyball League\nGam
 e Type: Regular\nGame Status: Complete\nHome Team: Spike Sluts\nAway Team:
  Sloppy Sets\nHome Score: 1\nAway Score: 0
END:VEVENT
BEGIN:VEVENT
UID:16312991@ezleagues.ezfacility.com
DTSTAMP:20260424T043231Z
CREATED:20260424T043231Z
DTSTART:20250314T233000Z
DTEND:20250315T001000Z
LOCATION:Court 3
CONTACT:
SUMMARY:Spike Sluts VS. Get Some
DESCRIPTION:League Name: 25 Winter II Adult Coed 6's Volleyball League\nGam
 e Type: Regular\nGame Status: Complete\nHome Team: Spike Sluts\nAway Team:
  Get Some\nHome Score: 1\nAway Score: 0
END:VEVENT
BEGIN:VEVENT
UID:16312891@ezleagues.ezfacility.com
DTSTAMP:20260424T043231Z
CREATED:20260424T043231Z
DTSTART:20250314T233000Z
DTEND:20250315T001000Z
LOCATION:Court 3
CONTACT:
SUMMARY:Spike Sluts VS. TBD
DESCRIPTION:League Name: 25 Winter II Adult Coed 6's Volleyball League\nGam
 e Type: Regular\nGame Status: Complete\nHome Team: Spike Sluts\nAway Team:
  TBD\nHome Score: 1\nAway Score: 0
END:VEVENT
BEGIN:VEVENT
UID:16341079@ezleagues.ezfacility.com
DTSTAMP:20260424T043231Z
CREATED:20260424T043231Z
DTSTART:20250321T233000Z
DTEND:20250322T001000Z
LOCATION:Court 2
CONTACT:
SUMMARY:It's A Set-Up VS. Spike Sluts
DESCRIPTION:League Name: 25 Winter II Adult Coed 6's Volleyball League\nGam
 e Type: Regular\nGame Status: Complete\nHome Team: It's A Set-Up\nAway Tea
 m: Spike Sluts\nHome Score: 1\nAway Score: 0
END:VEVENT
BEGIN:VEVENT
UID:16341164@ezleagues.ezfacility.com
DTSTAMP:20260424T043231Z
CREATED:20260424T043231Z
DTSTART:20250321T233000Z
DTEND:20250322T001000Z
LOCATION:Court 3
CONTACT:
SUMMARY:Get Some VS. Spike Sluts
DESCRIPTION:League Name: 25 Winter II Adult Coed 6's Volleyball League\nGam
 e Type: Regular\nGame Status: Complete\nHome Team: Get Some\nAway Team: Sp
 ike Sluts\nHome Score: 1\nAway Score: 0
END:VEVENT
BEGIN:VEVENT
UID:16341203@ezleagues.ezfacility.com
DTSTAMP:20260424T043231Z
CREATED:20260424T043231Z
DTSTART:20250321T233000Z
DTEND:20250322T001000Z
LOCATION:Court 3
CONTACT:
SUMMARY:That's what she set VS. Spike Sluts
DESCRIPTION:League Name: 25 Winter II Adult Coed 6's Volleyball League\nGam
 e Type: Regular\nGame Status: Complete\nHome Team: That's what she set\nAw
 ay Team: Spike Sluts\nHome Score: 1\nAway Score: 0
END:VEVENT
BEGIN:VEVENT
UID:16341180@ezleagues.ezfacility.com
DTSTAMP:20260424T043231Z
CREATED:20260424T043231Z
DTSTART:20250321T233000Z
DTEND:20250322T001000Z
LOCATION:Court 4
CONTACT:
SUMMARY:That's what she set VS. Spike Sluts
DESCRIPTION:League Name: 25 Winter II Adult Coed 6's Volleyball League\nGam
 e Type: Regular\nGame Status: Complete\nHome Team: That's what she set\nAw
 ay Team: Spike Sluts\nHome Score: 1\nAway Score: 0
END:VEVENT
BEGIN:VEVENT
UID:16341197@ezleagues.ezfacility.com
DTSTAMP:20260424T043231Z
CREATED:20260424T043231Z
DTSTART:20250321T233000Z
DTEND:20250322T001000Z
LOCATION:Court 4
CONTACT:
SUMMARY:Spike Sluts VS. It's A Set-Up
DESCRIPTION:League Name: 25 Winter II Adult Coed 6's Volleyball League\nGam
 e Type: Regular\nGame Status: Complete\nHome Team: Spike Sluts\nAway Team:
  It's A Set-Up\nHome Score: 1\nAway Score: 0
END:VEVENT
BEGIN:VEVENT
UID:16341191@ezleagues.ezfacility.com
DTSTAMP:20260424T043231Z
CREATED:20260424T043231Z
DTSTART:20250321T233000Z
DTEND:20250322T001000Z
LOCATION:Court 5
CONTACT:
SUMMARY:Spike Sluts VS. Flying Penguins
DESCRIPTION:League Name: 25 Winter II Adult Coed 6's Volleyball League\nGam
 e Type: Regular\nGame Status: Complete\nHome Team: Spike Sluts\nAway Team:
  Flying Penguins\nHome Score: 1\nAway Score: 0
END:VEVENT
BEGIN:VEVENT
UID:16343216@ezleagues.ezfacility.com
DTSTAMP:20260424T043231Z
CREATED:20260424T043231Z
DTSTART:20250328T233000Z
DTEND:20250329T001000Z
LOCATION:Court 3
CONTACT:
SUMMARY:Get Some VS. Spike Sluts
DESCRIPTION:League Name: 25 Winter II Adult Coed 6's Volleyball League\nGam
 e Type: Regular\nGame Status: Complete\nHome Team: Get Some\nAway Team: Sp
 ike Sluts\nHome Score: 1\nAway Score: 0
END:VEVENT
BEGIN:VEVENT
UID:16343224@ezleagues.ezfacility.com
DTSTAMP:20260424T043231Z
CREATED:20260424T043231Z
DTSTART:20250328T233000Z
DTEND:20250329T001000Z
LOCATION:Court 4
CONTACT:
SUMMARY:It's A Set-Up VS. Spike Sluts
DESCRIPTION:League Name: 25 Winter II Adult Coed 6's Volleyball League\nGam
 e Type: Regular\nGame Status: Complete\nHome Team: It's A Set-Up\nAway Tea
 m: Spike Sluts\nHome Score: 1\nAway Score: 0
END:VEVENT
BEGIN:VEVENT
UID:16343196@ezleagues.ezfacility.com
DTSTAMP:20260424T043231Z
CREATED:20260424T043231Z
DTSTART:20250328T233000Z
DTEND:20250329T001000Z
LOCATION:Court 4
CONTACT:
SUMMARY:Mello Yello VS. Spike Sluts
DESCRIPTION:League Name: 25 Winter II Adult Coed 6's Volleyball League\nGam
 e Type: Regular\nGame Status: Complete\nHome Team: Mello Yello\nAway Team:
  Spike Sluts\nHome Score: 1\nAway Score: 0
END:VEVENT
BEGIN:VEVENT
UID:16343210@ezleagues.ezfacility.com
DTSTAMP:20260424T043231Z
CREATED:20260424T043231Z
DTSTART:20250328T233000Z
DTEND:20250329T001000Z
LOCATION:Court 4
CONTACT:
SUMMARY:Spike Sluts VS. Chewblockas
DESCRIPTION:League Name: 25 Winter II Adult Coed 6's Volleyball League\nGam
 e Type: Regular\nGame Status: Complete\nHome Team: Spike Sluts\nAway Team:
  Chewblockas\nHome Score: 1\nAway Score: 0
END:VEVENT
BEGIN:VEVENT
UID:16343232@ezleagues.ezfacility.com
DTSTAMP:20260424T043231Z
CREATED:20260424T043231Z
DTSTART:20250328T233000Z
DTEND:20250329T001000Z
LOCATION:Court 5
CONTACT:
SUMMARY:Spike Sluts VS. Hits and Giggles
DESCRIPTION:League Name: 25 Winter II Adult Coed 6's Volleyball League\nGam
 e Type: Regular\nGame Status: Complete\nHome Team: Spike Sluts\nAway Team:
  Hits and Giggles\nHome Score: 1\nAway Score: 0
END:VEVENT
BEGIN:VEVENT
UID:16343204@ezleagues.ezfacility.com
DTSTAMP:20260424T043231Z
CREATED:20260424T043231Z
DTSTART:20250328T233000Z
DTEND:20250329T001000Z
LOCATION:Court 5
CONTACT:
SUMMARY:Spike Sluts VS. TBD
DESCRIPTION:League Name: 25 Winter II Adult Coed 6's Volleyball League\nGam
 e Type: Regular\nGame Status: Complete\nHome Team: Spike Sluts\nAway Team:
  TBD\nHome Score: 1\nAway Score: 0
END:VEVENT
BEGIN:VEVENT
UID:16370770@ezleagues.ezfacility.com
DTSTAMP:20260424T043231Z
CREATED:20260424T043231Z
DTSTART:20250404T233000Z
DTEND:20250405T001000Z
LOCATION:Court 2
CONTACT:
SUMMARY:Sloppy Sets VS. Spike Sluts
DESCRIPTION:League Name: 25 Winter II Adult Coed 6's Volleyball League\nGam
 e Type: Regular\nGame Status: Complete\nHome Team: Sloppy Sets\nAway Team:
  Spike Sluts\nHome Score: 1\nAway Score: 0
END:VEVENT
BEGIN:VEVENT
UID:16370784@ezleagues.ezfacility.com
DTSTAMP:20260424T043231Z
CREATED:20260424T043231Z
DTSTART:20250404T233000Z
DTEND:20250405T001000Z
LOCATION:Court 2
CONTACT:
SUMMARY:Sloppy Sets VS. Spike Sluts
DESCRIPTION:League Name: 25 Winter II Adult Coed 6's Volleyball League\nGam
 e Type: Regular\nGame Status: Complete\nHome Team: Sloppy Sets\nAway Team:
  Spike Sluts\nHome Score: 1\nAway Score: 0
END:VEVENT
BEGIN:VEVENT
UID:16370764@ezleagues.ezfacility.com
DTSTAMP:20260424T043231Z
CREATED:20260424T043231Z
DTSTART:20250404T233000Z
DTEND:20250405T001000Z
LOCATION:Court 3
CONTACT:
SUMMARY:Spike Sluts VS. Fellowship of the Swing
DESCRIPTION:League Name: 25 Winter II Adult Coed 6's Volleyball League\nGam
 e Type: Regular\nGame Status: Complete\nHome Team: Spike Sluts\nAway Team:
  Fellowship of the Swing\nHome Score: 1\nAway Score: 0
END:VEVENT
BEGIN:VEVENT
UID:16370778@ezleagues.ezfacility.com
DTSTAMP:20260424T043231Z
CREATED:20260424T043231Z
DTSTART:20250404T233000Z
DTEND:20250405T001000Z
LOCATION:Court 3
CONTACT:
SUMMARY:Spike Sluts VS. Fellowship of the Swing
DESCRIPTION:League Name: 25 Winter II Adult Coed 6's Volleyball League\nGam
 e Type: Regular\nGame Status: Complete\nHome Team: Spike Sluts\nAway Team:
  Fellowship of the Swing\nHome Score: 1\nAway Score: 0
END:VEVENT
BEGIN:VEVENT
UID:16370792@ezleagues.ezfacility.com
DTSTAMP:20260424T043231Z
CREATED:20260424T043231Z
DTSTART:20250404T233000Z
DTEND:20250405T001000Z
LOCATION:Court 3
CONTACT:
SUMMARY:Spike Sluts VS. Naturally Delicious
DESCRIPTION:League Name: 25 Winter II Adult Coed 6's Volleyball League\nGam
 e Type: Regular\nGame Status: Complete\nHome Team: Spike Sluts\nAway Team:
  Naturally Delicious\nHome Score: 1\nAway Score: 0
END:VEVENT
BEGIN:VEVENT
UID:16370800@ezleagues.ezfacility.com
DTSTAMP:20260424T043231Z
CREATED:20260424T043231Z
DTSTART:20250404T233000Z
DTEND:20250405T001000Z
LOCATION:Court 4
CONTACT:
SUMMARY:Spike Sluts VS. Block Party (H)
DESCRIPTION:League Name: 25 Winter II Adult Coed 6's Volleyball League\nGam
 e Type: Regular\nGame Status: Complete\nHome Team: Spike Sluts\nAway Team:
  Block Party (H)\nHome Score: 1\nAway Score: 0
END:VEVENT
BEGIN:VEVENT
UID:16385123@ezleagues.ezfacility.com
DTSTAMP:20260424T043231Z
CREATED:20260424T043231Z
DTSTART:20250411T233000Z
DTEND:20250412T001000Z
LOCATION:Court 3
CONTACT:
SUMMARY:Spike Sluts VS. Fellowship of the Swing
DESCRIPTION:League Name: 25 Winter II Adult Coed 6's Volleyball League\nGam
 e Type: Regular\nGame Status: Complete\nHome Team: Spike Sluts\nAway Team:
  Fellowship of the Swing\nHome Score: 1\nAway Score: 0
END:VEVENT
BEGIN:VEVENT
UID:16385089@ezleagues.ezfacility.com
DTSTAMP:20260424T043231Z
CREATED:20260424T043231Z
DTSTART:20250411T233000Z
DTEND:20250412T001000Z
LOCATION:Court 4
CONTACT:
SUMMARY:Mello Yello VS. Spike Sluts
DESCRIPTION:League Name: 25 Winter II Adult Coed 6's Volleyball League\nGam
 e Type: Regular\nGame Status: Complete\nHome Team: Mello Yello\nAway Team:
  Spike Sluts\nHome Score: 1\nAway Score: 0
END:VEVENT
BEGIN:VEVENT
UID:16385117@ezleagues.ezfacility.com
DTSTAMP:20260424T043231Z
CREATED:20260424T043231Z
DTSTART:20250411T233000Z
DTEND:20250412T001000Z
LOCATION:Court 4
CONTACT:
SUMMARY:Spike Sluts VS. Naturally Delicious
DESCRIPTION:League Name: 25 Winter II Adult Coed 6's Volleyball League\nGam
 e Type: Regular\nGame Status: Complete\nHome Team: Spike Sluts\nAway Team:
  Naturally Delicious\nHome Score: 1\nAway Score: 0
END:VEVENT
BEGIN:VEVENT
UID:16385111@ezleagues.ezfacility.com
DTSTAMP:20260424T043231Z
CREATED:20260424T043231Z
DTSTART:20250411T233000Z
DTEND:20250412T001000Z
LOCATION:Court 5
CONTACT:
SUMMARY:Spike Sluts VS. Block Party (H)
DESCRIPTION:League Name: 25 Winter II Adult Coed 6's Volleyball League\nGam
 e Type: Regular\nGame Status: Complete\nHome Team: Spike Sluts\nAway Team:
  Block Party (H)\nHome Score: 1\nAway Score: 0
END:VEVENT
BEGIN:VEVENT
UID:16385097@ezleagues.ezfacility.com
DTSTAMP:20260424T043231Z
CREATED:20260424T043231Z
DTSTART:20250411T233000Z
DTEND:20250412T001000Z
LOCATION:Court 5
CONTACT:
SUMMARY:Get Some VS. Spike Sluts
DESCRIPTION:League Name: 25 Winter II Adult Coed 6's Volleyball League\nGam
 e Type: Regular\nGame Status: Complete\nHome Team: Get Some\nAway Team: Sp
 ike Sluts\nHome Score: 1\nAway Score: 0
END:VEVENT
BEGIN:VEVENT
UID:16385105@ezleagues.ezfacility.com
DTSTAMP:20260424T043231Z
CREATED:20260424T043231Z
DTSTART:20250411T233000Z
DTEND:20250412T001000Z
LOCATION:Court 6
CONTACT:
SUMMARY:Spike Sluts VS. Sloppy Sets
DESCRIPTION:League Name: 25 Winter II Adult Coed 6's Volleyball League\nGam
 e Type: Regular\nGame Status: Complete\nHome Team: Spike Sluts\nAway Team:
  Sloppy Sets\nHome Score: 1\nAway Score: 0
END:VEVENT
END:VCALENDAR
