BEGIN:VCALENDAR
VERSION:2.0
PRODID:-//EZFacility.com, Inc.//EZL 2.5.5.28621
BEGIN:VEVENT
UID:16240019@ezleagues.ezfacility.com
DTSTAMP:20260422T053107Z
CREATED:20260422T053107Z
DTSTART:20250224T024000Z
DTEND:20250224T033000Z
LOCATION:Indoor Field
CONTACT:
SUMMARY:11 Deportivo Longview  VS. Les Bleus
DESCRIPTION:League Name: Men's 38+ 2025\nGame Type: Regular\nGame Status: C
 omplete\nHome Team: 11 Deportivo Longview \nAway Team: Les Bleus\nHome Sco
 re: 8\nAway Score: 16
END:VEVENT
BEGIN:VEVENT
UID:16240023@ezleagues.ezfacility.com
DTSTAMP:20260422T053107Z
CREATED:20260422T053107Z
DTSTART:20250303T033000Z
DTEND:20250303T042000Z
LOCATION:Indoor Field
CONTACT:
SUMMARY:Los Gallos Blancos VS. 11 Deportivo Longview 
DESCRIPTION:League Name: Men's 38+ 2025\nGame Type: Regular\nGame Status: C
 omplete\nHome Team: Los Gallos Blancos\nAway Team: 11 Deportivo Longview \
 nHome Score: 7\nAway Score: 19
END:VEVENT
BEGIN:VEVENT
UID:16240027@ezleagues.ezfacility.com
DTSTAMP:20260422T053107Z
CREATED:20260422T053107Z
DTSTART:20250310T005000Z
DTEND:20250310T014000Z
LOCATION:Indoor Field
CONTACT:
SUMMARY:Milan VS. 11 Deportivo Longview 
DESCRIPTION:League Name: Men's 38+ 2025\nGame Type: Regular\nGame Status: C
 omplete\nHome Team: Milan\nAway Team: 11 Deportivo Longview \nHome Score: 
 11\nAway Score: 12
END:VEVENT
BEGIN:VEVENT
UID:16240031@ezleagues.ezfacility.com
DTSTAMP:20260422T053107Z
CREATED:20260422T053107Z
DTSTART:20250317T000000Z
DTEND:20250317T005000Z
LOCATION:Indoor Field
CONTACT:
SUMMARY:Mustangs  VS. 11 Deportivo Longview 
DESCRIPTION:League Name: Men's 38+ 2025\nGame Type: Regular\nGame Status: C
 omplete\nHome Team: Mustangs \nAway Team: 11 Deportivo Longview \nHome Sco
 re: 8\nAway Score: 6
END:VEVENT
BEGIN:VEVENT
UID:16240035@ezleagues.ezfacility.com
DTSTAMP:20260422T053107Z
CREATED:20260422T053107Z
DTSTART:20250324T000000Z
DTEND:20250324T005000Z
LOCATION:Indoor Field
CONTACT:
SUMMARY:Marshall VS. 11 Deportivo Longview 
DESCRIPTION:League Name: Men's 38+ 2025\nGame Type: Regular\nGame Status: C
 omplete\nHome Team: Marshall\nAway Team: 11 Deportivo Longview \nHome Scor
 e: 10\nAway Score: 8
END:VEVENT
BEGIN:VEVENT
UID:16240039@ezleagues.ezfacility.com
DTSTAMP:20260422T053107Z
CREATED:20260422T053107Z
DTSTART:20250331T000000Z
DTEND:20250331T005000Z
LOCATION:Indoor Field
CONTACT:
SUMMARY:11 Deportivo Longview  VS. Leyendas
DESCRIPTION:League Name: Men's 38+ 2025\nGame Type: Regular\nGame Status: C
 omplete\nHome Team: 11 Deportivo Longview \nAway Team: Leyendas\nHome Scor
 e: 16\nAway Score: 12
END:VEVENT
BEGIN:VEVENT
UID:16240043@ezleagues.ezfacility.com
DTSTAMP:20260422T053107Z
CREATED:20260422T053107Z
DTSTART:20250407T000000Z
DTEND:20250407T005000Z
LOCATION:Indoor Field
CONTACT:
SUMMARY:11 Deportivo Longview  VS. Dadbods
DESCRIPTION:League Name: Men's 38+ 2025\nGame Type: Regular\nGame Status: C
 omplete\nHome Team: 11 Deportivo Longview \nAway Team: Dadbods\nHome Score
 : 7\nAway Score: 6
END:VEVENT
BEGIN:VEVENT
UID:16359268@ezleagues.ezfacility.com
DTSTAMP:20260422T053107Z
CREATED:20260422T053107Z
DTSTART:20250414T000000Z
DTEND:20250414T005000Z
LOCATION:Indoor Field
CONTACT:
SUMMARY:Les Bleus VS. 11 Deportivo Longview 
DESCRIPTION:League Name: Men's 38+ 2025\nGame Type: Postseason\nGame Status
 : Pending\nHome Team: Les Bleus\nAway Team: 11 Deportivo Longview \n
END:VEVENT
END:VCALENDAR
