BEGIN:VCALENDAR
VERSION:2.0
PRODID:-//EZFacility.com, Inc.//EZL 2.5.5.28621
BEGIN:VEVENT
UID:16240021@ezleagues.ezfacility.com
DTSTAMP:20260422T012515Z
CREATED:20260422T012515Z
DTSTART:20250224T033000Z
DTEND:20250224T042000Z
LOCATION:Indoor Field
CONTACT:
SUMMARY:Leyendas VS. Milan
DESCRIPTION:League Name: Men's 38+ 2025\nGame Type: Regular\nGame Status: C
 omplete\nHome Team: Leyendas\nAway Team: Milan\nHome Score: 4\nAway Score:
  11
END:VEVENT
BEGIN:VEVENT
UID:16240026@ezleagues.ezfacility.com
DTSTAMP:20260422T012515Z
CREATED:20260422T012515Z
DTSTART:20250303T010000Z
DTEND:20250303T015000Z
LOCATION:Indoor Field
CONTACT:
SUMMARY:Leyendas VS. Marshall
DESCRIPTION:League Name: Men's 38+ 2025\nGame Type: Regular\nGame Status: C
 omplete\nHome Team: Leyendas\nAway Team: Marshall\nHome Score: 7\nAway Sco
 re: 11
END:VEVENT
BEGIN:VEVENT
UID:16240030@ezleagues.ezfacility.com
DTSTAMP:20260422T012515Z
CREATED:20260422T012515Z
DTSTART:20250310T000000Z
DTEND:20250310T005000Z
LOCATION:Indoor Field
CONTACT:
SUMMARY:Dadbods VS. Leyendas
DESCRIPTION:League Name: Men's 38+ 2025\nGame Type: Regular\nGame Status: C
 omplete\nHome Team: Dadbods\nAway Team: Leyendas\nHome Score: 7\nAway Scor
 e: 6
END:VEVENT
BEGIN:VEVENT
UID:16240033@ezleagues.ezfacility.com
DTSTAMP:20260422T012515Z
CREATED:20260422T012515Z
DTSTART:20250317T014000Z
DTEND:20250317T023000Z
LOCATION:Indoor Field
CONTACT:
SUMMARY:Los Gallos Blancos VS. Leyendas
DESCRIPTION:League Name: Men's 38+ 2025\nGame Type: Regular\nGame Status: C
 omplete\nHome Team: Los Gallos Blancos\nAway Team: Leyendas\nHome Score: 5
 \nAway Score: 9
END:VEVENT
BEGIN:VEVENT
UID:16240036@ezleagues.ezfacility.com
DTSTAMP:20260422T012515Z
CREATED:20260422T012515Z
DTSTART:20250324T023000Z
DTEND:20250324T032000Z
LOCATION:Indoor Field
CONTACT:
SUMMARY:Mustangs  VS. Leyendas
DESCRIPTION:League Name: Men's 38+ 2025\nGame Type: Regular\nGame Status: C
 omplete\nHome Team: Mustangs \nAway Team: Leyendas\nHome Score: 12\nAway S
 core: 8
END:VEVENT
BEGIN:VEVENT
UID:16240039@ezleagues.ezfacility.com
DTSTAMP:20260422T012515Z
CREATED:20260422T012515Z
DTSTART:20250331T000000Z
DTEND:20250331T005000Z
LOCATION:Indoor Field
CONTACT:
SUMMARY:11 Deportivo Longview  VS. Leyendas
DESCRIPTION:League Name: Men's 38+ 2025\nGame Type: Regular\nGame Status: C
 omplete\nHome Team: 11 Deportivo Longview \nAway Team: Leyendas\nHome Scor
 e: 16\nAway Score: 12
END:VEVENT
BEGIN:VEVENT
UID:16240044@ezleagues.ezfacility.com
DTSTAMP:20260422T012515Z
CREATED:20260422T012515Z
DTSTART:20250407T005000Z
DTEND:20250407T014000Z
LOCATION:Indoor Field
CONTACT:
SUMMARY:Leyendas VS. Les Bleus
DESCRIPTION:League Name: Men's 38+ 2025\nGame Type: Regular\nGame Status: C
 omplete\nHome Team: Leyendas\nAway Team: Les Bleus\nHome Score: 9\nAway Sc
 ore: 14
END:VEVENT
END:VCALENDAR
