BEGIN:VCALENDAR
VERSION:2.0
PRODID:-//EZFacility.com, Inc.//EZL 2.5.5.28621
BEGIN:VEVENT
UID:16247663@ezleagues.ezfacility.com
DTSTAMP:20260424T043137Z
CREATED:20260424T043137Z
DTSTART:20250223T220000Z
DTEND:20250223T230000Z
LOCATION:Field 1
CONTACT:
SUMMARY:SAUCILLO VS. Milan
DESCRIPTION:League Name: COED REC\nGame Type: Regular\nGame Status: Complet
 e\nHome Team: SAUCILLO\nAway Team: Milan\nHome Score: 5\nAway Score: 0
END:VEVENT
BEGIN:VEVENT
UID:16247678@ezleagues.ezfacility.com
DTSTAMP:20260424T043137Z
CREATED:20260424T043137Z
DTSTART:20250302T230000Z
DTEND:20250303T000000Z
LOCATION:Field 2
CONTACT:
SUMMARY:Milan VS. CDL
DESCRIPTION:League Name: COED REC\nGame Type: Regular\nGame Status: Complet
 e\nHome Team: Milan\nAway Team: CDL\nHome Score: 2\nAway Score: 2
END:VEVENT
BEGIN:VEVENT
UID:16247703@ezleagues.ezfacility.com
DTSTAMP:20260424T043137Z
CREATED:20260424T043137Z
DTSTART:20250310T020000Z
DTEND:20250310T030000Z
LOCATION:Field 1
CONTACT:
SUMMARY:MORELIA VS. Milan
DESCRIPTION:League Name: COED REC\nGame Type: Regular\nGame Status: Complet
 e\nHome Team: MORELIA\nAway Team: Milan\nHome Score: 8\nAway Score: 5
END:VEVENT
BEGIN:VEVENT
UID:16247728@ezleagues.ezfacility.com
DTSTAMP:20260424T043137Z
CREATED:20260424T043137Z
DTSTART:20250317T010000Z
DTEND:20250317T020000Z
LOCATION:Field 2
CONTACT:
SUMMARY:ATLETICO CATAN VS. Milan
DESCRIPTION:League Name: COED REC\nGame Type: Regular\nGame Status: Complet
 e\nHome Team: ATLETICO CATAN\nAway Team: Milan\nHome Score: 3\nAway Score:
  5
END:VEVENT
BEGIN:VEVENT
UID:16247759@ezleagues.ezfacility.com
DTSTAMP:20260424T043137Z
CREATED:20260424T043137Z
DTSTART:20250324T000000Z
DTEND:20250324T010000Z
LOCATION:Field 1
CONTACT:
SUMMARY:CDL Jrs. VS. Milan
DESCRIPTION:League Name: COED REC\nGame Type: Regular\nGame Status: Complet
 e\nHome Team: CDL Jrs.\nAway Team: Milan\nHome Score: 5\nAway Score: 5
END:VEVENT
BEGIN:VEVENT
UID:16247793@ezleagues.ezfacility.com
DTSTAMP:20260424T043137Z
CREATED:20260424T043137Z
DTSTART:20250331T000000Z
DTEND:20250331T010000Z
LOCATION:Field 1
CONTACT:
SUMMARY:Milan VS. Huskies
DESCRIPTION:League Name: COED REC\nGame Type: Regular\nGame Status: Complet
 e\nHome Team: Milan\nAway Team: Huskies\nHome Score: 4\nAway Score: 6
END:VEVENT
BEGIN:VEVENT
UID:16247811@ezleagues.ezfacility.com
DTSTAMP:20260424T043137Z
CREATED:20260424T043137Z
DTSTART:20250406T220000Z
DTEND:20250406T230000Z
LOCATION:Field 2
CONTACT:
SUMMARY:Milan VS. Chato FC
DESCRIPTION:League Name: COED REC\nGame Type: Regular\nGame Status: Complet
 e\nHome Team: Milan\nAway Team: Chato FC\nHome Score: 6\nAway Score: 10
END:VEVENT
BEGIN:VEVENT
UID:16247818@ezleagues.ezfacility.com
DTSTAMP:20260424T043137Z
CREATED:20260424T043137Z
DTSTART:20250414T000000Z
DTEND:20250414T010000Z
LOCATION:Field 2
CONTACT:
SUMMARY:Milan VS. Unatletico De Madrid
DESCRIPTION:League Name: COED REC\nGame Type: Regular\nGame Status: Complet
 e\nHome Team: Milan\nAway Team: Unatletico De Madrid\nHome Score: 7\nAway 
 Score: 5
END:VEVENT
END:VCALENDAR
