BEGIN:VCALENDAR
VERSION:2.0
PRODID:-//EZFacility.com, Inc.//EZL 2.5.5.28621
BEGIN:VEVENT
UID:16247665@ezleagues.ezfacility.com
DTSTAMP:20260426T034035Z
CREATED:20260426T034035Z
DTSTART:20250224T000000Z
DTEND:20250224T010000Z
LOCATION:Field 1
CONTACT:
SUMMARY:Los Ramsies VS. CDL
DESCRIPTION:League Name: COED REC\nGame Type: Regular\nGame Status: Complet
 e\nHome Team: Los Ramsies\nAway Team: CDL\nHome Score: 5\nAway Score: 2
END:VEVENT
BEGIN:VEVENT
UID:16247680@ezleagues.ezfacility.com
DTSTAMP:20260426T034035Z
CREATED:20260426T034035Z
DTSTART:20250303T010000Z
DTEND:20250303T020000Z
LOCATION:Field 2
CONTACT:
SUMMARY:Los Ramsies VS. MORELIA
DESCRIPTION:League Name: COED REC\nGame Type: Regular\nGame Status: Complet
 e\nHome Team: Los Ramsies\nAway Team: MORELIA\nHome Score: 3\nAway Score: 
 5
END:VEVENT
BEGIN:VEVENT
UID:16247717@ezleagues.ezfacility.com
DTSTAMP:20260426T034035Z
CREATED:20260426T034035Z
DTSTART:20250310T020000Z
DTEND:20250310T030000Z
LOCATION:Field 2
CONTACT:
SUMMARY:Los Ramsies VS. ATLETICO CATAN
DESCRIPTION:League Name: COED REC\nGame Type: Regular\nGame Status: Complet
 e\nHome Team: Los Ramsies\nAway Team: ATLETICO CATAN\nHome Score: 10\nAway
  Score: 0
END:VEVENT
BEGIN:VEVENT
UID:16247733@ezleagues.ezfacility.com
DTSTAMP:20260426T034035Z
CREATED:20260426T034035Z
DTSTART:20250317T010000Z
DTEND:20250317T020000Z
LOCATION:Field 1
CONTACT:
SUMMARY:CDL Jrs. VS. Los Ramsies
DESCRIPTION:League Name: COED REC\nGame Type: Regular\nGame Status: Complet
 e\nHome Team: CDL Jrs.\nAway Team: Los Ramsies\nHome Score: 1\nAway Score:
  4
END:VEVENT
BEGIN:VEVENT
UID:16247763@ezleagues.ezfacility.com
DTSTAMP:20260426T034035Z
CREATED:20260426T034035Z
DTSTART:20250324T020000Z
DTEND:20250324T030000Z
LOCATION:Field 2
CONTACT:
SUMMARY:Huskies VS. Los Ramsies
DESCRIPTION:League Name: COED REC\nGame Type: Regular\nGame Status: Complet
 e\nHome Team: Huskies\nAway Team: Los Ramsies\nHome Score: 4\nAway Score: 
 0
END:VEVENT
BEGIN:VEVENT
UID:16247789@ezleagues.ezfacility.com
DTSTAMP:20260426T034035Z
CREATED:20260426T034035Z
DTSTART:20250331T030000Z
DTEND:20250331T040000Z
LOCATION:Field 1
CONTACT:
SUMMARY:Chato FC VS. Los Ramsies
DESCRIPTION:League Name: COED REC\nGame Type: Regular\nGame Status: Complet
 e\nHome Team: Chato FC\nAway Team: Los Ramsies\nHome Score: 7\nAway Score:
  0
END:VEVENT
BEGIN:VEVENT
UID:16247806@ezleagues.ezfacility.com
DTSTAMP:20260426T034035Z
CREATED:20260426T034035Z
DTSTART:20250407T020000Z
DTEND:20250407T030000Z
LOCATION:Field 1
CONTACT:
SUMMARY:Unatletico De Madrid VS. Los Ramsies
DESCRIPTION:League Name: COED REC\nGame Type: Regular\nGame Status: Complet
 e\nHome Team: Unatletico De Madrid\nAway Team: Los Ramsies\nHome Score: 2\
 nAway Score: 6
END:VEVENT
BEGIN:VEVENT
UID:16247817@ezleagues.ezfacility.com
DTSTAMP:20260426T034035Z
CREATED:20260426T034035Z
DTSTART:20250414T010000Z
DTEND:20250414T020000Z
LOCATION:Field 2
CONTACT:
SUMMARY:Strong 209 VS. Los Ramsies
DESCRIPTION:League Name: COED REC\nGame Type: Regular\nGame Status: Complet
 e\nHome Team: Strong 209\nAway Team: Los Ramsies\nHome Score: 2\nAway Scor
 e: 4
END:VEVENT
END:VCALENDAR
