BEGIN:VCALENDAR
VERSION:2.0
PRODID:-//EZFacility.com, Inc.//EZL 2.5.5.28621
BEGIN:VEVENT
UID:16247666@ezleagues.ezfacility.com
DTSTAMP:20260424T044139Z
CREATED:20260424T044139Z
DTSTART:20250224T010000Z
DTEND:20250224T020000Z
LOCATION:Field 1
CONTACT:
SUMMARY:Goal Diggers VS. Buzz Ballers
DESCRIPTION:League Name: COED REC\nGame Type: Regular\nGame Status: Complet
 e\nHome Team: Goal Diggers\nAway Team: Buzz Ballers\nHome Score: 1\nAway S
 core: 6
END:VEVENT
BEGIN:VEVENT
UID:16247679@ezleagues.ezfacility.com
DTSTAMP:20260424T044139Z
CREATED:20260424T044139Z
DTSTART:20250302T220000Z
DTEND:20250302T230000Z
LOCATION:Field 2
CONTACT:
SUMMARY:TSP VS. Buzz Ballers
DESCRIPTION:League Name: COED REC\nGame Type: Regular\nGame Status: Complet
 e\nHome Team: TSP\nAway Team: Buzz Ballers\nHome Score: 2\nAway Score: 7
END:VEVENT
BEGIN:VEVENT
UID:16247708@ezleagues.ezfacility.com
DTSTAMP:20260424T044139Z
CREATED:20260424T044139Z
DTSTART:20250309T220000Z
DTEND:20250309T230000Z
LOCATION:Field 2
CONTACT:
SUMMARY:Ultimo Minuto VS. Buzz Ballers
DESCRIPTION:League Name: COED REC\nGame Type: Regular\nGame Status: Complet
 e\nHome Team: Ultimo Minuto\nAway Team: Buzz Ballers\nHome Score: 0\nAway 
 Score: 5
END:VEVENT
BEGIN:VEVENT
UID:16247721@ezleagues.ezfacility.com
DTSTAMP:20260424T044139Z
CREATED:20260424T044139Z
DTSTART:20250316T220000Z
DTEND:20250316T230000Z
LOCATION:Field 2
CONTACT:
SUMMARY:SAUCILLO VS. Buzz Ballers
DESCRIPTION:League Name: COED REC\nGame Type: Regular\nGame Status: Complet
 e\nHome Team: SAUCILLO\nAway Team: Buzz Ballers\nHome Score: 7\nAway Score
 : 5
END:VEVENT
BEGIN:VEVENT
UID:16247753@ezleagues.ezfacility.com
DTSTAMP:20260424T044139Z
CREATED:20260424T044139Z
DTSTART:20250323T230000Z
DTEND:20250324T000000Z
LOCATION:Field 2
CONTACT:
SUMMARY:Buzz Ballers VS. Coo Lil Team
DESCRIPTION:League Name: COED REC\nGame Type: Regular\nGame Status: Complet
 e\nHome Team: Buzz Ballers\nAway Team: Coo Lil Team\nHome Score: 5\nAway S
 core: 0
END:VEVENT
BEGIN:VEVENT
UID:16247795@ezleagues.ezfacility.com
DTSTAMP:20260424T044139Z
CREATED:20260424T044139Z
DTSTART:20250330T220000Z
DTEND:20250330T230000Z
LOCATION:Field 1
CONTACT:
SUMMARY:Buzz Ballers VS. Econo Air
DESCRIPTION:League Name: COED REC\nGame Type: Regular\nGame Status: Complet
 e\nHome Team: Buzz Ballers\nAway Team: Econo Air\nHome Score: 4\nAway Scor
 e: 3
END:VEVENT
BEGIN:VEVENT
UID:16247809@ezleagues.ezfacility.com
DTSTAMP:20260424T044139Z
CREATED:20260424T044139Z
DTSTART:20250407T020000Z
DTEND:20250407T030000Z
LOCATION:Field 2
CONTACT:
SUMMARY:Flow State VS. Buzz Ballers
DESCRIPTION:League Name: COED REC\nGame Type: Regular\nGame Status: Complet
 e\nHome Team: Flow State\nAway Team: Buzz Ballers\nHome Score: 6\nAway Sco
 re: 1
END:VEVENT
BEGIN:VEVENT
UID:16247821@ezleagues.ezfacility.com
DTSTAMP:20260424T044139Z
CREATED:20260424T044139Z
DTSTART:20250413T230000Z
DTEND:20250414T000000Z
LOCATION:Field 2
CONTACT:
SUMMARY:Buzz Ballers VS. M.L.P. FC
DESCRIPTION:League Name: COED REC\nGame Type: Regular\nGame Status: Complet
 e\nHome Team: Buzz Ballers\nAway Team: M.L.P. FC\nHome Score: 2\nAway Scor
 e: 5
END:VEVENT
END:VCALENDAR
