BEGIN:VCALENDAR
VERSION:2.0
PRODID:-//EZFacility.com, Inc.//EZL 2.5.5.28621
BEGIN:VEVENT
UID:16247673@ezleagues.ezfacility.com
DTSTAMP:20260426T033715Z
CREATED:20260426T033715Z
DTSTART:20250224T010000Z
DTEND:20250224T020000Z
LOCATION:Field 2
CONTACT:
SUMMARY:XOLOS VS. Huskies
DESCRIPTION:League Name: COED REC\nGame Type: Regular\nGame Status: Complet
 e\nHome Team: XOLOS\nAway Team: Huskies\nHome Score: 3\nAway Score: 13
END:VEVENT
BEGIN:VEVENT
UID:16247688@ezleagues.ezfacility.com
DTSTAMP:20260426T033715Z
CREATED:20260426T033715Z
DTSTART:20250303T020000Z
DTEND:20250303T030000Z
LOCATION:Field 1
CONTACT:
SUMMARY:XOLOS VS. Chato FC
DESCRIPTION:League Name: COED REC\nGame Type: Regular\nGame Status: Complet
 e\nHome Team: XOLOS\nAway Team: Chato FC\nHome Score: 2\nAway Score: 10
END:VEVENT
BEGIN:VEVENT
UID:16247700@ezleagues.ezfacility.com
DTSTAMP:20260426T033715Z
CREATED:20260426T033715Z
DTSTART:20250310T030000Z
DTEND:20250310T040000Z
LOCATION:Field 1
CONTACT:
SUMMARY:XOLOS VS. Unatletico De Madrid
DESCRIPTION:League Name: COED REC\nGame Type: Regular\nGame Status: Complet
 e\nHome Team: XOLOS\nAway Team: Unatletico De Madrid\nHome Score: 4\nAway 
 Score: 6
END:VEVENT
BEGIN:VEVENT
UID:16247749@ezleagues.ezfacility.com
DTSTAMP:20260426T033715Z
CREATED:20260426T033715Z
DTSTART:20250317T020000Z
DTEND:20250317T030000Z
LOCATION:Field 2
CONTACT:
SUMMARY:XOLOS VS. Strong 209
DESCRIPTION:League Name: COED REC\nGame Type: Regular\nGame Status: Complet
 e\nHome Team: XOLOS\nAway Team: Strong 209\nHome Score: 2\nAway Score: 4
END:VEVENT
BEGIN:VEVENT
UID:16247777@ezleagues.ezfacility.com
DTSTAMP:20260426T033715Z
CREATED:20260426T033715Z
DTSTART:20250324T030000Z
DTEND:20250324T040000Z
LOCATION:Field 2
CONTACT:
SUMMARY:MORELIA VS. XOLOS
DESCRIPTION:League Name: COED REC\nGame Type: Regular\nGame Status: Complet
 e\nHome Team: MORELIA\nAway Team: XOLOS\nHome Score: 6\nAway Score: 5
END:VEVENT
BEGIN:VEVENT
UID:16247801@ezleagues.ezfacility.com
DTSTAMP:20260426T033715Z
CREATED:20260426T033715Z
DTSTART:20250330T230000Z
DTEND:20250331T000000Z
LOCATION:Field 2
CONTACT:
SUMMARY:Finding Nemo VS. XOLOS
DESCRIPTION:League Name: COED REC\nGame Type: Regular\nGame Status: Complet
 e\nHome Team: Finding Nemo\nAway Team: XOLOS\nHome Score: 10\nAway Score: 
 4
END:VEVENT
BEGIN:VEVENT
UID:16247814@ezleagues.ezfacility.com
DTSTAMP:20260426T033715Z
CREATED:20260426T033715Z
DTSTART:20250407T000000Z
DTEND:20250407T010000Z
LOCATION:Field 2
CONTACT:
SUMMARY:LFC VS. XOLOS
DESCRIPTION:League Name: COED REC\nGame Type: Regular\nGame Status: Complet
 e\nHome Team: LFC\nAway Team: XOLOS\nHome Score: 7\nAway Score: 2
END:VEVENT
BEGIN:VEVENT
UID:16247827@ezleagues.ezfacility.com
DTSTAMP:20260426T033715Z
CREATED:20260426T033715Z
DTSTART:20250414T010000Z
DTEND:20250414T020000Z
LOCATION:Field 1
CONTACT:
SUMMARY:Goal Diggers VS. XOLOS
DESCRIPTION:League Name: COED REC\nGame Type: Regular\nGame Status: Complet
 e\nHome Team: Goal Diggers\nAway Team: XOLOS\nHome Score: 4\nAway Score: 1
 1
END:VEVENT
END:VCALENDAR
