BEGIN:VCALENDAR
VERSION:2.0
PRODID:-//EZFacility.com, Inc.//EZL 2.5.5.28621
BEGIN:VEVENT
UID:16248088@ezleagues.ezfacility.com
DTSTAMP:20260420T053353Z
CREATED:20260420T053353Z
DTSTART:20250308T171500Z
DTEND:20250308T192500Z
LOCATION:Field 7
CONTACT:
SUMMARY:Giants VS. Mariners
DESCRIPTION:League Name: Coach Pitch March 2025\nGame Type: Regular\nGame S
 tatus: Rescheduled\nHome Team: Giants\nAway Team: Mariners\n
END:VEVENT
BEGIN:VEVENT
UID:16248092@ezleagues.ezfacility.com
DTSTAMP:20260420T053353Z
CREATED:20260420T053353Z
DTSTART:20250315T163000Z
DTEND:20250315T184000Z
LOCATION:Field 7
CONTACT:
SUMMARY:Red Sox VS. Mariners
DESCRIPTION:League Name: Coach Pitch March 2025\nGame Type: Regular\nGame S
 tatus: Pending\nHome Team: Red Sox\nAway Team: Mariners\n
END:VEVENT
BEGIN:VEVENT
UID:16248095@ezleagues.ezfacility.com
DTSTAMP:20260420T053353Z
CREATED:20260420T053353Z
DTSTART:20250322T190000Z
DTEND:20250322T211000Z
LOCATION:Field 7
CONTACT:
SUMMARY:Mariners VS. Cardinals
DESCRIPTION:League Name: Coach Pitch March 2025\nGame Type: Regular\nGame S
 tatus: Pending\nHome Team: Mariners\nAway Team: Cardinals\n
END:VEVENT
BEGIN:VEVENT
UID:16248097@ezleagues.ezfacility.com
DTSTAMP:20260420T053353Z
CREATED:20260420T053353Z
DTSTART:20250329T153000Z
DTEND:20250329T174000Z
LOCATION:Field 7
CONTACT:
SUMMARY:Nationals VS. Mariners
DESCRIPTION:League Name: Coach Pitch March 2025\nGame Type: Regular\nGame S
 tatus: Pending\nHome Team: Nationals\nAway Team: Mariners\n
END:VEVENT
BEGIN:VEVENT
UID:16248099@ezleagues.ezfacility.com
DTSTAMP:20260420T053353Z
CREATED:20260420T053353Z
DTSTART:20250405T171500Z
DTEND:20250405T192500Z
LOCATION:Field 7
CONTACT:
SUMMARY:Mariners VS. Cubs
DESCRIPTION:League Name: Coach Pitch March 2025\nGame Type: Regular\nGame S
 tatus: Pending\nHome Team: Mariners\nAway Team: Cubs\n
END:VEVENT
BEGIN:VEVENT
UID:16248103@ezleagues.ezfacility.com
DTSTAMP:20260420T053353Z
CREATED:20260420T053353Z
DTSTART:20250412T153000Z
DTEND:20250412T174000Z
LOCATION:Field 7
CONTACT:
SUMMARY:Mariners VS. Giants
DESCRIPTION:League Name: Coach Pitch March 2025\nGame Type: Regular\nGame S
 tatus: Pending\nHome Team: Mariners\nAway Team: Giants\n
END:VEVENT
BEGIN:VEVENT
UID:16248107@ezleagues.ezfacility.com
DTSTAMP:20260420T053353Z
CREATED:20260420T053353Z
DTSTART:20250419T190000Z
DTEND:20250419T211000Z
LOCATION:Field 7
CONTACT:
SUMMARY:Mariners VS. Red Sox
DESCRIPTION:League Name: Coach Pitch March 2025\nGame Type: Regular\nGame S
 tatus: Pending\nHome Team: Mariners\nAway Team: Red Sox\n
END:VEVENT
BEGIN:VEVENT
UID:16248110@ezleagues.ezfacility.com
DTSTAMP:20260420T053353Z
CREATED:20260420T053353Z
DTSTART:20250426T171500Z
DTEND:20250426T192500Z
LOCATION:Field 7
CONTACT:
SUMMARY:Cardinals VS. Mariners
DESCRIPTION:League Name: Coach Pitch March 2025\nGame Type: Regular\nGame S
 tatus: Pending\nHome Team: Cardinals\nAway Team: Mariners\n
END:VEVENT
BEGIN:VEVENT
UID:16286156@ezleagues.ezfacility.com
DTSTAMP:20260420T053353Z
CREATED:20260420T053353Z
DTSTART:20250503T171500Z
DTEND:20250503T192500Z
LOCATION:Field 7
CONTACT:
SUMMARY:Giants VS. Mariners
DESCRIPTION:League Name: Coach Pitch March 2025\nGame Type: Regular\nGame S
 tatus: Pending\nHome Team: Giants\nAway Team: Mariners\n
END:VEVENT
END:VCALENDAR
