BEGIN:VCALENDAR
VERSION:2.0
PRODID:-//EZFacility.com, Inc.//EZL 2.5.5.28621
BEGIN:VEVENT
UID:16248089@ezleagues.ezfacility.com
DTSTAMP:20260424T182718Z
CREATED:20260424T182718Z
DTSTART:20250308T190000Z
DTEND:20250308T211000Z
LOCATION:Field 7
CONTACT:
SUMMARY:Nationals VS. Red Sox
DESCRIPTION:League Name: Coach Pitch March 2025\nGame Type: Regular\nGame S
 tatus: Rescheduled\nHome Team: Nationals\nAway Team: Red Sox\n
END:VEVENT
BEGIN:VEVENT
UID:16248092@ezleagues.ezfacility.com
DTSTAMP:20260424T182718Z
CREATED:20260424T182718Z
DTSTART:20250315T163000Z
DTEND:20250315T184000Z
LOCATION:Field 7
CONTACT:
SUMMARY:Red Sox VS. Mariners
DESCRIPTION:League Name: Coach Pitch March 2025\nGame Type: Regular\nGame S
 tatus: Pending\nHome Team: Red Sox\nAway Team: Mariners\n
END:VEVENT
BEGIN:VEVENT
UID:16248094@ezleagues.ezfacility.com
DTSTAMP:20260424T182718Z
CREATED:20260424T182718Z
DTSTART:20250322T171500Z
DTEND:20250322T192500Z
LOCATION:Field 7
CONTACT:
SUMMARY:Red Sox VS. Giants
DESCRIPTION:League Name: Coach Pitch March 2025\nGame Type: Regular\nGame S
 tatus: Pending\nHome Team: Red Sox\nAway Team: Giants\n
END:VEVENT
BEGIN:VEVENT
UID:16248096@ezleagues.ezfacility.com
DTSTAMP:20260424T182718Z
CREATED:20260424T182718Z
DTSTART:20250329T171500Z
DTEND:20250329T192500Z
LOCATION:Field 7
CONTACT:
SUMMARY:Cubs VS. Red Sox
DESCRIPTION:League Name: Coach Pitch March 2025\nGame Type: Regular\nGame S
 tatus: Pending\nHome Team: Cubs\nAway Team: Red Sox\n
END:VEVENT
BEGIN:VEVENT
UID:16248100@ezleagues.ezfacility.com
DTSTAMP:20260424T182718Z
CREATED:20260424T182718Z
DTSTART:20250405T153000Z
DTEND:20250405T174000Z
LOCATION:Field 7
CONTACT:
SUMMARY:Red Sox VS. Cardinals
DESCRIPTION:League Name: Coach Pitch March 2025\nGame Type: Regular\nGame S
 tatus: Pending\nHome Team: Red Sox\nAway Team: Cardinals\n
END:VEVENT
BEGIN:VEVENT
UID:16248104@ezleagues.ezfacility.com
DTSTAMP:20260424T182718Z
CREATED:20260424T182718Z
DTSTART:20250412T190000Z
DTEND:20250412T211000Z
LOCATION:Field 7
CONTACT:
SUMMARY:Red Sox VS. Nationals
DESCRIPTION:League Name: Coach Pitch March 2025\nGame Type: Regular\nGame S
 tatus: Pending\nHome Team: Red Sox\nAway Team: Nationals\n
END:VEVENT
BEGIN:VEVENT
UID:16248107@ezleagues.ezfacility.com
DTSTAMP:20260424T182718Z
CREATED:20260424T182718Z
DTSTART:20250419T190000Z
DTEND:20250419T211000Z
LOCATION:Field 7
CONTACT:
SUMMARY:Mariners VS. Red Sox
DESCRIPTION:League Name: Coach Pitch March 2025\nGame Type: Regular\nGame S
 tatus: Pending\nHome Team: Mariners\nAway Team: Red Sox\n
END:VEVENT
BEGIN:VEVENT
UID:16248109@ezleagues.ezfacility.com
DTSTAMP:20260424T182718Z
CREATED:20260424T182718Z
DTSTART:20250426T153000Z
DTEND:20250426T174000Z
LOCATION:Field 7
CONTACT:
SUMMARY:Giants VS. Red Sox
DESCRIPTION:League Name: Coach Pitch March 2025\nGame Type: Regular\nGame S
 tatus: Pending\nHome Team: Giants\nAway Team: Red Sox\n
END:VEVENT
BEGIN:VEVENT
UID:16286157@ezleagues.ezfacility.com
DTSTAMP:20260424T182718Z
CREATED:20260424T182718Z
DTSTART:20250503T190000Z
DTEND:20250503T211000Z
LOCATION:Field 7
CONTACT:
SUMMARY:Nationals VS. Red Sox
DESCRIPTION:League Name: Coach Pitch March 2025\nGame Type: Regular\nGame S
 tatus: Pending\nHome Team: Nationals\nAway Team: Red Sox\n
END:VEVENT
END:VCALENDAR
