BEGIN:VCALENDAR
VERSION:2.0
PRODID:-//EZFacility.com, Inc.//EZL 2.5.5.28621
BEGIN:VEVENT
UID:16248122@ezleagues.ezfacility.com
DTSTAMP:20260424T044157Z
CREATED:20260424T044157Z
DTSTART:20250228T220000Z
DTEND:20250228T230000Z
LOCATION:Field 1
CONTACT:Goyzueta 
SUMMARY:FSA FC BOYS 2016 NAVY (Carlos) VS. Bristol bu9 raging bulls
DESCRIPTION:League Name: 2025 Winter 3 Indoor - Youth Boys 2016\nGame Type:
  Regular\nGame Status: Complete\nHome Team: FSA FC BOYS 2016 NAVY (Carlos)
 \nAway Team: Bristol bu9 raging bulls\nHome Score: 5\nAway Score: 2
END:VEVENT
BEGIN:VEVENT
UID:16248124@ezleagues.ezfacility.com
DTSTAMP:20260424T044157Z
CREATED:20260424T044157Z
DTSTART:20250307T220000Z
DTEND:20250307T230000Z
LOCATION:Field 1
CONTACT:Najmi-Snider
SUMMARY:Highlander - Wolves VS. FSA FC BOYS 2016 NAVY (Carlos)
DESCRIPTION:League Name: 2025 Winter 3 Indoor - Youth Boys 2016\nGame Type:
  Regular\nGame Status: Complete\nHome Team: Highlander - Wolves\nAway Team
 : FSA FC BOYS 2016 NAVY (Carlos)\nHome Score: 2\nAway Score: 5
END:VEVENT
BEGIN:VEVENT
UID:16248125@ezleagues.ezfacility.com
DTSTAMP:20260424T044157Z
CREATED:20260424T044157Z
DTSTART:20250321T210000Z
DTEND:20250321T220000Z
LOCATION:Field 1
CONTACT:Nardi
SUMMARY:Cromwell Heat VS. FSA FC BOYS 2016 NAVY (Carlos)
DESCRIPTION:League Name: 2025 Winter 3 Indoor - Youth Boys 2016\nGame Type:
  Regular\nGame Status: Complete\nHome Team: Cromwell Heat\nAway Team: FSA 
 FC BOYS 2016 NAVY (Carlos)\nHome Score: 1\nAway Score: 6
END:VEVENT
BEGIN:VEVENT
UID:16248126@ezleagues.ezfacility.com
DTSTAMP:20260424T044157Z
CREATED:20260424T044157Z
DTSTART:20250328T210000Z
DTEND:20250328T220000Z
LOCATION:Field 1
CONTACT:Williams
SUMMARY:FSA FC BOYS 2016 NAVY (Carlos) VS. West Hartford BU09 Blue
DESCRIPTION:League Name: 2025 Winter 3 Indoor - Youth Boys 2016\nGame Type:
  Regular\nGame Status: Complete\nHome Team: FSA FC BOYS 2016 NAVY (Carlos)
 \nAway Team: West Hartford BU09 Blue\nHome Score: 4\nAway Score: 2
END:VEVENT
BEGIN:VEVENT
UID:16248127@ezleagues.ezfacility.com
DTSTAMP:20260424T044157Z
CREATED:20260424T044157Z
DTSTART:20250404T210000Z
DTEND:20250404T220000Z
LOCATION:Field 1
CONTACT:Williams
SUMMARY:FSA FC BOYS 2016 NAVY (Carlos) VS. Farmington Fire
DESCRIPTION:League Name: 2025 Winter 3 Indoor - Youth Boys 2016\nGame Type:
  Regular\nGame Status: Complete\nHome Team: FSA FC BOYS 2016 NAVY (Carlos)
 \nAway Team: Farmington Fire\nHome Score: 1\nAway Score: 4
END:VEVENT
BEGIN:VEVENT
UID:16248128@ezleagues.ezfacility.com
DTSTAMP:20260424T044157Z
CREATED:20260424T044157Z
DTSTART:20250411T210000Z
DTEND:20250411T220000Z
LOCATION:Field 1
CONTACT:Nardi
SUMMARY:FSA FC BOYS 2016 NAVY (Carlos) VS. Connecticut Soccer Club 2016/17 
 Boys White
DESCRIPTION:League Name: 2025 Winter 3 Indoor - Youth Boys 2016\nGame Type:
  Regular\nGame Status: Complete\nHome Team: FSA FC BOYS 2016 NAVY (Carlos)
 \nAway Team: Connecticut Soccer Club 2016/17 Boys White\nHome Score: 6\nAw
 ay Score: 4
END:VEVENT
BEGIN:VEVENT
UID:16248129@ezleagues.ezfacility.com
DTSTAMP:20260424T044157Z
CREATED:20260424T044157Z
DTSTART:20250418T170000Z
DTEND:20250418T180000Z
LOCATION:Field 1
CONTACT:Cancelled
SUMMARY:FSA FC BOYS 2016 NAVY (Carlos) VS. FSA Juniors Navy (Andrew)
DESCRIPTION:League Name: 2025 Winter 3 Indoor - Youth Boys 2016\nGame Type:
  Regular\nGame Status: Pending\nHome Team: FSA FC BOYS 2016 NAVY (Carlos)\
 nAway Team: FSA Juniors Navy (Andrew)\n
END:VEVENT
END:VCALENDAR
