BEGIN:VCALENDAR
VERSION:2.0
PRODID:-//EZFacility.com, Inc.//EZL 2.5.5.28621
BEGIN:VEVENT
UID:16248157@ezleagues.ezfacility.com
DTSTAMP:20260426T033903Z
CREATED:20260426T033903Z
DTSTART:20250225T023500Z
DTEND:20250225T032500Z
LOCATION:Sand Court 1
CONTACT:
SUMMARY:BYE WEEK/NO GAME VS. The Smurfs
DESCRIPTION:League Name: Monday Sand Co-ed 6's B Spring 25\nGame Type: Regu
 lar\nGame Status: Pending\nHome Team: BYE WEEK/NO GAME\nAway Team: The Smu
 rfs\n
END:VEVENT
BEGIN:VEVENT
UID:16248163@ezleagues.ezfacility.com
DTSTAMP:20260426T033903Z
CREATED:20260426T033903Z
DTSTART:20250304T023500Z
DTEND:20250304T032500Z
LOCATION:Sand Court 1
CONTACT:
SUMMARY:BYE WEEK/NO GAME VS. You Can't Set With Us
DESCRIPTION:League Name: Monday Sand Co-ed 6's B Spring 25\nGame Type: Regu
 lar\nGame Status: Pending\nHome Team: BYE WEEK/NO GAME\nAway Team: You Can
 't Set With Us\n
END:VEVENT
BEGIN:VEVENT
UID:16248169@ezleagues.ezfacility.com
DTSTAMP:20260426T033903Z
CREATED:20260426T033903Z
DTSTART:20250311T013500Z
DTEND:20250311T022500Z
LOCATION:Sand Court 1
CONTACT:
SUMMARY:BYE WEEK/NO GAME VS. Melissa's Team
DESCRIPTION:League Name: Monday Sand Co-ed 6's B Spring 25\nGame Type: Regu
 lar\nGame Status: Pending\nHome Team: BYE WEEK/NO GAME\nAway Team: Melissa
 's Team\n
END:VEVENT
BEGIN:VEVENT
UID:16248175@ezleagues.ezfacility.com
DTSTAMP:20260426T033903Z
CREATED:20260426T033903Z
DTSTART:20250318T013500Z
DTEND:20250318T022500Z
LOCATION:Sand Court 1
CONTACT:
SUMMARY:Beach Bumps VS. BYE WEEK/NO GAME
DESCRIPTION:League Name: Monday Sand Co-ed 6's B Spring 25\nGame Type: Regu
 lar\nGame Status: Pending\nHome Team: Beach Bumps\nAway Team: BYE WEEK/NO 
 GAME\n
END:VEVENT
BEGIN:VEVENT
UID:16248179@ezleagues.ezfacility.com
DTSTAMP:20260426T033903Z
CREATED:20260426T033903Z
DTSTART:20250325T013500Z
DTEND:20250325T022500Z
LOCATION:Sand Court 1
CONTACT:
SUMMARY:Heavy Netting VS. BYE WEEK/NO GAME
DESCRIPTION:League Name: Monday Sand Co-ed 6's B Spring 25\nGame Type: Regu
 lar\nGame Status: Pending\nHome Team: Heavy Netting\nAway Team: BYE WEEK/N
 O GAME\n
END:VEVENT
BEGIN:VEVENT
UID:16248183@ezleagues.ezfacility.com
DTSTAMP:20260426T033903Z
CREATED:20260426T033903Z
DTSTART:20250401T013500Z
DTEND:20250401T022500Z
LOCATION:Sand Court 1
CONTACT:
SUMMARY:Volley these Balls VS. BYE WEEK/NO GAME
DESCRIPTION:League Name: Monday Sand Co-ed 6's B Spring 25\nGame Type: Regu
 lar\nGame Status: Pending\nHome Team: Volley these Balls\nAway Team: BYE W
 EEK/NO GAME\n
END:VEVENT
BEGIN:VEVENT
UID:16248187@ezleagues.ezfacility.com
DTSTAMP:20260426T033903Z
CREATED:20260426T033903Z
DTSTART:20250408T013500Z
DTEND:20250408T022500Z
LOCATION:Sand Court 1
CONTACT:
SUMMARY:Two Bump Chumps VS. BYE WEEK/NO GAME
DESCRIPTION:League Name: Monday Sand Co-ed 6's B Spring 25\nGame Type: Regu
 lar\nGame Status: Pending\nHome Team: Two Bump Chumps\nAway Team: BYE WEEK
 /NO GAME\n
END:VEVENT
BEGIN:VEVENT
UID:16248191@ezleagues.ezfacility.com
DTSTAMP:20260426T033903Z
CREATED:20260426T033903Z
DTSTART:20250415T013500Z
DTEND:20250415T022500Z
LOCATION:Sand Court 1
CONTACT:
SUMMARY:Alpha Kenny One VS. BYE WEEK/NO GAME
DESCRIPTION:League Name: Monday Sand Co-ed 6's B Spring 25\nGame Type: Regu
 lar\nGame Status: Pending\nHome Team: Alpha Kenny One\nAway Team: BYE WEEK
 /NO GAME\n
END:VEVENT
BEGIN:VEVENT
UID:16248197@ezleagues.ezfacility.com
DTSTAMP:20260426T033903Z
CREATED:20260426T033903Z
DTSTART:20250422T013500Z
DTEND:20250422T022500Z
LOCATION:Sand Court 1
CONTACT:
SUMMARY:BYE WEEK/NO GAME VS. One Set To Rule Them All
DESCRIPTION:League Name: Monday Sand Co-ed 6's B Spring 25\nGame Type: Regu
 lar\nGame Status: Pending\nHome Team: BYE WEEK/NO GAME\nAway Team: One Set
  To Rule Them All\n
END:VEVENT
END:VCALENDAR
