BEGIN:VCALENDAR
VERSION:2.0
PRODID:-//EZFacility.com, Inc.//EZL 2.5.5.28621
BEGIN:VEVENT
UID:16254021@ezleagues.ezfacility.com
DTSTAMP:20260426T033845Z
CREATED:20260426T033845Z
DTSTART:20250305T011500Z
DTEND:20250305T021500Z
LOCATION:Field 2
CONTACT:
SUMMARY:My Brothers VS. PLB's
DESCRIPTION:League Name: 2025 S2 Tues Men's E- Mar 4\nGame Type: Regular\nG
 ame Status: Complete\nHome Team: My Brothers\nAway Team: PLB's\nHome Score
 : 16\nAway Score: 22
END:VEVENT
BEGIN:VEVENT
UID:16254022@ezleagues.ezfacility.com
DTSTAMP:20260426T033845Z
CREATED:20260426T033845Z
DTSTART:20250305T021500Z
DTEND:20250305T031500Z
LOCATION:Field 2
CONTACT:
SUMMARY:PLB's VS. My Brothers
DESCRIPTION:League Name: 2025 S2 Tues Men's E- Mar 4\nGame Type: Regular\nG
 ame Status: Complete\nHome Team: PLB's\nAway Team: My Brothers\nHome Score
 : 12\nAway Score: 11
END:VEVENT
BEGIN:VEVENT
UID:16254037@ezleagues.ezfacility.com
DTSTAMP:20260426T033845Z
CREATED:20260426T033845Z
DTSTART:20250312T011500Z
DTEND:20250312T021500Z
LOCATION:Field 3
CONTACT:
SUMMARY:LRM Brainstorming VS. My Brothers
DESCRIPTION:League Name: 2025 S2 Tues Men's E- Mar 4\nGame Type: Regular\nG
 ame Status: Complete\nHome Team: LRM Brainstorming\nAway Team: My Brothers
 \nHome Score: 0\nAway Score: 7
END:VEVENT
BEGIN:VEVENT
UID:16254038@ezleagues.ezfacility.com
DTSTAMP:20260426T033845Z
CREATED:20260426T033845Z
DTSTART:20250312T021500Z
DTEND:20250312T031500Z
LOCATION:Field 3
CONTACT:
SUMMARY:My Brothers VS. LRM Brainstorming
DESCRIPTION:League Name: 2025 S2 Tues Men's E- Mar 4\nGame Type: Regular\nG
 ame Status: Complete\nHome Team: My Brothers\nAway Team: LRM Brainstorming
 \nHome Score: 7\nAway Score: 0
END:VEVENT
BEGIN:VEVENT
UID:16254051@ezleagues.ezfacility.com
DTSTAMP:20260426T033845Z
CREATED:20260426T033845Z
DTSTART:20250319T011500Z
DTEND:20250319T021500Z
LOCATION:Field 1
CONTACT:
SUMMARY:Full Send VS. My Brothers
DESCRIPTION:League Name: 2025 S2 Tues Men's E- Mar 4\nGame Type: Regular\nG
 ame Status: Complete\nHome Team: Full Send\nAway Team: My Brothers\nHome S
 core: 11\nAway Score: 10
END:VEVENT
BEGIN:VEVENT
UID:16254052@ezleagues.ezfacility.com
DTSTAMP:20260426T033845Z
CREATED:20260426T033845Z
DTSTART:20250319T021500Z
DTEND:20250319T031500Z
LOCATION:Field 1
CONTACT:
SUMMARY:My Brothers VS. Full Send
DESCRIPTION:League Name: 2025 S2 Tues Men's E- Mar 4\nGame Type: Regular\nG
 ame Status: Complete\nHome Team: My Brothers\nAway Team: Full Send\nHome S
 core: 14\nAway Score: 17
END:VEVENT
BEGIN:VEVENT
UID:16254067@ezleagues.ezfacility.com
DTSTAMP:20260426T033845Z
CREATED:20260426T033845Z
DTSTART:20250326T011500Z
DTEND:20250326T021500Z
LOCATION:Field 4
CONTACT:
SUMMARY:Sons of Pitches VS. My Brothers
DESCRIPTION:League Name: 2025 S2 Tues Men's E- Mar 4\nGame Type: Regular\nG
 ame Status: Complete\nHome Team: Sons of Pitches\nAway Team: My Brothers\n
 Home Score: 24\nAway Score: 14
END:VEVENT
BEGIN:VEVENT
UID:16254068@ezleagues.ezfacility.com
DTSTAMP:20260426T033845Z
CREATED:20260426T033845Z
DTSTART:20250326T021500Z
DTEND:20250326T031500Z
LOCATION:Field 4
CONTACT:
SUMMARY:My Brothers VS. Sons of Pitches
DESCRIPTION:League Name: 2025 S2 Tues Men's E- Mar 4\nGame Type: Regular\nG
 ame Status: Complete\nHome Team: My Brothers\nAway Team: Sons of Pitches\n
 Home Score: 9\nAway Score: 26
END:VEVENT
BEGIN:VEVENT
UID:16254083@ezleagues.ezfacility.com
DTSTAMP:20260426T033845Z
CREATED:20260426T033845Z
DTSTART:20250402T011500Z
DTEND:20250402T021500Z
LOCATION:Field 3
CONTACT:
SUMMARY:My Brothers VS. 86ERS
DESCRIPTION:League Name: 2025 S2 Tues Men's E- Mar 4\nGame Type: Regular\nG
 ame Status: Complete\nHome Team: My Brothers\nAway Team: 86ERS\nHome Score
 : 10\nAway Score: 16
END:VEVENT
BEGIN:VEVENT
UID:16254084@ezleagues.ezfacility.com
DTSTAMP:20260426T033845Z
CREATED:20260426T033845Z
DTSTART:20250402T021500Z
DTEND:20250402T031500Z
LOCATION:Field 3
CONTACT:
SUMMARY:86ERS VS. My Brothers
DESCRIPTION:League Name: 2025 S2 Tues Men's E- Mar 4\nGame Type: Regular\nG
 ame Status: Complete\nHome Team: 86ERS\nAway Team: My Brothers\nHome Score
 : 26\nAway Score: 28
END:VEVENT
BEGIN:VEVENT
UID:16254099@ezleagues.ezfacility.com
DTSTAMP:20260426T033845Z
CREATED:20260426T033845Z
DTSTART:20250409T011500Z
DTEND:20250409T021500Z
LOCATION:Field 2
CONTACT:
SUMMARY:My Brothers VS. Dillon's
DESCRIPTION:League Name: 2025 S2 Tues Men's E- Mar 4\nGame Type: Regular\nG
 ame Status: Complete\nHome Team: My Brothers\nAway Team: Dillon's\nHome Sc
 ore: 0\nAway Score: 7
END:VEVENT
BEGIN:VEVENT
UID:16254100@ezleagues.ezfacility.com
DTSTAMP:20260426T033845Z
CREATED:20260426T033845Z
DTSTART:20250409T021500Z
DTEND:20250409T031500Z
LOCATION:Field 2
CONTACT:
SUMMARY:Dillon's VS. My Brothers
DESCRIPTION:League Name: 2025 S2 Tues Men's E- Mar 4\nGame Type: Regular\nG
 ame Status: Complete\nHome Team: Dillon's\nAway Team: My Brothers\nHome Sc
 ore: 7\nAway Score: 0
END:VEVENT
BEGIN:VEVENT
UID:16254118@ezleagues.ezfacility.com
DTSTAMP:20260426T033845Z
CREATED:20260426T033845Z
DTSTART:20250416T011500Z
DTEND:20250416T021500Z
LOCATION:Field 1
CONTACT:
SUMMARY:My Brothers VS. McGlovin
DESCRIPTION:League Name: 2025 S2 Tues Men's E- Mar 4\nGame Type: Regular\nG
 ame Status: Complete\nHome Team: My Brothers\nAway Team: McGlovin\nHome Sc
 ore: 8\nAway Score: 16
END:VEVENT
BEGIN:VEVENT
UID:16254119@ezleagues.ezfacility.com
DTSTAMP:20260426T033845Z
CREATED:20260426T033845Z
DTSTART:20250416T021500Z
DTEND:20250416T031500Z
LOCATION:Field 1
CONTACT:
SUMMARY:McGlovin VS. My Brothers
DESCRIPTION:League Name: 2025 S2 Tues Men's E- Mar 4\nGame Type: Regular\nG
 ame Status: Complete\nHome Team: McGlovin\nAway Team: My Brothers\nHome Sc
 ore: 15\nAway Score: 24
END:VEVENT
BEGIN:VEVENT
UID:16387009@ezleagues.ezfacility.com
DTSTAMP:20260426T033845Z
CREATED:20260426T033845Z
DTSTART:20250423T011500Z
DTEND:20250423T021500Z
LOCATION:Field 1
CONTACT:
SUMMARY:PLB's VS. My Brothers
DESCRIPTION:League Name: 2025 S2 Tues Men's E- Mar 4\nGame Type: Postseason
 \nGame Status: Complete\nHome Team: PLB's\nAway Team: My Brothers\nHome Sc
 ore: 7\nAway Score: 0
END:VEVENT
BEGIN:VEVENT
UID:16387010@ezleagues.ezfacility.com
DTSTAMP:20260426T033845Z
CREATED:20260426T033845Z
DTSTART:20250423T021500Z
DTEND:20250423T031500Z
LOCATION:Field 1
CONTACT:
SUMMARY:My Brothers VS. PLB's
DESCRIPTION:League Name: 2025 S2 Tues Men's E- Mar 4\nGame Type: Postseason
 \nGame Status: Complete\nHome Team: My Brothers\nAway Team: PLB's\nHome Sc
 ore: 0\nAway Score: 7
END:VEVENT
END:VCALENDAR
