BEGIN:VCALENDAR
VERSION:2.0
PRODID:-//EZFacility.com, Inc.//EZL 2.5.5.28621
BEGIN:VEVENT
UID:16251842@ezleagues.ezfacility.com
DTSTAMP:20260424T043953Z
CREATED:20260424T043953Z
DTSTART:20250206T003000Z
DTEND:20250206T012500Z
LOCATION:PFFC Field House - D
CONTACT:
SUMMARY:Top VS. Little Kickers (Maroon)
DESCRIPTION:League Name: MSL Winter 2025 - Wed/Thurs Men's Div 3\nGame Type
 : Regular\nGame Status: Complete\nHome Team: Top\nAway Team: Little Kicker
 s (Maroon)\nHome Score: 1\nAway Score: 6
END:VEVENT
BEGIN:VEVENT
UID:16251836@ezleagues.ezfacility.com
DTSTAMP:20260424T043953Z
CREATED:20260424T043953Z
DTSTART:20250214T030000Z
DTEND:20250214T035500Z
LOCATION:PFFC Field House - B
CONTACT:
SUMMARY:Joga Bonito (Black) VS. Little Kickers (Maroon)
DESCRIPTION:League Name: MSL Winter 2025 - Wed/Thurs Men's Div 3\nGame Type
 : Regular\nGame Status: Complete\nHome Team: Joga Bonito (Black)\nAway Te
 am: Little Kickers (Maroon)\nHome Score: 2\nAway Score: 4
END:VEVENT
BEGIN:VEVENT
UID:16251829@ezleagues.ezfacility.com
DTSTAMP:20260424T043953Z
CREATED:20260424T043953Z
DTSTART:20250221T035500Z
DTEND:20250221T045000Z
LOCATION:PFFC Dome - 4
CONTACT:
SUMMARY:FK Bosna Toronto (Blue) VS. Little Kickers (Maroon)
DESCRIPTION:League Name: MSL Winter 2025 - Wed/Thurs Men's Div 3\nGame Type
 : Regular\nGame Status: Complete\nHome Team: FK Bosna Toronto (Blue)\nAway
  Team: Little Kickers (Maroon)\nHome Score: 0\nAway Score: 1
END:VEVENT
BEGIN:VEVENT
UID:16251584@ezleagues.ezfacility.com
DTSTAMP:20260424T043953Z
CREATED:20260424T043953Z
DTSTART:20250227T020500Z
DTEND:20250227T030000Z
LOCATION:PFFC Dome - 4
CONTACT:
SUMMARY:Kronenbourg 64 FC  (Red/Blue Stripe) VS. Little Kickers (Maroon)
DESCRIPTION:League Name: MSL Winter 2025 - Wed/Thurs Men's Div 3\nGame Type
 : Regular\nGame Status: Complete\nHome Team: Kronenbourg 64 FC  (Red/Blue 
 Stripe)\nAway Team: Little Kickers (Maroon)\nHome Score: 4\nAway Score: 5
END:VEVENT
BEGIN:VEVENT
UID:16251607@ezleagues.ezfacility.com
DTSTAMP:20260424T043953Z
CREATED:20260424T043953Z
DTSTART:20250306T020500Z
DTEND:20250306T030000Z
LOCATION:PFFC Dome - 4
CONTACT:
SUMMARY:The Bacalhau Boys (Black/Yellow) VS. Little Kickers (Maroon)
DESCRIPTION:League Name: MSL Winter 2025 - Wed/Thurs Men's Div 3\nGame Type
 : Regular\nGame Status: Complete\nHome Team: The Bacalhau Boys (Black/Yell
 ow)\nAway Team: Little Kickers (Maroon)\nHome Score: 3\nAway Score: 6
END:VEVENT
BEGIN:VEVENT
UID:16251628@ezleagues.ezfacility.com
DTSTAMP:20260424T043953Z
CREATED:20260424T043953Z
DTSTART:20250314T005500Z
DTEND:20250314T015000Z
LOCATION:PFFC Field House - D
CONTACT:
SUMMARY:FMFC (Red) VS. Little Kickers (Maroon)
DESCRIPTION:League Name: MSL Winter 2025 - Wed/Thurs Men's Div 3\nGame Type
 : Regular\nGame Status: Complete\nHome Team: FMFC (Red)\nAway Team: Littl
 e Kickers (Maroon)\nHome Score: 5\nAway Score: 3
END:VEVENT
BEGIN:VEVENT
UID:16251652@ezleagues.ezfacility.com
DTSTAMP:20260424T043953Z
CREATED:20260424T043953Z
DTSTART:20250320T020000Z
DTEND:20250320T025500Z
LOCATION:PFFC Dome - 3
CONTACT:
SUMMARY:Little Kickers (Maroon) VS. Tilted FC (Purple)
DESCRIPTION:League Name: MSL Winter 2025 - Wed/Thurs Men's Div 3\nGame Type
 : Regular\nGame Status: Complete\nHome Team: Little Kickers (Maroon)\nAwa
 y Team: Tilted FC (Purple)\nHome Score: 3\nAway Score: 0
END:VEVENT
BEGIN:VEVENT
UID:16251676@ezleagues.ezfacility.com
DTSTAMP:20260424T043953Z
CREATED:20260424T043953Z
DTSTART:20250327T020000Z
DTEND:20250327T025500Z
LOCATION:PFFC Dome - 3
CONTACT:
SUMMARY:FK Bosna Toronto (Blue) VS. Little Kickers (Maroon)
DESCRIPTION:League Name: MSL Winter 2025 - Wed/Thurs Men's Div 3\nGame Type
 : Regular\nGame Status: Complete\nHome Team: FK Bosna Toronto (Blue)\nAway
  Team: Little Kickers (Maroon)\nHome Score: 2\nAway Score: 1
END:VEVENT
BEGIN:VEVENT
UID:16251698@ezleagues.ezfacility.com
DTSTAMP:20260424T043953Z
CREATED:20260424T043953Z
DTSTART:20250403T025500Z
DTEND:20250403T035000Z
LOCATION:PFFC Dome - 2
CONTACT:
SUMMARY:Little Kickers (Maroon) VS. Malakas FC (Red)
DESCRIPTION:League Name: MSL Winter 2025 - Wed/Thurs Men's Div 3\nGame Type
 : Regular\nGame Status: Complete\nHome Team: Little Kickers (Maroon)\nAwa
 y Team: Malakas FC (Red)\nHome Score: 1\nAway Score: 8
END:VEVENT
BEGIN:VEVENT
UID:16251719@ezleagues.ezfacility.com
DTSTAMP:20260424T043953Z
CREATED:20260424T043953Z
DTSTART:20250411T020000Z
DTEND:20250411T025500Z
LOCATION:PFFC Field House - D
CONTACT:
SUMMARY:Joga Bonito (Black) VS. Little Kickers (Maroon)
DESCRIPTION:League Name: MSL Winter 2025 - Wed/Thurs Men's Div 3\nGame Type
 : Regular\nGame Status: Complete\nHome Team: Joga Bonito (Black)\nAway Te
 am: Little Kickers (Maroon)\nHome Score: 2\nAway Score: 3
END:VEVENT
BEGIN:VEVENT
UID:16251745@ezleagues.ezfacility.com
DTSTAMP:20260424T043953Z
CREATED:20260424T043953Z
DTSTART:20250417T010500Z
DTEND:20250417T020000Z
LOCATION:PFFC Dome - 4
CONTACT:
SUMMARY:Little Kickers (Maroon) VS. Kronenbourg 64 FC  (Red/Blue Stripe)
DESCRIPTION:League Name: MSL Winter 2025 - Wed/Thurs Men's Div 3\nGame Type
 : Regular\nGame Status: Complete\nHome Team: Little Kickers (Maroon)\nAwa
 y Team: Kronenbourg 64 FC  (Red/Blue Stripe)\nHome Score: 3\nAway Score: 4
END:VEVENT
BEGIN:VEVENT
UID:16251767@ezleagues.ezfacility.com
DTSTAMP:20260424T043953Z
CREATED:20260424T043953Z
DTSTART:20250423T233000Z
DTEND:20250424T002500Z
LOCATION:PFFC Field House - D
CONTACT:
SUMMARY:Little Kickers (Maroon) VS. The Bacalhau Boys (Black/Yellow)
DESCRIPTION:League Name: MSL Winter 2025 - Wed/Thurs Men's Div 3\nGame Type
 : Regular\nGame Status: Complete\nHome Team: Little Kickers (Maroon)\nAwa
 y Team: The Bacalhau Boys (Black/Yellow)\nHome Score: 4\nAway Score: 3
END:VEVENT
BEGIN:VEVENT
UID:16251790@ezleagues.ezfacility.com
DTSTAMP:20260424T043953Z
CREATED:20260424T043953Z
DTSTART:20250502T024000Z
DTEND:20250502T033500Z
LOCATION:PFFC Field House - D
CONTACT:
SUMMARY:Little Kickers (Maroon) VS. FMFC (Red)
DESCRIPTION:League Name: MSL Winter 2025 - Wed/Thurs Men's Div 3\nGame Type
 : Regular\nGame Status: Complete\nHome Team: Little Kickers (Maroon)\nAwa
 y Team: FMFC (Red)\nHome Score: 3\nAway Score: 0
END:VEVENT
BEGIN:VEVENT
UID:16380335@ezleagues.ezfacility.com
DTSTAMP:20260424T043953Z
CREATED:20260424T043953Z
DTSTART:20250508T005500Z
DTEND:20250508T015000Z
LOCATION:PFFC Field House - C
CONTACT:
SUMMARY:Little Kickers (Maroon) VS. Tilted FC (Purple)
DESCRIPTION:League Name: MSL Winter 2025 - Wed/Thurs Men's Div 3\nGame Type
 : Postseason\nGame Status: Complete\nHome Team: Little Kickers (Maroon)\n
 Away Team: Tilted FC (Purple)\nHome Score: 2\nAway Score: 1
END:VEVENT
BEGIN:VEVENT
UID:16380338@ezleagues.ezfacility.com
DTSTAMP:20260424T043953Z
CREATED:20260424T043953Z
DTSTART:20250515T012000Z
DTEND:20250515T021500Z
LOCATION:PFFC Field House - D
CONTACT:
SUMMARY:Malakas FC (Red) VS. Little Kickers (Maroon)
DESCRIPTION:League Name: MSL Winter 2025 - Wed/Thurs Men's Div 3\nGame Type
 : Postseason\nGame Status: Complete\nHome Team: Malakas FC (Red)\nAway Te
 am: Little Kickers (Maroon)\nHome Score: 3\nAway Score: 2
END:VEVENT
END:VCALENDAR
