BEGIN:VCALENDAR
VERSION:2.0
PRODID:-//EZFacility.com, Inc.//EZL 2.5.5.28621
BEGIN:VEVENT
UID:16251853@ezleagues.ezfacility.com
DTSTAMP:20260424T044026Z
CREATED:20260424T044026Z
DTSTART:20250206T020500Z
DTEND:20250206T030000Z
LOCATION:PFFC Dome - 3
CONTACT:
SUMMARY:Tonianka VS. Bronaldhinos (Cream)
DESCRIPTION:League Name: MSL Winter 2025 - Wed/Thurs Men's Div 4\nGame Type
 : Regular\nGame Status: Complete\nHome Team: Tonianka\nAway Team: Bronaldh
 inos (Cream)\nHome Score: 4\nAway Score: 5
END:VEVENT
BEGIN:VEVENT
UID:16251854@ezleagues.ezfacility.com
DTSTAMP:20260424T044026Z
CREATED:20260424T044026Z
DTSTART:20250213T030000Z
DTEND:20250213T035500Z
LOCATION:PFFC Dome - 4
CONTACT:
SUMMARY:Bronaldhinos (Cream) VS. Tilted FC
DESCRIPTION:League Name: MSL Winter 2025 - Wed/Thurs Men's Div 4\nGame Type
 : Regular\nGame Status: Complete\nHome Team: Bronaldhinos (Cream)\nAway Te
 am: Tilted FC\nHome Score: 0\nAway Score: 3
END:VEVENT
BEGIN:VEVENT
UID:16251855@ezleagues.ezfacility.com
DTSTAMP:20260424T044026Z
CREATED:20260424T044026Z
DTSTART:20250220T031500Z
DTEND:20250220T041000Z
LOCATION:PFFC Field House - D
CONTACT:
SUMMARY:The Last Stand (Black) VS. Bronaldhinos (Cream)
DESCRIPTION:League Name: MSL Winter 2025 - Wed/Thurs Men's Div 4\nGame Type
 : Regular\nGame Status: Complete\nHome Team: The Last Stand (Black)\nAway
  Team: Bronaldhinos (Cream)\nHome Score: 1\nAway Score: 1
END:VEVENT
BEGIN:VEVENT
UID:16251577@ezleagues.ezfacility.com
DTSTAMP:20260424T044026Z
CREATED:20260424T044026Z
DTSTART:20250228T020500Z
DTEND:20250228T030000Z
LOCATION:PFFC Field House - B
CONTACT:
SUMMARY:Bronaldhinos (Cream) VS. MP United (Black)
DESCRIPTION:League Name: MSL Winter 2025 - Wed/Thurs Men's Div 4\nGame Type
 : Regular\nGame Status: Complete\nHome Team: Bronaldhinos (Cream)\nAway Te
 am: MP United (Black)\nHome Score: 1\nAway Score: 3
END:VEVENT
BEGIN:VEVENT
UID:16251600@ezleagues.ezfacility.com
DTSTAMP:20260424T044026Z
CREATED:20260424T044026Z
DTSTART:20250307T035500Z
DTEND:20250307T045000Z
LOCATION:PFFC Field House - B
CONTACT:
SUMMARY:Top (Green) VS. Bronaldhinos (Cream)
DESCRIPTION:League Name: MSL Winter 2025 - Wed/Thurs Men's Div 4\nGame Type
 : Regular\nGame Status: Complete\nHome Team: Top (Green)\nAway Team: Bron
 aldhinos (Cream)\nHome Score: 6\nAway Score: 1
END:VEVENT
BEGIN:VEVENT
UID:16251623@ezleagues.ezfacility.com
DTSTAMP:20260424T044026Z
CREATED:20260424T044026Z
DTSTART:20250314T005500Z
DTEND:20250314T015000Z
LOCATION:PFFC Field House - A
CONTACT:
SUMMARY:Balotelli Tubies FC (Blue) VS. Bronaldhinos (Cream)
DESCRIPTION:League Name: MSL Winter 2025 - Wed/Thurs Men's Div 4\nGame Type
 : Regular\nGame Status: Complete\nHome Team: Balotelli Tubies FC (Blue)\n
 Away Team: Bronaldhinos (Cream)\nHome Score: 1\nAway Score: 9
END:VEVENT
BEGIN:VEVENT
UID:16251647@ezleagues.ezfacility.com
DTSTAMP:20260424T044026Z
CREATED:20260424T044026Z
DTSTART:20250321T010500Z
DTEND:20250321T020000Z
LOCATION:PFFC Dome - 4
CONTACT:
SUMMARY:Bronaldhinos (Cream) VS. goeasy SCFC (Black)
DESCRIPTION:League Name: MSL Winter 2025 - Wed/Thurs Men's Div 4\nGame Type
 : Regular\nGame Status: Complete\nHome Team: Bronaldhinos (Cream)\nAway Te
 am: goeasy SCFC (Black)\nHome Score: 4\nAway Score: 2
END:VEVENT
BEGIN:VEVENT
UID:16251670@ezleagues.ezfacility.com
DTSTAMP:20260424T044026Z
CREATED:20260424T044026Z
DTSTART:20250328T010500Z
DTEND:20250328T020000Z
LOCATION:PFFC Field House - B
CONTACT:
SUMMARY:Bronaldhinos (Cream) VS. Legends FC (Black)
DESCRIPTION:League Name: MSL Winter 2025 - Wed/Thurs Men's Div 4\nGame Type
 : Regular\nGame Status: Complete\nHome Team: Bronaldhinos (Cream)\nAway Te
 am: Legends FC (Black)\nHome Score: 2\nAway Score: 3
END:VEVENT
BEGIN:VEVENT
UID:16251693@ezleagues.ezfacility.com
DTSTAMP:20260424T044026Z
CREATED:20260424T044026Z
DTSTART:20250404T025500Z
DTEND:20250404T035000Z
LOCATION:PFFC Dome - 4
CONTACT:
SUMMARY:NK Norval (White) VS. Bronaldhinos (Cream)
DESCRIPTION:League Name: MSL Winter 2025 - Wed/Thurs Men's Div 4\nGame Type
 : Regular\nGame Status: Complete\nHome Team: NK Norval (White)\nAway Team:
  Bronaldhinos (Cream)\nHome Score: 7\nAway Score: 5
END:VEVENT
BEGIN:VEVENT
UID:16251715@ezleagues.ezfacility.com
DTSTAMP:20260424T044026Z
CREATED:20260424T044026Z
DTSTART:20250411T010500Z
DTEND:20250411T020000Z
LOCATION:PFFC Field House - D
CONTACT:
SUMMARY:The Last Stand (Black) VS. Bronaldhinos (Cream)
DESCRIPTION:League Name: MSL Winter 2025 - Wed/Thurs Men's Div 4\nGame Type
 : Regular\nGame Status: Complete\nHome Team: The Last Stand (Black)\nAway
  Team: Bronaldhinos (Cream)\nHome Score: 1\nAway Score: 3
END:VEVENT
BEGIN:VEVENT
UID:16251738@ezleagues.ezfacility.com
DTSTAMP:20260424T044026Z
CREATED:20260424T044026Z
DTSTART:20250418T012500Z
DTEND:20250418T022000Z
LOCATION:PFFC Field House - B
CONTACT:
SUMMARY:MP United (Black) VS. Bronaldhinos (Cream)
DESCRIPTION:League Name: MSL Winter 2025 - Wed/Thurs Men's Div 4\nGame Type
 : Regular\nGame Status: Complete\nHome Team: MP United (Black)\nAway Team
 : Bronaldhinos (Cream)\nHome Score: 5\nAway Score: 2
END:VEVENT
BEGIN:VEVENT
UID:16251761@ezleagues.ezfacility.com
DTSTAMP:20260424T044026Z
CREATED:20260424T044026Z
DTSTART:20250425T000000Z
DTEND:20250425T005500Z
LOCATION:PFFC Field House - D
CONTACT:
SUMMARY:Bronaldhinos (Cream) VS. Top (Green)
DESCRIPTION:League Name: MSL Winter 2025 - Wed/Thurs Men's Div 4\nGame Type
 : Regular\nGame Status: Complete\nHome Team: Bronaldhinos (Cream)\nAway Te
 am: Top (Green)\nHome Score: 3\nAway Score: 7
END:VEVENT
BEGIN:VEVENT
UID:16251784@ezleagues.ezfacility.com
DTSTAMP:20260424T044026Z
CREATED:20260424T044026Z
DTSTART:20250502T024000Z
DTEND:20250502T033500Z
LOCATION:PFFC Field House - B
CONTACT:
SUMMARY:Bronaldhinos (Cream) VS. Balotelli Tubies FC (Blue)
DESCRIPTION:League Name: MSL Winter 2025 - Wed/Thurs Men's Div 4\nGame Type
 : Regular\nGame Status: Complete\nHome Team: Bronaldhinos (Cream)\nAway Te
 am: Balotelli Tubies FC (Blue)\nHome Score: 7\nAway Score: 1
END:VEVENT
BEGIN:VEVENT
UID:16380329@ezleagues.ezfacility.com
DTSTAMP:20260424T044026Z
CREATED:20260424T044026Z
DTSTART:20250508T024000Z
DTEND:20250508T033500Z
LOCATION:PFFC Field House - D
CONTACT:
SUMMARY:Legends FC (Black) VS. Bronaldhinos (Cream)
DESCRIPTION:League Name: MSL Winter 2025 - Wed/Thurs Men's Div 4\nGame Type
 : Postseason\nGame Status: Complete\nHome Team: Legends FC (Black)\nAway T
 eam: Bronaldhinos (Cream)\nHome Score: 7\nAway Score: 2
END:VEVENT
END:VCALENDAR
