BEGIN:VCALENDAR
VERSION:2.0
PRODID:-//EZFacility.com, Inc.//EZL 2.5.5.28621
BEGIN:VEVENT
UID:16251864@ezleagues.ezfacility.com
DTSTAMP:20260424T043936Z
CREATED:20260424T043936Z
DTSTART:20250206T020500Z
DTEND:20250206T030000Z
LOCATION:PFFC Dome - 4
CONTACT:
SUMMARY:Tilted FC VS. MP United (Black)
DESCRIPTION:League Name: MSL Winter 2025 - Wed/Thurs Men's Div 4\nGame Type
 : Regular\nGame Status: Complete\nHome Team: Tilted FC\nAway Team: MP Unit
 ed (Black)\nHome Score: 3\nAway Score: 2
END:VEVENT
BEGIN:VEVENT
UID:16251865@ezleagues.ezfacility.com
DTSTAMP:20260424T043936Z
CREATED:20260424T043936Z
DTSTART:20250213T012500Z
DTEND:20250213T022000Z
LOCATION:PFFC Field House - D
CONTACT:
SUMMARY:Do Better United VS. MP United (Black)
DESCRIPTION:League Name: MSL Winter 2025 - Wed/Thurs Men's Div 4\nGame Type
 : Regular\nGame Status: Complete\nHome Team: Do Better United\nAway Team: 
 MP United (Black)\nHome Score: 3\nAway Score: 9
END:VEVENT
BEGIN:VEVENT
UID:16251866@ezleagues.ezfacility.com
DTSTAMP:20260424T043936Z
CREATED:20260424T043936Z
DTSTART:20250221T035500Z
DTEND:20250221T045000Z
LOCATION:PFFC Field House - B
CONTACT:
SUMMARY:MP United (Black) VS. Joga Bonito
DESCRIPTION:League Name: MSL Winter 2025 - Wed/Thurs Men's Div 4\nGame Type
 : Regular\nGame Status: Complete\nHome Team: MP United (Black)\nAway Team
 : Joga Bonito\nHome Score: 0\nAway Score: 4
END:VEVENT
BEGIN:VEVENT
UID:16251577@ezleagues.ezfacility.com
DTSTAMP:20260424T043936Z
CREATED:20260424T043936Z
DTSTART:20250228T020500Z
DTEND:20250228T030000Z
LOCATION:PFFC Field House - B
CONTACT:
SUMMARY:Bronaldhinos (Cream) VS. MP United (Black)
DESCRIPTION:League Name: MSL Winter 2025 - Wed/Thurs Men's Div 4\nGame Type
 : Regular\nGame Status: Complete\nHome Team: Bronaldhinos (Cream)\nAway Te
 am: MP United (Black)\nHome Score: 1\nAway Score: 3
END:VEVENT
BEGIN:VEVENT
UID:16251603@ezleagues.ezfacility.com
DTSTAMP:20260424T043936Z
CREATED:20260424T043936Z
DTSTART:20250306T030000Z
DTEND:20250306T035500Z
LOCATION:PFFC Dome - 2
CONTACT:
SUMMARY:Balotelli Tubies FC (Blue) VS. MP United (Black)
DESCRIPTION:League Name: MSL Winter 2025 - Wed/Thurs Men's Div 4\nGame Type
 : Regular\nGame Status: Complete\nHome Team: Balotelli Tubies FC (Blue)\n
 Away Team: MP United (Black)\nHome Score: 2\nAway Score: 9
END:VEVENT
BEGIN:VEVENT
UID:16251626@ezleagues.ezfacility.com
DTSTAMP:20260424T043936Z
CREATED:20260424T043936Z
DTSTART:20250313T015000Z
DTEND:20250313T024500Z
LOCATION:PFFC Field House - D
CONTACT:
SUMMARY:goeasy SCFC (Black) VS. MP United (Black)
DESCRIPTION:League Name: MSL Winter 2025 - Wed/Thurs Men's Div 4\nGame Type
 : Regular\nGame Status: Complete\nHome Team: goeasy SCFC (Black)\nAway Tea
 m: MP United (Black)\nHome Score: 5\nAway Score: 6
END:VEVENT
BEGIN:VEVENT
UID:16251649@ezleagues.ezfacility.com
DTSTAMP:20260424T043936Z
CREATED:20260424T043936Z
DTSTART:20250320T025500Z
DTEND:20250320T035000Z
LOCATION:PFFC Dome - 2
CONTACT:
SUMMARY:Legends FC (Black) VS. MP United (Black)
DESCRIPTION:League Name: MSL Winter 2025 - Wed/Thurs Men's Div 4\nGame Type
 : Regular\nGame Status: Complete\nHome Team: Legends FC (Black)\nAway Team
 : MP United (Black)\nHome Score: 3\nAway Score: 0
END:VEVENT
BEGIN:VEVENT
UID:16251672@ezleagues.ezfacility.com
DTSTAMP:20260424T043936Z
CREATED:20260424T043936Z
DTSTART:20250327T010500Z
DTEND:20250327T020000Z
LOCATION:PFFC Dome - 4
CONTACT:
SUMMARY:MP United (Black) VS. NK Norval (White)
DESCRIPTION:League Name: MSL Winter 2025 - Wed/Thurs Men's Div 4\nGame Type
 : Regular\nGame Status: Complete\nHome Team: MP United (Black)\nAway Team
 : NK Norval (White)\nHome Score: 2\nAway Score: 4
END:VEVENT
BEGIN:VEVENT
UID:16251692@ezleagues.ezfacility.com
DTSTAMP:20260424T043936Z
CREATED:20260424T043936Z
DTSTART:20250404T020000Z
DTEND:20250404T025500Z
LOCATION:PFFC Dome - 4
CONTACT:
SUMMARY:The Last Stand (Black) VS. MP United (Black)
DESCRIPTION:League Name: MSL Winter 2025 - Wed/Thurs Men's Div 4\nGame Type
 : Regular\nGame Status: Complete\nHome Team: The Last Stand (Black)\nAway
  Team: MP United (Black)\nHome Score: 1\nAway Score: 2
END:VEVENT
BEGIN:VEVENT
UID:16251716@ezleagues.ezfacility.com
DTSTAMP:20260424T043936Z
CREATED:20260424T043936Z
DTSTART:20250410T020000Z
DTEND:20250410T025500Z
LOCATION:PFFC Dome - 3
CONTACT:
SUMMARY:MP United (Black) VS. Top (Green)
DESCRIPTION:League Name: MSL Winter 2025 - Wed/Thurs Men's Div 4\nGame Type
 : Regular\nGame Status: Complete\nHome Team: MP United (Black)\nAway Team
 : Top (Green)\nHome Score: 1\nAway Score: 6
END:VEVENT
BEGIN:VEVENT
UID:16251738@ezleagues.ezfacility.com
DTSTAMP:20260424T043936Z
CREATED:20260424T043936Z
DTSTART:20250418T012500Z
DTEND:20250418T022000Z
LOCATION:PFFC Field House - B
CONTACT:
SUMMARY:MP United (Black) VS. Bronaldhinos (Cream)
DESCRIPTION:League Name: MSL Winter 2025 - Wed/Thurs Men's Div 4\nGame Type
 : Regular\nGame Status: Complete\nHome Team: MP United (Black)\nAway Team
 : Bronaldhinos (Cream)\nHome Score: 5\nAway Score: 2
END:VEVENT
BEGIN:VEVENT
UID:16251764@ezleagues.ezfacility.com
DTSTAMP:20260424T043936Z
CREATED:20260424T043936Z
DTSTART:20250424T002500Z
DTEND:20250424T012000Z
LOCATION:PFFC Field House - D
CONTACT:
SUMMARY:MP United (Black) VS. Balotelli Tubies FC (Blue)
DESCRIPTION:League Name: MSL Winter 2025 - Wed/Thurs Men's Div 4\nGame Type
 : Regular\nGame Status: Complete\nHome Team: MP United (Black)\nAway Team
 : Balotelli Tubies FC (Blue)\nHome Score: 7\nAway Score: 0
END:VEVENT
BEGIN:VEVENT
UID:16251787@ezleagues.ezfacility.com
DTSTAMP:20260424T043936Z
CREATED:20260424T043936Z
DTSTART:20250501T024000Z
DTEND:20250501T033500Z
LOCATION:PFFC Field House - A
CONTACT:
SUMMARY:MP United (Black) VS. goeasy SCFC (Black)
DESCRIPTION:League Name: MSL Winter 2025 - Wed/Thurs Men's Div 4\nGame Type
 : Regular\nGame Status: Complete\nHome Team: MP United (Black)\nAway Team
 : goeasy SCFC (Black)\nHome Score: 3\nAway Score: 0
END:VEVENT
BEGIN:VEVENT
UID:16380279@ezleagues.ezfacility.com
DTSTAMP:20260424T043936Z
CREATED:20260424T043936Z
DTSTART:20250508T015000Z
DTEND:20250508T024500Z
LOCATION:PFFC Field House - B
CONTACT:
SUMMARY:MP United (Black) VS. goeasy SCFC (Black)
DESCRIPTION:League Name: MSL Winter 2025 - Wed/Thurs Men's Div 4\nGame Type
 : Postseason\nGame Status: Complete\nHome Team: MP United (Black)\nAway T
 eam: goeasy SCFC (Black)\nHome Score: 4\nAway Score: 5
END:VEVENT
END:VCALENDAR
