BEGIN:VCALENDAR
VERSION:2.0
PRODID:-//EZFacility.com, Inc.//EZL 2.5.5.28621
BEGIN:VEVENT
UID:16257674@ezleagues.ezfacility.com
DTSTAMP:20260426T033635Z
CREATED:20260426T033635Z
DTSTART:20250125T005500Z
DTEND:20250125T015000Z
LOCATION:PFFC Dome - 1
CONTACT:
SUMMARY:OBCD FC VS. Maadi FC (Blue)
DESCRIPTION:League Name: MSL Winter 2025 - Friday Men's 035 Div 6\nGame Typ
 e: Regular\nGame Status: Complete\nHome Team: OBCD FC\nAway Team: Maadi FC
  (Blue)\nHome Score: 6\nAway Score: 2
END:VEVENT
BEGIN:VEVENT
UID:16257676@ezleagues.ezfacility.com
DTSTAMP:20260426T033635Z
CREATED:20260426T033635Z
DTSTART:20250131T230500Z
DTEND:20250201T000000Z
LOCATION:PFFC Field House - C
CONTACT:
SUMMARY:Gold Spartans SC VS. Maadi FC (Blue)
DESCRIPTION:League Name: MSL Winter 2025 - Friday Men's 035 Div 6\nGame Typ
 e: Regular\nGame Status: Complete\nHome Team: Gold Spartans SC\nAway Team:
  Maadi FC (Blue)\nHome Score: 3\nAway Score: 4
END:VEVENT
BEGIN:VEVENT
UID:16257679@ezleagues.ezfacility.com
DTSTAMP:20260426T033635Z
CREATED:20260426T033635Z
DTSTART:20250208T040000Z
DTEND:20250208T045500Z
LOCATION:PFFC Dome - 4
CONTACT:
SUMMARY:Maadi FC (Blue) VS. Club Foot
DESCRIPTION:League Name: MSL Winter 2025 - Friday Men's 035 Div 6\nGame Typ
 e: Regular\nGame Status: Complete\nHome Team: Maadi FC (Blue)\nAway Team: 
 Club Foot\nHome Score: 2\nAway Score: 2
END:VEVENT
BEGIN:VEVENT
UID:16257703@ezleagues.ezfacility.com
DTSTAMP:20260426T033635Z
CREATED:20260426T033635Z
DTSTART:20250215T034000Z
DTEND:20250215T043500Z
LOCATION:PFFC Field House - D
CONTACT:
SUMMARY:Legion FC VS. Maadi FC (Blue)
DESCRIPTION:League Name: MSL Winter 2025 - Friday Men's 035 Div 6\nGame Typ
 e: Regular\nGame Status: Complete\nHome Team: Legion FC\nAway Team: Maadi 
 FC (Blue)\nHome Score: 5\nAway Score: 2
END:VEVENT
BEGIN:VEVENT
UID:16257714@ezleagues.ezfacility.com
DTSTAMP:20260426T033635Z
CREATED:20260426T033635Z
DTSTART:20250221T230500Z
DTEND:20250222T000000Z
LOCATION:PFFC Field House - A
CONTACT:
SUMMARY:Maadi FC (Blue) VS. Regulators
DESCRIPTION:League Name: MSL Winter 2025 - Friday Men's 035 Div 6\nGame Typ
 e: Regular\nGame Status: Complete\nHome Team: Maadi FC (Blue)\nAway Team: 
 Regulators\nHome Score: 1\nAway Score: 4
END:VEVENT
BEGIN:VEVENT
UID:16257889@ezleagues.ezfacility.com
DTSTAMP:20260426T033635Z
CREATED:20260426T033635Z
DTSTART:20250301T024500Z
DTEND:20250301T034000Z
LOCATION:PFFC Dome - 2
CONTACT:
SUMMARY:Maadi FC (Blue) VS. Strikers FC (Orange)
DESCRIPTION:League Name: MSL Winter 2025 - Friday Men's 035 Div 6\nGame Typ
 e: Regular\nGame Status: Complete\nHome Team: Maadi FC (Blue)\nAway Team: 
 Strikers FC (Orange)\nHome Score: 8\nAway Score: 3
END:VEVENT
BEGIN:VEVENT
UID:16257925@ezleagues.ezfacility.com
DTSTAMP:20260426T033635Z
CREATED:20260426T033635Z
DTSTART:20250307T230500Z
DTEND:20250308T000000Z
LOCATION:PFFC Field House - C
CONTACT:
SUMMARY:Maadi FC (Blue) VS. Triply by Pass (Dark Blue)
DESCRIPTION:League Name: MSL Winter 2025 - Friday Men's 035 Div 6\nGame Typ
 e: Regular\nGame Status: Complete\nHome Team: Maadi FC (Blue)\nAway Team: 
 Triply by Pass (Dark Blue)\nHome Score: 4\nAway Score: 3
END:VEVENT
BEGIN:VEVENT
UID:16257961@ezleagues.ezfacility.com
DTSTAMP:20260426T033635Z
CREATED:20260426T033635Z
DTSTART:20250314T230000Z
DTEND:20250314T235500Z
LOCATION:PFFC Dome - 1
CONTACT:
SUMMARY:Maadi FC (Blue) VS. Desperados FC (White)
DESCRIPTION:League Name: MSL Winter 2025 - Friday Men's 035 Div 6\nGame Typ
 e: Regular\nGame Status: Complete\nHome Team: Maadi FC (Blue)\nAway Team: 
 Desperados FC (White)\nHome Score: 5\nAway Score: 2
END:VEVENT
BEGIN:VEVENT
UID:16257998@ezleagues.ezfacility.com
DTSTAMP:20260426T033635Z
CREATED:20260426T033635Z
DTSTART:20250321T230000Z
DTEND:20250321T235500Z
LOCATION:PFFC Field House - D
CONTACT:
SUMMARY:Maadi FC (Blue) VS. BEERCELONA (Green)
DESCRIPTION:League Name: MSL Winter 2025 - Friday Men's 035 Div 6\nGame Typ
 e: Regular\nGame Status: Complete\nHome Team: Maadi FC (Blue)\nAway Team: 
 BEERCELONA (Green)\nHome Score: 0\nAway Score: 5
END:VEVENT
BEGIN:VEVENT
UID:16258033@ezleagues.ezfacility.com
DTSTAMP:20260426T033635Z
CREATED:20260426T033635Z
DTSTART:20250329T014500Z
DTEND:20250329T024000Z
LOCATION:PFFC Field House - D
CONTACT:
SUMMARY:United (Black) VS. Maadi FC (Blue)
DESCRIPTION:League Name: MSL Winter 2025 - Friday Men's 035 Div 6\nGame Typ
 e: Regular\nGame Status: Complete\nHome Team: United (Black)\nAway Team: M
 aadi FC (Blue)\nHome Score: 6\nAway Score: 4
END:VEVENT
BEGIN:VEVENT
UID:16258068@ezleagues.ezfacility.com
DTSTAMP:20260426T033635Z
CREATED:20260426T033635Z
DTSTART:20250404T235500Z
DTEND:20250405T005000Z
LOCATION:PFFC Dome - 2
CONTACT:
SUMMARY:Maadi FC (Blue) VS. Legends FC (Light Blue)
DESCRIPTION:League Name: MSL Winter 2025 - Friday Men's 035 Div 6\nGame Typ
 e: Regular\nGame Status: Complete\nHome Team: Maadi FC (Blue)\nAway Team: 
 Legends FC (Light Blue)\nHome Score: 5\nAway Score: 1
END:VEVENT
BEGIN:VEVENT
UID:16258103@ezleagues.ezfacility.com
DTSTAMP:20260426T033635Z
CREATED:20260426T033635Z
DTSTART:20250411T230000Z
DTEND:20250411T235500Z
LOCATION:PFFC Dome - 1
CONTACT:
SUMMARY:Sheffield Fridays AK (White) VS. Maadi FC (Blue)
DESCRIPTION:League Name: MSL Winter 2025 - Friday Men's 035 Div 6\nGame Typ
 e: Regular\nGame Status: Complete\nHome Team: Sheffield Fridays AK (White)
 \nAway Team: Maadi FC (Blue)\nHome Score: 4\nAway Score: 5
END:VEVENT
BEGIN:VEVENT
UID:16258139@ezleagues.ezfacility.com
DTSTAMP:20260426T033635Z
CREATED:20260426T033635Z
DTSTART:20250426T005000Z
DTEND:20250426T014500Z
LOCATION:PFFC Dome - 2
CONTACT:
SUMMARY:FC Trembita (Royal Blue) VS. Maadi FC (Blue)
DESCRIPTION:League Name: MSL Winter 2025 - Friday Men's 035 Div 6\nGame Typ
 e: Regular\nGame Status: Complete\nHome Team: FC Trembita (Royal Blue)\nA
 way Team: Maadi FC (Blue)\nHome Score: 3\nAway Score: 4
END:VEVENT
BEGIN:VEVENT
UID:16381605@ezleagues.ezfacility.com
DTSTAMP:20260426T033635Z
CREATED:20260426T033635Z
DTSTART:20250503T033500Z
DTEND:20250503T043000Z
LOCATION:PFFC Field House - D
CONTACT:
SUMMARY:Maadi FC (Blue) VS. Desperados FC (White)
DESCRIPTION:League Name: MSL Winter 2025 - Friday Men's 035 Div 6\nGame Typ
 e: Postseason\nGame Status: Complete\nHome Team: Maadi FC (Blue)\nAway Tea
 m: Desperados FC (White)\nHome Score: 4\nAway Score: 3
END:VEVENT
BEGIN:VEVENT
UID:16381601@ezleagues.ezfacility.com
DTSTAMP:20260426T033635Z
CREATED:20260426T033635Z
DTSTART:20250510T014500Z
DTEND:20250510T024000Z
LOCATION:PFFC Field House - A
CONTACT:
SUMMARY:BEERCELONA (Green) VS. Maadi FC (Blue)
DESCRIPTION:League Name: MSL Winter 2025 - Friday Men's 035 Div 6\nGame Typ
 e: Postseason\nGame Status: Complete\nHome Team: BEERCELONA (Green)\nAway 
 Team: Maadi FC (Blue)\nHome Score: 4\nAway Score: 0
END:VEVENT
END:VCALENDAR
