BEGIN:VCALENDAR
VERSION:2.0
PRODID:-//EZFacility.com, Inc.//EZL 2.5.5.28621
BEGIN:VEVENT
UID:16545496@ezleagues.ezfacility.com
DTSTAMP:20260424T044232Z
CREATED:20260424T044232Z
DTSTART:20250711T002500Z
DTEND:20250711T012000Z
LOCATION:Main Field
CONTACT:
SUMMARY:Real Unfit Rovers VS. Barcelona
DESCRIPTION:League Name: Mens Masters (Upper) Summer 2025\nGame Type: Regul
 ar\nGame Status: Complete\nHome Team: Real Unfit Rovers\nAway Team: Barcel
 ona\nHome Score: 1\nAway Score: 14
END:VEVENT
BEGIN:VEVENT
UID:16545501@ezleagues.ezfacility.com
DTSTAMP:20260424T044232Z
CREATED:20260424T044232Z
DTSTART:20250717T233000Z
DTEND:20250718T002500Z
LOCATION:Main Field
CONTACT:
SUMMARY:Real Unfit Rovers VS. Lobos
DESCRIPTION:League Name: Mens Masters (Upper) Summer 2025\nGame Type: Regul
 ar\nGame Status: Complete\nHome Team: Real Unfit Rovers\nAway Team: Lobos\
 nHome Score: 4\nAway Score: 10
END:VEVENT
BEGIN:VEVENT
UID:16545505@ezleagues.ezfacility.com
DTSTAMP:20260424T044232Z
CREATED:20260424T044232Z
DTSTART:20250725T012000Z
DTEND:20250725T021500Z
LOCATION:Main Field
CONTACT:
SUMMARY:Real Unfit Rovers VS. Un-Athletic de Marietta
DESCRIPTION:League Name: Mens Masters (Upper) Summer 2025\nGame Type: Regul
 ar\nGame Status: Complete\nHome Team: Real Unfit Rovers\nAway Team: Un-Ath
 letic de Marietta\nHome Score: 1\nAway Score: 6
END:VEVENT
BEGIN:VEVENT
UID:16545509@ezleagues.ezfacility.com
DTSTAMP:20260424T044232Z
CREATED:20260424T044232Z
DTSTART:20250801T021500Z
DTEND:20250801T031000Z
LOCATION:Main Field
CONTACT:
SUMMARY:Michoacan FC VS. Real Unfit Rovers
DESCRIPTION:League Name: Mens Masters (Upper) Summer 2025\nGame Type: Regul
 ar\nGame Status: Complete\nHome Team: Michoacan FC\nAway Team: Real Unfit 
 Rovers\nHome Score: 9\nAway Score: 0
END:VEVENT
BEGIN:VEVENT
UID:16545514@ezleagues.ezfacility.com
DTSTAMP:20260424T044232Z
CREATED:20260424T044232Z
DTSTART:20250807T233000Z
DTEND:20250808T002500Z
LOCATION:Main Field
CONTACT:
SUMMARY:Leon VS. Real Unfit Rovers
DESCRIPTION:League Name: Mens Masters (Upper) Summer 2025\nGame Type: Regul
 ar\nGame Status: Complete\nHome Team: Leon\nAway Team: Real Unfit Rovers\n
 Home Score: 6\nAway Score: 2
END:VEVENT
BEGIN:VEVENT
UID:16545516@ezleagues.ezfacility.com
DTSTAMP:20260424T044232Z
CREATED:20260424T044232Z
DTSTART:20250815T012000Z
DTEND:20250815T021500Z
LOCATION:Main Field
CONTACT:
SUMMARY:Real Unfit Rovers VS. Warriors
DESCRIPTION:League Name: Mens Masters (Upper) Summer 2025\nGame Type: Regul
 ar\nGame Status: Complete\nHome Team: Real Unfit Rovers\nAway Team: Warrio
 rs\nHome Score: 0\nAway Score: 4
END:VEVENT
BEGIN:VEVENT
UID:16545519@ezleagues.ezfacility.com
DTSTAMP:20260424T044232Z
CREATED:20260424T044232Z
DTSTART:20250822T021500Z
DTEND:20250822T031000Z
LOCATION:Main Field
CONTACT:
SUMMARY:Zacatecas VS. Real Unfit Rovers
DESCRIPTION:League Name: Mens Masters (Upper) Summer 2025\nGame Type: Regul
 ar\nGame Status: Complete\nHome Team: Zacatecas\nAway Team: Real Unfit Rov
 ers\nHome Score: 6\nAway Score: 1
END:VEVENT
BEGIN:VEVENT
UID:16545523@ezleagues.ezfacility.com
DTSTAMP:20260424T044232Z
CREATED:20260424T044232Z
DTSTART:20250829T012000Z
DTEND:20250829T021500Z
LOCATION:Main Field
CONTACT:
SUMMARY:Barcelona VS. Real Unfit Rovers
DESCRIPTION:League Name: Mens Masters (Upper) Summer 2025\nGame Type: Regul
 ar\nGame Status: Complete\nHome Team: Barcelona\nAway Team: Real Unfit Rov
 ers\nHome Score: 8\nAway Score: 3
END:VEVENT
END:VCALENDAR
