BEGIN:VCALENDAR
VERSION:2.0
PRODID:-//EZFacility.com, Inc.//EZL 2.5.5.28621
BEGIN:VEVENT
UID:16606495@ezleagues.ezfacility.com
DTSTAMP:20260426T035003Z
CREATED:20260426T035003Z
DTSTART:20250905T010000Z
DTEND:20250905T013000Z
LOCATION:Main Field
CONTACT:
SUMMARY:Seed 02 (Lobos) VS. Seed 07 (Un-Athletic de Marietta)
DESCRIPTION:League Name: Mens Masters (Upper) Summer 2025 Playoffs\nGame Ty
 pe: Regular\nGame Status: Complete\nHome Team: Seed 02 (Lobos)\nAway Team:
  Seed 07 (Un-Athletic de Marietta)\nHome Score: 2\nAway Score: 0
END:VEVENT
END:VCALENDAR
