BEGIN:VCALENDAR
VERSION:2.0
PRODID:-//EZFacility.com, Inc.//EZL 2.5.5.28621
BEGIN:VEVENT
UID:16266182@ezleagues.ezfacility.com
DTSTAMP:20260422T121019Z
CREATED:20260422T121019Z
DTSTART:20250302T090000Z
DTEND:20250302T094000Z
LOCATION:Court 2
CONTACT:
SUMMARY:SundayPIMPS VS. 09 Bobcats
DESCRIPTION:League Name: Basketball Sundays Socials Autumn 2025\nGame Type:
  Regular\nGame Status: Complete\nHome Team: SundayPIMPS\nAway Team: 09 Bob
 cats\nHome Score: 47\nAway Score: 29
END:VEVENT
BEGIN:VEVENT
UID:16266187@ezleagues.ezfacility.com
DTSTAMP:20260422T121019Z
CREATED:20260422T121019Z
DTSTART:20250309T094000Z
DTEND:20250309T102000Z
LOCATION:Court 2
CONTACT:
SUMMARY:Callum's team VS. 09 Bobcats
DESCRIPTION:League Name: Basketball Sundays Socials Autumn 2025\nGame Type:
  Regular\nGame Status: Complete\nHome Team: Callum's team\nAway Team: 09 B
 obcats\nHome Score: 71\nAway Score: 41
END:VEVENT
BEGIN:VEVENT
UID:16266192@ezleagues.ezfacility.com
DTSTAMP:20260422T121019Z
CREATED:20260422T121019Z
DTSTART:20250316T102000Z
DTEND:20250316T110000Z
LOCATION:Court 2
CONTACT:
SUMMARY:Warnbro Sharks VS. 09 Bobcats
DESCRIPTION:League Name: Basketball Sundays Socials Autumn 2025\nGame Type:
  Regular\nGame Status: Complete\nHome Team: Warnbro Sharks\nAway Team: 09 
 Bobcats\nHome Score: 52\nAway Score: 55
END:VEVENT
BEGIN:VEVENT
UID:16266197@ezleagues.ezfacility.com
DTSTAMP:20260422T121019Z
CREATED:20260422T121019Z
DTSTART:20250323T102000Z
DTEND:20250323T110000Z
LOCATION:Court 2
CONTACT:
SUMMARY:LeBasketball Team VS. 09 Bobcats
DESCRIPTION:League Name: Basketball Sundays Socials Autumn 2025\nGame Type:
  Regular\nGame Status: Complete\nHome Team: LeBasketball Team\nAway Team: 
 09 Bobcats\nHome Score: 69\nAway Score: 35
END:VEVENT
BEGIN:VEVENT
UID:16266201@ezleagues.ezfacility.com
DTSTAMP:20260422T121019Z
CREATED:20260422T121019Z
DTSTART:20250330T090000Z
DTEND:20250330T094000Z
LOCATION:Court 2
CONTACT:
SUMMARY:09 Bobcats VS. DTK
DESCRIPTION:League Name: Basketball Sundays Socials Autumn 2025\nGame Type:
  Regular\nGame Status: Complete\nHome Team: 09 Bobcats\nAway Team: DTK\nHo
 me Score: 45\nAway Score: 43
END:VEVENT
BEGIN:VEVENT
UID:16266204@ezleagues.ezfacility.com
DTSTAMP:20260422T121019Z
CREATED:20260422T121019Z
DTSTART:20250406T110000Z
DTEND:20250406T114000Z
LOCATION:Court 2
CONTACT:
SUMMARY:09 Bobcats VS. Old School
DESCRIPTION:League Name: Basketball Sundays Socials Autumn 2025\nGame Type:
  Regular\nGame Status: Complete\nHome Team: 09 Bobcats\nAway Team: Old Sch
 ool\nHome Score: 21\nAway Score: 54
END:VEVENT
BEGIN:VEVENT
UID:16266207@ezleagues.ezfacility.com
DTSTAMP:20260422T121019Z
CREATED:20260422T121019Z
DTSTART:20250413T094000Z
DTEND:20250413T102000Z
LOCATION:Court 2
CONTACT:
SUMMARY:09 Bobcats VS. Rim's Riders
DESCRIPTION:League Name: Basketball Sundays Socials Autumn 2025\nGame Type:
  Regular\nGame Status: Complete\nHome Team: 09 Bobcats\nAway Team: Rim's R
 iders\nHome Score: 51\nAway Score: 44
END:VEVENT
BEGIN:VEVENT
UID:16266210@ezleagues.ezfacility.com
DTSTAMP:20260422T121019Z
CREATED:20260422T121019Z
DTSTART:20250420T102000Z
DTEND:20250420T110000Z
LOCATION:Court 2
CONTACT:
SUMMARY:09 Bobcats VS. SundayPIMPS
DESCRIPTION:League Name: Basketball Sundays Socials Autumn 2025\nGame Type:
  Regular\nGame Status: Pending\nHome Team: 09 Bobcats\nAway Team: SundayPI
 MPS\n
END:VEVENT
BEGIN:VEVENT
UID:16266215@ezleagues.ezfacility.com
DTSTAMP:20260422T121019Z
CREATED:20260422T121019Z
DTSTART:20250427T110000Z
DTEND:20250427T114000Z
LOCATION:Court 2
CONTACT:
SUMMARY:09 Bobcats VS. Callum's team
DESCRIPTION:League Name: Basketball Sundays Socials Autumn 2025\nGame Type:
  Regular\nGame Status: Complete\nHome Team: 09 Bobcats\nAway Team: Callum'
 s team\nHome Score: 37\nAway Score: 43
END:VEVENT
BEGIN:VEVENT
UID:16266220@ezleagues.ezfacility.com
DTSTAMP:20260422T121019Z
CREATED:20260422T121019Z
DTSTART:20250504T110000Z
DTEND:20250504T114000Z
LOCATION:Court 2
CONTACT:
SUMMARY:09 Bobcats VS. Warnbro Sharks
DESCRIPTION:League Name: Basketball Sundays Socials Autumn 2025\nGame Type:
  Regular\nGame Status: Complete\nHome Team: 09 Bobcats\nAway Team: Warnbro
  Sharks\nHome Score: 49\nAway Score: 54
END:VEVENT
BEGIN:VEVENT
UID:16266225@ezleagues.ezfacility.com
DTSTAMP:20260422T121019Z
CREATED:20260422T121019Z
DTSTART:20250511T094000Z
DTEND:20250511T102000Z
LOCATION:Court 2
CONTACT:
SUMMARY:09 Bobcats VS. LeBasketball Team
DESCRIPTION:League Name: Basketball Sundays Socials Autumn 2025\nGame Type:
  Regular\nGame Status: Complete\nHome Team: 09 Bobcats\nAway Team: LeBaske
 tball Team\nHome Score: 31\nAway Score: 54
END:VEVENT
BEGIN:VEVENT
UID:16266229@ezleagues.ezfacility.com
DTSTAMP:20260422T121019Z
CREATED:20260422T121019Z
DTSTART:20250518T110000Z
DTEND:20250518T114000Z
LOCATION:Court 2
CONTACT:
SUMMARY:DTK VS. 09 Bobcats
DESCRIPTION:League Name: Basketball Sundays Socials Autumn 2025\nGame Type:
  Regular\nGame Status: Complete\nHome Team: DTK\nAway Team: 09 Bobcats\nHo
 me Score: 66\nAway Score: 34
END:VEVENT
BEGIN:VEVENT
UID:16266232@ezleagues.ezfacility.com
DTSTAMP:20260422T121019Z
CREATED:20260422T121019Z
DTSTART:20250525T102000Z
DTEND:20250525T110000Z
LOCATION:Court 2
CONTACT:
SUMMARY:Old School VS. 09 Bobcats
DESCRIPTION:League Name: Basketball Sundays Socials Autumn 2025\nGame Type:
  Regular\nGame Status: Complete\nHome Team: Old School\nAway Team: 09 Bobc
 ats\nHome Score: 37\nAway Score: 52
END:VEVENT
BEGIN:VEVENT
UID:16266235@ezleagues.ezfacility.com
DTSTAMP:20260422T121019Z
CREATED:20260422T121019Z
DTSTART:20250601T090000Z
DTEND:20250601T094000Z
LOCATION:Court 2
CONTACT:
SUMMARY:Rim's Riders VS. 09 Bobcats
DESCRIPTION:League Name: Basketball Sundays Socials Autumn 2025\nGame Type:
  Regular\nGame Status: Complete\nHome Team: Rim's Riders\nAway Team: 09 Bo
 bcats\nHome Score: 49\nAway Score: 56
END:VEVENT
BEGIN:VEVENT
UID:16489708@ezleagues.ezfacility.com
DTSTAMP:20260422T121019Z
CREATED:20260422T121019Z
DTSTART:20250608T110000Z
DTEND:20250608T120000Z
LOCATION:Court 2
CONTACT:
SUMMARY:09 Bobcats VS. Warnbro Sharks
DESCRIPTION:League Name: Basketball Sundays Socials Autumn 2025\nGame Type:
  Postseason\nGame Status: Complete\nHome Team: 09 Bobcats\nAway Team: Warn
 bro Sharks\nHome Score: 48\nAway Score: 49
END:VEVENT
BEGIN:VEVENT
UID:16497045@ezleagues.ezfacility.com
DTSTAMP:20260422T121019Z
CREATED:20260422T121019Z
DTSTART:20250615T090000Z
DTEND:20250615T100000Z
LOCATION:Court 2
CONTACT:
SUMMARY:Rim's Riders VS. 09 Bobcats
DESCRIPTION:League Name: Basketball Sundays Socials Autumn 2025\nGame Type:
  Postseason\nGame Status: Complete\nHome Team: Rim's Riders\nAway Team: 09
  Bobcats\nHome Score: 39\nAway Score: 69
END:VEVENT
END:VCALENDAR
