BEGIN:VCALENDAR
VERSION:2.0
PRODID:-//EZFacility.com, Inc.//EZL 2.5.5.28621
BEGIN:VEVENT
UID:16272293@ezleagues.ezfacility.com
DTSTAMP:20260424T044223Z
CREATED:20260424T044223Z
DTSTART:20250309T200000Z
DTEND:20250309T210000Z
LOCATION:Large Field 1
CONTACT:
SUMMARY:Whitesboro Warriors VS. S/E Football
DESCRIPTION:League Name: Elevate CNY Flag Football League-12U Flag Football
 \nGame Type: Regular\nGame Status: Complete\nHome Team: Whitesboro Warrior
 s\nAway Team: S/E Football\nHome Score: 33\nAway Score: 7
END:VEVENT
BEGIN:VEVENT
UID:16272294@ezleagues.ezfacility.com
DTSTAMP:20260424T044223Z
CREATED:20260424T044223Z
DTSTART:20250316T200000Z
DTEND:20250316T210000Z
LOCATION:Large Field 1
CONTACT:
SUMMARY:NH SPARTANS VS. Whitesboro Warriors
DESCRIPTION:League Name: Elevate CNY Flag Football League-12U Flag Football
 \nGame Type: Regular\nGame Status: Complete\nHome Team: NH SPARTANS\nAway 
 Team: Whitesboro Warriors\nHome Score: 24\nAway Score: 41
END:VEVENT
BEGIN:VEVENT
UID:16272297@ezleagues.ezfacility.com
DTSTAMP:20260424T044223Z
CREATED:20260424T044223Z
DTSTART:20250323T200000Z
DTEND:20250323T210000Z
LOCATION:Large Field 1
CONTACT:
SUMMARY:SAUQUOIT VS. Whitesboro Warriors
DESCRIPTION:League Name: Elevate CNY Flag Football League-12U Flag Football
 \nGame Type: Regular\nGame Status: Complete\nHome Team: SAUQUOIT\nAway Tea
 m: Whitesboro Warriors\nHome Score: 6\nAway Score: 52
END:VEVENT
BEGIN:VEVENT
UID:16272299@ezleagues.ezfacility.com
DTSTAMP:20260424T044223Z
CREATED:20260424T044223Z
DTSTART:20250330T200000Z
DTEND:20250330T210000Z
LOCATION:Large Field 1
CONTACT:
SUMMARY:S/E Football VS. Whitesboro Warriors
DESCRIPTION:League Name: Elevate CNY Flag Football League-12U Flag Football
 \nGame Type: Regular\nGame Status: Complete\nHome Team: S/E Football\nAway
  Team: Whitesboro Warriors\nHome Score: 0\nAway Score: 41
END:VEVENT
BEGIN:VEVENT
UID:16272300@ezleagues.ezfacility.com
DTSTAMP:20260424T044223Z
CREATED:20260424T044223Z
DTSTART:20250406T200000Z
DTEND:20250406T210000Z
LOCATION:Large Field 1
CONTACT:
SUMMARY:Whitesboro Warriors VS. NH SPARTANS
DESCRIPTION:League Name: Elevate CNY Flag Football League-12U Flag Football
 \nGame Type: Regular\nGame Status: Complete\nHome Team: Whitesboro Warrior
 s\nAway Team: NH SPARTANS\nHome Score: 47\nAway Score: 8
END:VEVENT
BEGIN:VEVENT
UID:16272303@ezleagues.ezfacility.com
DTSTAMP:20260424T044223Z
CREATED:20260424T044223Z
DTSTART:20250413T200000Z
DTEND:20250413T210000Z
LOCATION:Large Field 1
CONTACT:
SUMMARY:Whitesboro Warriors VS. SAUQUOIT
DESCRIPTION:League Name: Elevate CNY Flag Football League-12U Flag Football
 \nGame Type: Regular\nGame Status: Complete\nHome Team: Whitesboro Warrior
 s\nAway Team: SAUQUOIT\nHome Score: 41\nAway Score: 8
END:VEVENT
END:VCALENDAR
