BEGIN:VCALENDAR
VERSION:2.0
PRODID:-//EZFacility.com, Inc.//EZL 2.5.5.28621
BEGIN:VEVENT
UID:16272406@ezleagues.ezfacility.com
DTSTAMP:20260424T044243Z
CREATED:20260424T044243Z
DTSTART:20250330T141500Z
DTEND:20250330T163000Z
LOCATION:Millwoods B
CONTACT:
SUMMARY:Team 14 VS. Team 06
DESCRIPTION:League Name: Spring 25 *** \nGame Type: Regular\nGame Status: P
 ending\nHome Team: Team 14\nAway Team: Team 06\n
END:VEVENT
BEGIN:VEVENT
UID:16272413@ezleagues.ezfacility.com
DTSTAMP:20260424T044243Z
CREATED:20260424T044243Z
DTSTART:20250406T120000Z
DTEND:20250406T141500Z
LOCATION:Millwoods A
CONTACT:
SUMMARY:Team 10 VS. Team 14
DESCRIPTION:League Name: Spring 25 *** \nGame Type: Regular\nGame Status: P
 ending\nHome Team: Team 10\nAway Team: Team 14\n
END:VEVENT
BEGIN:VEVENT
UID:16272420@ezleagues.ezfacility.com
DTSTAMP:20260424T044243Z
CREATED:20260424T044243Z
DTSTART:20250413T120000Z
DTEND:20250413T141500Z
LOCATION:New Venue 2
CONTACT:
SUMMARY:Team 01 VS. Team 14
DESCRIPTION:League Name: Spring 25 *** \nGame Type: Regular\nGame Status: P
 ending\nHome Team: Team 01\nAway Team: Team 14\n
END:VEVENT
BEGIN:VEVENT
UID:16272439@ezleagues.ezfacility.com
DTSTAMP:20260424T044243Z
CREATED:20260424T044243Z
DTSTART:20250427T141500Z
DTEND:20250427T163000Z
LOCATION:New Venue 1
CONTACT:
SUMMARY:Team 13 VS. Team 14
DESCRIPTION:League Name: Spring 25 *** \nGame Type: Regular\nGame Status: P
 ending\nHome Team: Team 13\nAway Team: Team 14\n
END:VEVENT
BEGIN:VEVENT
UID:16272448@ezleagues.ezfacility.com
DTSTAMP:20260424T044243Z
CREATED:20260424T044243Z
DTSTART:20250504T141500Z
DTEND:20250504T163000Z
LOCATION:Millwoods A
CONTACT:
SUMMARY:Team 14 VS. Team 09
DESCRIPTION:League Name: Spring 25 *** \nGame Type: Regular\nGame Status: P
 ending\nHome Team: Team 14\nAway Team: Team 09\n
END:VEVENT
BEGIN:VEVENT
UID:16272457@ezleagues.ezfacility.com
DTSTAMP:20260424T044243Z
CREATED:20260424T044243Z
DTSTART:20250511T141500Z
DTEND:20250511T163000Z
LOCATION:Millwoods A
CONTACT:
SUMMARY:Team 05 VS. Team 14
DESCRIPTION:League Name: Spring 25 *** \nGame Type: Regular\nGame Status: P
 ending\nHome Team: Team 05\nAway Team: Team 14\n
END:VEVENT
END:VCALENDAR
