BEGIN:VCALENDAR
VERSION:2.0
PRODID:-//EZFacility.com, Inc.//EZL 2.5.5.28621
BEGIN:VEVENT
UID:16274028@ezleagues.ezfacility.com
DTSTAMP:20260422T075528Z
CREATED:20260422T075528Z
DTSTART:20250308T033000Z
DTEND:20250308T042500Z
LOCATION:Large Indoor Turf
CONTACT:Daniels
SUMMARY:EL PUERTO VS. Sporting Slugs
DESCRIPTION:League Name: Co-ed Friday Night Adult League Black- Spring\nGam
 e Type: Regular\nGame Status: Complete\nHome Team: EL PUERTO\nAway Team: S
 porting Slugs\nHome Score: 4\nAway Score: 6
END:VEVENT
BEGIN:VEVENT
UID:16274034@ezleagues.ezfacility.com
DTSTAMP:20260422T075528Z
CREATED:20260422T075528Z
DTSTART:20250322T004000Z
DTEND:20250322T013500Z
LOCATION:Large Indoor Turf
CONTACT:Gilbert
SUMMARY:Sporting Slugs VS. The Snowflakes
DESCRIPTION:League Name: Co-ed Friday Night Adult League Black- Spring\nGam
 e Type: Regular\nGame Status: Complete\nHome Team: Sporting Slugs\nAway Te
 am: The Snowflakes\nHome Score: 8\nAway Score: 5
END:VEVENT
BEGIN:VEVENT
UID:16274038@ezleagues.ezfacility.com
DTSTAMP:20260422T075528Z
CREATED:20260422T075528Z
DTSTART:20250329T023000Z
DTEND:20250329T032500Z
LOCATION:Large Indoor Turf
CONTACT:Gilbert
SUMMARY:DONKEYS VS. Sporting Slugs
DESCRIPTION:League Name: Co-ed Friday Night Adult League Black- Spring\nGam
 e Type: Regular\nGame Status: Complete\nHome Team: DONKEYS\nAway Team: Spo
 rting Slugs\nHome Score: 6\nAway Score: 4
END:VEVENT
BEGIN:VEVENT
UID:16274043@ezleagues.ezfacility.com
DTSTAMP:20260422T075528Z
CREATED:20260422T075528Z
DTSTART:20250405T023000Z
DTEND:20250405T032500Z
LOCATION:Large Indoor Turf
CONTACT:Daniels
SUMMARY:Sporting Slugs VS. EL PUERTO
DESCRIPTION:League Name: Co-ed Friday Night Adult League Black- Spring\nGam
 e Type: Regular\nGame Status: Complete\nHome Team: Sporting Slugs\nAway Te
 am: EL PUERTO\nHome Score: 19\nAway Score: 3
END:VEVENT
BEGIN:VEVENT
UID:16274049@ezleagues.ezfacility.com
DTSTAMP:20260422T075528Z
CREATED:20260422T075528Z
DTSTART:20250412T013500Z
DTEND:20250412T023000Z
LOCATION:Large Indoor Turf
CONTACT:
SUMMARY:The Snowflakes VS. Sporting Slugs
DESCRIPTION:League Name: Co-ed Friday Night Adult League Black- Spring\nGam
 e Type: Regular\nGame Status: Complete\nHome Team: The Snowflakes\nAway Te
 am: Sporting Slugs\nHome Score: 4\nAway Score: 8
END:VEVENT
BEGIN:VEVENT
UID:16274053@ezleagues.ezfacility.com
DTSTAMP:20260422T075528Z
CREATED:20260422T075528Z
DTSTART:20250419T023000Z
DTEND:20250419T032500Z
LOCATION:Large Indoor Turf
CONTACT:
SUMMARY:Sporting Slugs VS. DONKEYS
DESCRIPTION:League Name: Co-ed Friday Night Adult League Black- Spring\nGam
 e Type: Regular\nGame Status: Complete\nHome Team: Sporting Slugs\nAway Te
 am: DONKEYS\nHome Score: 3\nAway Score: 5
END:VEVENT
BEGIN:VEVENT
UID:16274058@ezleagues.ezfacility.com
DTSTAMP:20260422T075528Z
CREATED:20260422T075528Z
DTSTART:20250426T023000Z
DTEND:20250426T032500Z
LOCATION:Large Indoor Turf
CONTACT:
SUMMARY:Sporting Slugs VS. EL PUERTO
DESCRIPTION:League Name: Co-ed Friday Night Adult League Black- Spring\nGam
 e Type: Regular\nGame Status: Complete\nHome Team: Sporting Slugs\nAway Te
 am: EL PUERTO\nHome Score: 5\nAway Score: 4
END:VEVENT
BEGIN:VEVENT
UID:16274023@ezleagues.ezfacility.com
DTSTAMP:20260422T075528Z
CREATED:20260422T075528Z
DTSTART:20250503T023000Z
DTEND:20250503T032500Z
LOCATION:Large Indoor Turf
CONTACT:
SUMMARY:DONKEYS VS. Sporting Slugs
DESCRIPTION:League Name: Co-ed Friday Night Adult League Black- Spring\nGam
 e Type: Regular\nGame Status: Complete\nHome Team: DONKEYS\nAway Team: Spo
 rting Slugs\nHome Score: 2\nAway Score: 9
END:VEVENT
END:VCALENDAR
