BEGIN:VCALENDAR
VERSION:2.0
PRODID:-//EZFacility.com, Inc.//EZL 2.5.5.28621
BEGIN:VEVENT
UID:16273810@ezleagues.ezfacility.com
DTSTAMP:20260424T044336Z
CREATED:20260424T044336Z
DTSTART:20250307T033000Z
DTEND:20250307T042000Z
LOCATION:Indoor Field
CONTACT:
SUMMARY:Fuerza FC  VS. La Presita 
DESCRIPTION:League Name: Men's Open Spring 2025\nGame Type: Regular\nGame S
 tatus: Complete\nHome Team: Fuerza FC \nAway Team: La Presita \nHome Score
 : 15\nAway Score: 6
END:VEVENT
BEGIN:VEVENT
UID:16273815@ezleagues.ezfacility.com
DTSTAMP:20260424T044336Z
CREATED:20260424T044336Z
DTSTART:20250314T015000Z
DTEND:20250314T024000Z
LOCATION:Outdoor Field
CONTACT:
SUMMARY:ETX  VS. La Presita 
DESCRIPTION:League Name: Men's Open Spring 2025\nGame Type: Regular\nGame S
 tatus: Complete\nHome Team: ETX \nAway Team: La Presita \nHome Score: 9\nA
 way Score: 7
END:VEVENT
BEGIN:VEVENT
UID:16273820@ezleagues.ezfacility.com
DTSTAMP:20260424T044336Z
CREATED:20260424T044336Z
DTSTART:20250321T015000Z
DTEND:20250321T024000Z
LOCATION:Outdoor Field
CONTACT:
SUMMARY:CF Scorpions VS. La Presita 
DESCRIPTION:League Name: Men's Open Spring 2025\nGame Type: Regular\nGame S
 tatus: Complete\nHome Team: CF Scorpions\nAway Team: La Presita \nHome Sco
 re: 14\nAway Score: 8
END:VEVENT
BEGIN:VEVENT
UID:16273827@ezleagues.ezfacility.com
DTSTAMP:20260424T044336Z
CREATED:20260424T044336Z
DTSTART:20250402T000000Z
DTEND:20250402T005000Z
LOCATION:Outdoor Field
CONTACT:
SUMMARY:La Presita  VS. Panthers
DESCRIPTION:League Name: Men's Open Spring 2025\nGame Type: Regular\nGame S
 tatus: Complete\nHome Team: La Presita \nAway Team: Panthers\nHome Score: 
 14\nAway Score: 4
END:VEVENT
BEGIN:VEVENT
UID:16273834@ezleagues.ezfacility.com
DTSTAMP:20260424T044336Z
CREATED:20260424T044336Z
DTSTART:20250404T023000Z
DTEND:20250404T032000Z
LOCATION:Indoor Field
CONTACT:
SUMMARY:La Presita  VS. Méx FC
DESCRIPTION:League Name: Men's Open Spring 2025\nGame Type: Regular\nGame S
 tatus: Complete\nHome Team: La Presita \nAway Team: Méx FC\nHome Score: 9
 \nAway Score: 8
END:VEVENT
BEGIN:VEVENT
UID:16273841@ezleagues.ezfacility.com
DTSTAMP:20260424T044336Z
CREATED:20260424T044336Z
DTSTART:20250411T000000Z
DTEND:20250411T005000Z
LOCATION:Indoor Field
CONTACT:
SUMMARY:La Presita  VS. La Bomba
DESCRIPTION:League Name: Men's Open Spring 2025\nGame Type: Regular\nGame S
 tatus: Complete\nHome Team: La Presita \nAway Team: La Bomba\nHome Score: 
 14\nAway Score: 11
END:VEVENT
BEGIN:VEVENT
UID:16273848@ezleagues.ezfacility.com
DTSTAMP:20260424T044336Z
CREATED:20260424T044336Z
DTSTART:20250418T000000Z
DTEND:20250418T005000Z
LOCATION:Indoor Field
CONTACT:
SUMMARY:La Presita  VS. Club De Cuervos
DESCRIPTION:League Name: Men's Open Spring 2025\nGame Type: Regular\nGame S
 tatus: Complete\nHome Team: La Presita \nAway Team: Club De Cuervos\nHome 
 Score: 12\nAway Score: 6
END:VEVENT
END:VCALENDAR
