BEGIN:VCALENDAR
VERSION:2.0
PRODID:-//EZFacility.com, Inc.//EZL 2.5.5.28621
BEGIN:VEVENT
UID:16273923@ezleagues.ezfacility.com
DTSTAMP:20260421T155102Z
CREATED:20260421T155102Z
DTSTART:20250307T032000Z
DTEND:20250307T040300Z
LOCATION:Field 2
CONTACT:
SUMMARY:Chicago Strikers Blue VS. Peachy Merry Cones United
DESCRIPTION:League Name: Adult Soccer League - Spring 2025-A Division\nGame
  Type: Regular\nGame Status: Complete\nHome Team: Chicago Strikers Blue\nA
 way Team: Peachy Merry Cones United\nHome Score: 0\nAway Score: 3
END:VEVENT
BEGIN:VEVENT
UID:16273926@ezleagues.ezfacility.com
DTSTAMP:20260421T155102Z
CREATED:20260421T155102Z
DTSTART:20250314T030500Z
DTEND:20250314T034800Z
LOCATION:Field 2
CONTACT:
SUMMARY:Brazucas (yellow) VS. Peachy Merry Cones United
DESCRIPTION:League Name: Adult Soccer League - Spring 2025-A Division\nGame
  Type: Regular\nGame Status: Complete\nHome Team: Brazucas (yellow)\nAway 
 Team: Peachy Merry Cones United\nHome Score: 1\nAway Score: 2
END:VEVENT
BEGIN:VEVENT
UID:16273936@ezleagues.ezfacility.com
DTSTAMP:20260421T155102Z
CREATED:20260421T155102Z
DTSTART:20250328T013500Z
DTEND:20250328T021800Z
LOCATION:Field 2
CONTACT:
SUMMARY:Eagles VS. Peachy Merry Cones United
DESCRIPTION:League Name: Adult Soccer League - Spring 2025-A Division\nGame
  Type: Regular\nGame Status: Complete\nHome Team: Eagles\nAway Team: Peach
 y Merry Cones United\nHome Score: 6\nAway Score: 2
END:VEVENT
BEGIN:VEVENT
UID:16273945@ezleagues.ezfacility.com
DTSTAMP:20260421T155102Z
CREATED:20260421T155102Z
DTSTART:20250411T030500Z
DTEND:20250411T034800Z
LOCATION:Field 2
CONTACT:
SUMMARY:Peachy Merry Cones United VS. Team United FC
DESCRIPTION:League Name: Adult Soccer League - Spring 2025-A Division\nGame
  Type: Regular\nGame Status: Complete\nHome Team: Peachy Merry Cones Unite
 d\nAway Team: Team United FC\nHome Score: 3\nAway Score: 0
END:VEVENT
BEGIN:VEVENT
UID:16273941@ezleagues.ezfacility.com
DTSTAMP:20260421T155102Z
CREATED:20260421T155102Z
DTSTART:20250418T022000Z
DTEND:20250418T030300Z
LOCATION:Field 2
CONTACT:
SUMMARY:Peachy Merry Cones United VS. Chicago Strikers Red
DESCRIPTION:League Name: Adult Soccer League - Spring 2025-A Division\nGame
  Type: Regular\nGame Status: Complete\nHome Team: Peachy Merry Cones Unite
 d\nAway Team: Chicago Strikers Red\nHome Score: 5\nAway Score: 3
END:VEVENT
BEGIN:VEVENT
UID:16375722@ezleagues.ezfacility.com
DTSTAMP:20260421T155102Z
CREATED:20260421T155102Z
DTSTART:20250418T031500Z
DTEND:20250418T035800Z
LOCATION:Field 1
CONTACT:
SUMMARY:Peachy Merry Cones United VS. Pulisic’s Pelotas
DESCRIPTION:League Name: Adult Soccer League - Spring 2025-A Division\nGame
  Type: Regular\nGame Status: Complete\nHome Team: Peachy Merry Cones Unite
 d\nAway Team: Pulisic’s Pelotas\nHome Score: 6\nAway Score: 2
END:VEVENT
END:VCALENDAR
