BEGIN:VCALENDAR
VERSION:2.0
PRODID:-//EZFacility.com, Inc.//EZL 2.5.5.28621
BEGIN:VEVENT
UID:16277880@ezleagues.ezfacility.com
DTSTAMP:20260424T044424Z
CREATED:20260424T044424Z
DTSTART:20250311T000000Z
DTEND:20250311T010000Z
LOCATION:Timbee Hall Court 
CONTACT:
SUMMARY:Blackfoot 8th VS. Snake River 8th 
DESCRIPTION:League Name: Middle School \nGame Type: Regular\nGame Status: P
 ending\nHome Team: Blackfoot 8th\nAway Team: Snake River 8th \n
END:VEVENT
BEGIN:VEVENT
UID:16277886@ezleagues.ezfacility.com
DTSTAMP:20260424T044424Z
CREATED:20260424T044424Z
DTSTART:20250320T000000Z
DTEND:20250320T010000Z
LOCATION:Timbee Hall Court 
CONTACT:
SUMMARY:Snake River 8th  VS. Blackfoot 7th 
DESCRIPTION:League Name: Middle School \nGame Type: Regular\nGame Status: P
 ending\nHome Team: Snake River 8th \nAway Team: Blackfoot 7th \n
END:VEVENT
BEGIN:VEVENT
UID:16277892@ezleagues.ezfacility.com
DTSTAMP:20260424T044424Z
CREATED:20260424T044424Z
DTSTART:20250325T023000Z
DTEND:20250325T033000Z
LOCATION:Timbee Hall Court 
CONTACT:
SUMMARY:Snake River 6th  VS. Snake River 8th 
DESCRIPTION:League Name: Middle School \nGame Type: Regular\nGame Status: P
 ending\nHome Team: Snake River 6th \nAway Team: Snake River 8th \n
END:VEVENT
BEGIN:VEVENT
UID:16277898@ezleagues.ezfacility.com
DTSTAMP:20260424T044424Z
CREATED:20260424T044424Z
DTSTART:20250403T000000Z
DTEND:20250403T010000Z
LOCATION:Timbee Hall Court 
CONTACT:
SUMMARY:Snake River 8th  VS. Reneagades - Angelica G. 
DESCRIPTION:League Name: Middle School \nGame Type: Regular\nGame Status: P
 ending\nHome Team: Snake River 8th \nAway Team: Reneagades - Angelica G. \
 n
END:VEVENT
BEGIN:VEVENT
UID:16277904@ezleagues.ezfacility.com
DTSTAMP:20260424T044424Z
CREATED:20260424T044424Z
DTSTART:20250408T014000Z
DTEND:20250408T024000Z
LOCATION:Timbee Hall Court 
CONTACT:
SUMMARY:SNS Elite- Sunflower VS. Snake River 8th 
DESCRIPTION:League Name: Middle School \nGame Type: Regular\nGame Status: P
 ending\nHome Team: SNS Elite- Sunflower\nAway Team: Snake River 8th \n
END:VEVENT
BEGIN:VEVENT
UID:16277916@ezleagues.ezfacility.com
DTSTAMP:20260424T044424Z
CREATED:20260424T044424Z
DTSTART:20250422T005000Z
DTEND:20250422T015000Z
LOCATION:Timbee Hall Court 
CONTACT:
SUMMARY:Snake River 7th VS. Snake River 8th 
DESCRIPTION:League Name: Middle School \nGame Type: Regular\nGame Status: P
 ending\nHome Team: Snake River 7th\nAway Team: Snake River 8th \n
END:VEVENT
BEGIN:VEVENT
UID:16277922@ezleagues.ezfacility.com
DTSTAMP:20260424T044424Z
CREATED:20260424T044424Z
DTSTART:20250501T000000Z
DTEND:20250501T010000Z
LOCATION:Timbee Hall Court 
CONTACT:
SUMMARY:Snake River 8th  VS. Buffalo Boys - Linda R.
DESCRIPTION:League Name: Middle School \nGame Type: Regular\nGame Status: P
 ending\nHome Team: Snake River 8th \nAway Team: Buffalo Boys - Linda R.\n
END:VEVENT
END:VCALENDAR
