BEGIN:VCALENDAR
VERSION:2.0
PRODID:-//EZFacility.com, Inc.//EZL 2.5.5.28621
BEGIN:VEVENT
UID:16277882@ezleagues.ezfacility.com
DTSTAMP:20260421T090817Z
CREATED:20260421T090817Z
DTSTART:20250311T014000Z
DTEND:20250311T024000Z
LOCATION:Timbee Hall Court 
CONTACT:
SUMMARY:American Falls VS. Snake River 6th 
DESCRIPTION:League Name: Middle School \nGame Type: Regular\nGame Status: P
 ending\nHome Team: American Falls\nAway Team: Snake River 6th \n
END:VEVENT
BEGIN:VEVENT
UID:16277889@ezleagues.ezfacility.com
DTSTAMP:20260421T090817Z
CREATED:20260421T090817Z
DTSTART:20250318T023000Z
DTEND:20250318T033000Z
LOCATION:Timbee Hall Court 
CONTACT:
SUMMARY:SNS Elite- Sunflower VS. American Falls
DESCRIPTION:League Name: Middle School \nGame Type: Regular\nGame Status: P
 ending\nHome Team: SNS Elite- Sunflower\nAway Team: American Falls\n
END:VEVENT
BEGIN:VEVENT
UID:16277896@ezleagues.ezfacility.com
DTSTAMP:20260421T090817Z
CREATED:20260421T090817Z
DTSTART:20250325T000000Z
DTEND:20250325T010000Z
LOCATION:Timbee Hall Court 
CONTACT:
SUMMARY:American Falls VS. Snake River 7th
DESCRIPTION:League Name: Middle School \nGame Type: Regular\nGame Status: P
 ending\nHome Team: American Falls\nAway Team: Snake River 7th\n
END:VEVENT
BEGIN:VEVENT
UID:16277903@ezleagues.ezfacility.com
DTSTAMP:20260421T090817Z
CREATED:20260421T090817Z
DTSTART:20250401T000000Z
DTEND:20250401T010000Z
LOCATION:Timbee Hall Court 
CONTACT:
SUMMARY:Butte County 7th  VS. American Falls
DESCRIPTION:League Name: Middle School \nGame Type: Regular\nGame Status: P
 ending\nHome Team: Butte County 7th \nAway Team: American Falls\n
END:VEVENT
BEGIN:VEVENT
UID:16277909@ezleagues.ezfacility.com
DTSTAMP:20260421T090817Z
CREATED:20260421T090817Z
DTSTART:20250408T000000Z
DTEND:20250408T010000Z
LOCATION:Timbee Hall Court 
CONTACT:
SUMMARY:Butte County VS. American Falls
DESCRIPTION:League Name: Middle School \nGame Type: Regular\nGame Status: P
 ending\nHome Team: Butte County\nAway Team: American Falls\n
END:VEVENT
BEGIN:VEVENT
UID:16277914@ezleagues.ezfacility.com
DTSTAMP:20260421T090817Z
CREATED:20260421T090817Z
DTSTART:20250415T023000Z
DTEND:20250415T033000Z
LOCATION:Timbee Hall Court 
CONTACT:
SUMMARY:American Falls VS. Blackfoot 7th 
DESCRIPTION:League Name: Middle School \nGame Type: Regular\nGame Status: P
 ending\nHome Team: American Falls\nAway Team: Blackfoot 7th \n
END:VEVENT
BEGIN:VEVENT
UID:16277919@ezleagues.ezfacility.com
DTSTAMP:20260421T090817Z
CREATED:20260421T090817Z
DTSTART:20250422T014000Z
DTEND:20250422T024000Z
LOCATION:Timbee Hall Court 
CONTACT:
SUMMARY:Reneagades - Angelica G.  VS. American Falls
DESCRIPTION:League Name: Middle School \nGame Type: Regular\nGame Status: P
 ending\nHome Team: Reneagades - Angelica G. \nAway Team: American Falls\n
END:VEVENT
END:VCALENDAR
