BEGIN:VCALENDAR
VERSION:2.0
PRODID:-//EZFacility.com, Inc.//EZL 2.5.5.28621
BEGIN:VEVENT
UID:16282842@ezleagues.ezfacility.com
DTSTAMP:20260426T035055Z
CREATED:20260426T035055Z
DTSTART:20250315T223000Z
DTEND:20250315T233000Z
LOCATION:6v6 Field 2
CONTACT:
SUMMARY:YG Green VS. Howler Monkeys
DESCRIPTION:League Name: 3rd Session 2025- Recreation- U12 Coed Boarded Whi
 te\nGame Type: Regular\nGame Status: Complete\nHome Team: YG Green\nAway T
 eam: Howler Monkeys\nHome Score: 5\nAway Score: 5
END:VEVENT
BEGIN:VEVENT
UID:16282847@ezleagues.ezfacility.com
DTSTAMP:20260426T035055Z
CREATED:20260426T035055Z
DTSTART:20250322T173000Z
DTEND:20250322T183000Z
LOCATION:6v6 Field 2
CONTACT:
SUMMARY:YG Green VS. YG Red
DESCRIPTION:League Name: 3rd Session 2025- Recreation- U12 Coed Boarded Whi
 te\nGame Type: Regular\nGame Status: Complete\nHome Team: YG Green\nAway T
 eam: YG Red\nHome Score: 4\nAway Score: 6
END:VEVENT
BEGIN:VEVENT
UID:16282852@ezleagues.ezfacility.com
DTSTAMP:20260426T035055Z
CREATED:20260426T035055Z
DTSTART:20250329T203000Z
DTEND:20250329T213000Z
LOCATION:6v6 Field 2
CONTACT:
SUMMARY:YG Green VS. Phoenix
DESCRIPTION:League Name: 3rd Session 2025- Recreation- U12 Coed Boarded Whi
 te\nGame Type: Regular\nGame Status: Complete\nHome Team: YG Green\nAway T
 eam: Phoenix\nHome Score: 4\nAway Score: 3
END:VEVENT
BEGIN:VEVENT
UID:16282856@ezleagues.ezfacility.com
DTSTAMP:20260426T035055Z
CREATED:20260426T035055Z
DTSTART:20250405T180000Z
DTEND:20250405T190000Z
LOCATION:6v6 Field 1
CONTACT:
SUMMARY:JN VS. YG Green
DESCRIPTION:League Name: 3rd Session 2025- Recreation- U12 Coed Boarded Whi
 te\nGame Type: Regular\nGame Status: Complete\nHome Team: JN\nAway Team: Y
 G Green\nHome Score: 0\nAway Score: 10
END:VEVENT
BEGIN:VEVENT
UID:16282859@ezleagues.ezfacility.com
DTSTAMP:20260426T035055Z
CREATED:20260426T035055Z
DTSTART:20250412T183000Z
DTEND:20250412T193000Z
LOCATION:6v6 Field 2
CONTACT:
SUMMARY:TS Hawks VS. YG Green
DESCRIPTION:League Name: 3rd Session 2025- Recreation- U12 Coed Boarded Whi
 te\nGame Type: Regular\nGame Status: Complete\nHome Team: TS Hawks\nAway T
 eam: YG Green\nHome Score: 3\nAway Score: 10
END:VEVENT
BEGIN:VEVENT
UID:16282862@ezleagues.ezfacility.com
DTSTAMP:20260426T035055Z
CREATED:20260426T035055Z
DTSTART:20250428T223000Z
DTEND:20250428T233000Z
LOCATION:6v6 Field 2
CONTACT:
SUMMARY:TS Underdogs VS. YG Green
DESCRIPTION:League Name: 3rd Session 2025- Recreation- U12 Coed Boarded Whi
 te\nGame Type: Regular\nGame Status: Complete\nHome Team: TS Underdogs\nAw
 ay Team: YG Green\nHome Score: 9\nAway Score: 12
END:VEVENT
END:VCALENDAR
