BEGIN:VCALENDAR
VERSION:2.0
PRODID:-//EZFacility.com, Inc.//EZL 2.5.5.28621
BEGIN:VEVENT
UID:16282842@ezleagues.ezfacility.com
DTSTAMP:20260425T192106Z
CREATED:20260425T192106Z
DTSTART:20250315T223000Z
DTEND:20250315T233000Z
LOCATION:6v6 Field 2
CONTACT:
SUMMARY:YG Green VS. Howler Monkeys
DESCRIPTION:League Name: 3rd Session 2025- Recreation- U12 Coed Boarded Whi
 te\nGame Type: Regular\nGame Status: Complete\nHome Team: YG Green\nAway T
 eam: Howler Monkeys\nHome Score: 5\nAway Score: 5
END:VEVENT
BEGIN:VEVENT
UID:16282845@ezleagues.ezfacility.com
DTSTAMP:20260425T192106Z
CREATED:20260425T192106Z
DTSTART:20250322T183000Z
DTEND:20250322T193000Z
LOCATION:6v6 Field 2
CONTACT:
SUMMARY:Bengals VS. Howler Monkeys
DESCRIPTION:League Name: 3rd Session 2025- Recreation- U12 Coed Boarded Whi
 te\nGame Type: Regular\nGame Status: Complete\nHome Team: Bengals\nAway Te
 am: Howler Monkeys\nHome Score: 5\nAway Score: 12
END:VEVENT
BEGIN:VEVENT
UID:16282850@ezleagues.ezfacility.com
DTSTAMP:20260425T192106Z
CREATED:20260425T192106Z
DTSTART:20250329T173000Z
DTEND:20250329T183000Z
LOCATION:6v6 Field 2
CONTACT:
SUMMARY:Howler Monkeys VS. YG Red
DESCRIPTION:League Name: 3rd Session 2025- Recreation- U12 Coed Boarded Whi
 te\nGame Type: Regular\nGame Status: Complete\nHome Team: Howler Monkeys\n
 Away Team: YG Red\nHome Score: 3\nAway Score: 12
END:VEVENT
BEGIN:VEVENT
UID:16282855@ezleagues.ezfacility.com
DTSTAMP:20260425T192106Z
CREATED:20260425T192106Z
DTSTART:20250405T200000Z
DTEND:20250405T210000Z
LOCATION:6v6 Field 1
CONTACT:
SUMMARY:Howler Monkeys VS. Phoenix
DESCRIPTION:League Name: 3rd Session 2025- Recreation- U12 Coed Boarded Whi
 te\nGame Type: Regular\nGame Status: Complete\nHome Team: Howler Monkeys\n
 Away Team: Phoenix\nHome Score: 4\nAway Score: 4
END:VEVENT
BEGIN:VEVENT
UID:16282860@ezleagues.ezfacility.com
DTSTAMP:20260425T192106Z
CREATED:20260425T192106Z
DTSTART:20250412T180000Z
DTEND:20250412T190000Z
LOCATION:6v6 Field 1
CONTACT:
SUMMARY:Howler Monkeys VS. JN
DESCRIPTION:League Name: 3rd Session 2025- Recreation- U12 Coed Boarded Whi
 te\nGame Type: Regular\nGame Status: Complete\nHome Team: Howler Monkeys\n
 Away Team: JN\nHome Score: 12\nAway Score: 3
END:VEVENT
BEGIN:VEVENT
UID:16282864@ezleagues.ezfacility.com
DTSTAMP:20260425T192106Z
CREATED:20260425T192106Z
DTSTART:20250419T193000Z
DTEND:20250419T203000Z
LOCATION:6v6 Field 2
CONTACT:
SUMMARY:TS Hawks VS. Howler Monkeys
DESCRIPTION:League Name: 3rd Session 2025- Recreation- U12 Coed Boarded Whi
 te\nGame Type: Regular\nGame Status: Complete\nHome Team: TS Hawks\nAway T
 eam: Howler Monkeys\nHome Score: 2\nAway Score: 10
END:VEVENT
END:VCALENDAR
