BEGIN:VCALENDAR
VERSION:2.0
PRODID:-//EZFacility.com, Inc.//EZL 2.5.5.28621
BEGIN:VEVENT
UID:16282844@ezleagues.ezfacility.com
DTSTAMP:20260422T121227Z
CREATED:20260422T121227Z
DTSTART:20250315T193000Z
DTEND:20250315T203000Z
LOCATION:6v6 Field 2
CONTACT:
SUMMARY:TS Underdogs VS. YG Red
DESCRIPTION:League Name: 3rd Session 2025- Recreation- U12 Coed Boarded Whi
 te\nGame Type: Regular\nGame Status: Complete\nHome Team: TS Underdogs\nAw
 ay Team: YG Red\nHome Score: 8\nAway Score: 5
END:VEVENT
BEGIN:VEVENT
UID:16282848@ezleagues.ezfacility.com
DTSTAMP:20260422T121227Z
CREATED:20260422T121227Z
DTSTART:20250321T220000Z
DTEND:20250321T230000Z
LOCATION:6v6 Field 1
CONTACT:
SUMMARY:Phoenix VS. TS Underdogs
DESCRIPTION:League Name: 3rd Session 2025- Recreation- U12 Coed Boarded Whi
 te\nGame Type: Regular\nGame Status: Complete\nHome Team: Phoenix\nAway Te
 am: TS Underdogs\nHome Score: 2\nAway Score: 0
END:VEVENT
BEGIN:VEVENT
UID:16282851@ezleagues.ezfacility.com
DTSTAMP:20260422T121227Z
CREATED:20260422T121227Z
DTSTART:20250329T170000Z
DTEND:20250329T180000Z
LOCATION:6v6 Field 1
CONTACT:
SUMMARY:JN VS. TS Underdogs
DESCRIPTION:League Name: 3rd Session 2025- Recreation- U12 Coed Boarded Whi
 te\nGame Type: Regular\nGame Status: Complete\nHome Team: JN\nAway Team: T
 S Underdogs\nHome Score: 1\nAway Score: 7
END:VEVENT
BEGIN:VEVENT
UID:16282854@ezleagues.ezfacility.com
DTSTAMP:20260422T121227Z
CREATED:20260422T121227Z
DTSTART:20250405T193000Z
DTEND:20250405T203000Z
LOCATION:6v6 Field 2
CONTACT:
SUMMARY:TS Hawks VS. TS Underdogs
DESCRIPTION:League Name: 3rd Session 2025- Recreation- U12 Coed Boarded Whi
 te\nGame Type: Regular\nGame Status: Complete\nHome Team: TS Hawks\nAway T
 eam: TS Underdogs\nHome Score: 6\nAway Score: 12
END:VEVENT
BEGIN:VEVENT
UID:16282857@ezleagues.ezfacility.com
DTSTAMP:20260422T121227Z
CREATED:20260422T121227Z
DTSTART:20250412T190000Z
DTEND:20250412T200000Z
LOCATION:6v6 Field 1
CONTACT:
SUMMARY:TS Underdogs VS. Bengals
DESCRIPTION:League Name: 3rd Session 2025- Recreation- U12 Coed Boarded Whi
 te\nGame Type: Regular\nGame Status: Complete\nHome Team: TS Underdogs\nAw
 ay Team: Bengals\nHome Score: 8\nAway Score: 1
END:VEVENT
BEGIN:VEVENT
UID:16282862@ezleagues.ezfacility.com
DTSTAMP:20260422T121227Z
CREATED:20260422T121227Z
DTSTART:20250428T223000Z
DTEND:20250428T233000Z
LOCATION:6v6 Field 2
CONTACT:
SUMMARY:TS Underdogs VS. YG Green
DESCRIPTION:League Name: 3rd Session 2025- Recreation- U12 Coed Boarded Whi
 te\nGame Type: Regular\nGame Status: Complete\nHome Team: TS Underdogs\nAw
 ay Team: YG Green\nHome Score: 9\nAway Score: 12
END:VEVENT
END:VCALENDAR
