BEGIN:VCALENDAR
VERSION:2.0
PRODID:-//EZFacility.com, Inc.//EZL 2.5.5.28621
BEGIN:VEVENT
UID:16344891@ezleagues.ezfacility.com
DTSTAMP:20260422T124643Z
CREATED:20260422T124643Z
DTSTART:20250413T200000Z
DTEND:20250413T210000Z
LOCATION:Field 2 (Adult)
CONTACT:
SUMMARY:M2 Prime - Black 15U VS. York JV Green
DESCRIPTION:League Name: 7on7 Football -JV\nGame Type: Regular\nGame Status
 : Complete\nHome Team: M2 Prime - Black 15U\nAway Team: York JV Green\nHom
 e Score: 45\nAway Score: 40
END:VEVENT
BEGIN:VEVENT
UID:16344892@ezleagues.ezfacility.com
DTSTAMP:20260422T124643Z
CREATED:20260422T124643Z
DTSTART:20250413T210000Z
DTEND:20250413T220000Z
LOCATION:Field 1 (Adult)
CONTACT:
SUMMARY:M2 Prime - Black 15U VS. Lyons Township Lions JV
DESCRIPTION:League Name: 7on7 Football -JV\nGame Type: Regular\nGame Status
 : Complete\nHome Team: M2 Prime - Black 15U\nAway Team: Lyons Township Lio
 ns JV\nHome Score: 44\nAway Score: 21
END:VEVENT
BEGIN:VEVENT
UID:16344896@ezleagues.ezfacility.com
DTSTAMP:20260422T124643Z
CREATED:20260422T124643Z
DTSTART:20250427T200000Z
DTEND:20250427T210000Z
LOCATION:Field 2 (Adult)
CONTACT:
SUMMARY:Roadrunners JV VS. M2 Prime - Black 15U
DESCRIPTION:League Name: 7on7 Football -JV\nGame Type: Regular\nGame Status
 : Complete\nHome Team: Roadrunners JV\nAway Team: M2 Prime - Black 15U\nHo
 me Score: 34\nAway Score: 22
END:VEVENT
BEGIN:VEVENT
UID:16344900@ezleagues.ezfacility.com
DTSTAMP:20260422T124643Z
CREATED:20260422T124643Z
DTSTART:20250504T200000Z
DTEND:20250504T210000Z
LOCATION:Field 1 (Adult)
CONTACT:
SUMMARY:Blizzard VS. M2 Prime - Black 15U
DESCRIPTION:League Name: 7on7 Football -JV\nGame Type: Regular\nGame Status
 : Complete\nHome Team: Blizzard\nAway Team: M2 Prime - Black 15U\nHome Sco
 re: 39\nAway Score: 43
END:VEVENT
BEGIN:VEVENT
UID:16344903@ezleagues.ezfacility.com
DTSTAMP:20260422T124643Z
CREATED:20260422T124643Z
DTSTART:20250504T210000Z
DTEND:20250504T220000Z
LOCATION:Field 2 (Adult)
CONTACT:
SUMMARY:Lyons Township Lions JV VS. M2 Prime - Black 15U
DESCRIPTION:League Name: 7on7 Football -JV\nGame Type: Regular\nGame Status
 : Complete\nHome Team: Lyons Township Lions JV\nAway Team: M2 Prime - Blac
 k 15U\nHome Score: 29\nAway Score: 37
END:VEVENT
BEGIN:VEVENT
UID:16344907@ezleagues.ezfacility.com
DTSTAMP:20260422T124643Z
CREATED:20260422T124643Z
DTSTART:20250511T200000Z
DTEND:20250511T210000Z
LOCATION:Field 1 (Adult)
CONTACT:
SUMMARY:M2 Prime - Black 15U VS. York JV Green
DESCRIPTION:League Name: 7on7 Football -JV\nGame Type: Regular\nGame Status
 : Complete\nHome Team: M2 Prime - Black 15U\nAway Team: York JV Green\nHom
 e Score: 27\nAway Score: 37
END:VEVENT
BEGIN:VEVENT
UID:16344913@ezleagues.ezfacility.com
DTSTAMP:20260422T124643Z
CREATED:20260422T124643Z
DTSTART:20250518T210000Z
DTEND:20250518T220000Z
LOCATION:Field 2 (Adult)
CONTACT:
SUMMARY:DGN JV VS. M2 Prime - Black 15U
DESCRIPTION:League Name: 7on7 Football -JV\nGame Type: Regular\nGame Status
 : Complete\nHome Team: DGN JV\nAway Team: M2 Prime - Black 15U\nHome Score
 : 22\nAway Score: 55
END:VEVENT
BEGIN:VEVENT
UID:16345030@ezleagues.ezfacility.com
DTSTAMP:20260422T124643Z
CREATED:20260422T124643Z
DTSTART:20250518T220000Z
DTEND:20250518T230000Z
LOCATION:Field 1 (Adult)
CONTACT:
SUMMARY:Lyons Township Lions JV VS. M2 Prime - Black 15U
DESCRIPTION:League Name: 7on7 Football -JV\nGame Type: Regular\nGame Status
 : Complete\nHome Team: Lyons Township Lions JV\nAway Team: M2 Prime - Blac
 k 15U\nHome Score: 25\nAway Score: 47
END:VEVENT
BEGIN:VEVENT
UID:16408168@ezleagues.ezfacility.com
DTSTAMP:20260422T124643Z
CREATED:20260422T124643Z
DTSTART:20250601T200000Z
DTEND:20250601T210000Z
LOCATION:Field 2 (Adult)
CONTACT:
SUMMARY:M2 Prime - Black 15U VS. York JV Green
DESCRIPTION:League Name: 7on7 Football -JV\nGame Type: Postseason\nGame Sta
 tus: Complete\nHome Team: M2 Prime - Black 15U\nAway Team: York JV Green\n
 Home Score: 39\nAway Score: 34
END:VEVENT
BEGIN:VEVENT
UID:16408169@ezleagues.ezfacility.com
DTSTAMP:20260422T124643Z
CREATED:20260422T124643Z
DTSTART:20250601T210000Z
DTEND:20250601T220000Z
LOCATION:Field 1 (Adult)
CONTACT:
SUMMARY:Roadrunners JV VS. M2 Prime - Black 15U
DESCRIPTION:League Name: 7on7 Football -JV\nGame Type: Postseason\nGame Sta
 tus: Complete\nHome Team: Roadrunners JV\nAway Team: M2 Prime - Black 15U\
 nHome Score: 44\nAway Score: 6
END:VEVENT
END:VCALENDAR
