BEGIN:VCALENDAR
VERSION:2.0
PRODID:-//EZFacility.com, Inc.//EZL 2.5.5.28621
BEGIN:VEVENT
UID:16301139@ezleagues.ezfacility.com
DTSTAMP:20260426T033834Z
CREATED:20260426T033834Z
DTSTART:20250325T020000Z
DTEND:20250325T030000Z
LOCATION:Soccer Field 1
CONTACT:
SUMMARY:Dynamo VS. Fox Valley
DESCRIPTION:League Name: Men's 55+ Spring 2025 - Mondays\nGame Type: Regula
 r\nGame Status: Complete\nHome Team: Dynamo\nAway Team: Fox Valley\nHome S
 core: 2\nAway Score: 2
END:VEVENT
BEGIN:VEVENT
UID:16301143@ezleagues.ezfacility.com
DTSTAMP:20260426T033834Z
CREATED:20260426T033834Z
DTSTART:20250401T020000Z
DTEND:20250401T030000Z
LOCATION:Soccer Field 2
CONTACT:
SUMMARY:Fox Valley VS. Deerfield FC
DESCRIPTION:League Name: Men's 55+ Spring 2025 - Mondays\nGame Type: Regula
 r\nGame Status: Complete\nHome Team: Fox Valley\nAway Team: Deerfield FC\n
 Home Score: 2\nAway Score: 0
END:VEVENT
BEGIN:VEVENT
UID:16301147@ezleagues.ezfacility.com
DTSTAMP:20260426T033834Z
CREATED:20260426T033834Z
DTSTART:20250408T020000Z
DTEND:20250408T030000Z
LOCATION:Soccer Field 3
CONTACT:
SUMMARY:Fox Valley VS. Morava
DESCRIPTION:League Name: Men's 55+ Spring 2025 - Mondays\nGame Type: Regula
 r\nGame Status: Complete\nHome Team: Fox Valley\nAway Team: Morava\nHome S
 core: 2\nAway Score: 5
END:VEVENT
BEGIN:VEVENT
UID:16301150@ezleagues.ezfacility.com
DTSTAMP:20260426T033834Z
CREATED:20260426T033834Z
DTSTART:20250415T020000Z
DTEND:20250415T030000Z
LOCATION:Soccer Field 3
CONTACT:
SUMMARY:Lake Zurich VS. Fox Valley
DESCRIPTION:League Name: Men's 55+ Spring 2025 - Mondays\nGame Type: Regula
 r\nGame Status: Pending\nHome Team: Lake Zurich\nAway Team: Fox Valley\n
END:VEVENT
BEGIN:VEVENT
UID:16301152@ezleagues.ezfacility.com
DTSTAMP:20260426T033834Z
CREATED:20260426T033834Z
DTSTART:20250422T020000Z
DTEND:20250422T030000Z
LOCATION:Soccer Field 1
CONTACT:
SUMMARY:Palatine VS. Fox Valley
DESCRIPTION:League Name: Men's 55+ Spring 2025 - Mondays\nGame Type: Regula
 r\nGame Status: Complete\nHome Team: Palatine\nAway Team: Fox Valley\nHome
  Score: 2\nAway Score: 2
END:VEVENT
BEGIN:VEVENT
UID:16301154@ezleagues.ezfacility.com
DTSTAMP:20260426T033834Z
CREATED:20260426T033834Z
DTSTART:20250429T020000Z
DTEND:20250429T030000Z
LOCATION:Soccer Field 2
CONTACT:
SUMMARY:Fox Valley VS. Dynamo
DESCRIPTION:League Name: Men's 55+ Spring 2025 - Mondays\nGame Type: Regula
 r\nGame Status: Complete\nHome Team: Fox Valley\nAway Team: Dynamo\nHome S
 core: 2\nAway Score: 6
END:VEVENT
END:VCALENDAR
