BEGIN:VCALENDAR
VERSION:2.0
PRODID:-//EZFacility.com, Inc.//EZL 2.5.5.28621
BEGIN:VEVENT
UID:16357000@ezleagues.ezfacility.com
DTSTAMP:20260422T171721Z
CREATED:20260422T171721Z
DTSTART:20250323T130000Z
DTEND:20250323T140000Z
LOCATION:11vs11 Field 2 BET/H
CONTACT:
SUMMARY:DA Welding FC VS. Iztapa FC
DESCRIPTION:League Name: DOMINGO 11v11 (3/16)\nGame Type: Regular\nGame Sta
 tus: Complete\nHome Team: DA Welding FC\nAway Team: Iztapa FC\nHome Score:
  2\nAway Score: 4
END:VEVENT
BEGIN:VEVENT
UID:16356994@ezleagues.ezfacility.com
DTSTAMP:20260422T171721Z
CREATED:20260422T171721Z
DTSTART:20250330T130000Z
DTEND:20250330T140000Z
LOCATION:11vs11 Field 3 BET/H
CONTACT:
SUMMARY:DA Welding FC VS. Furia Catracha
DESCRIPTION:League Name: DOMINGO 11v11 (3/16)\nGame Type: Regular\nGame Sta
 tus: Complete\nHome Team: DA Welding FC\nAway Team: Furia Catracha\nHome S
 core: 1\nAway Score: 2
END:VEVENT
BEGIN:VEVENT
UID:16370317@ezleagues.ezfacility.com
DTSTAMP:20260422T171721Z
CREATED:20260422T171721Z
DTSTART:20250406T130000Z
DTEND:20250406T140000Z
LOCATION:11vs11 Field 3 BET/H
CONTACT:
SUMMARY:DA Welding FC VS. Inter Continental
DESCRIPTION:League Name: DOMINGO 11v11 (3/16)\nGame Type: Regular\nGame Sta
 tus: Complete\nHome Team: DA Welding FC\nAway Team: Inter Continental\nHom
 e Score: 2\nAway Score: 8
END:VEVENT
BEGIN:VEVENT
UID:16411640@ezleagues.ezfacility.com
DTSTAMP:20260422T171721Z
CREATED:20260422T171721Z
DTSTART:20250427T130000Z
DTEND:20250427T140000Z
LOCATION:11vs11 Field 4 BET/H
CONTACT:
SUMMARY:DA Welding FC VS. MR Los Chapines
DESCRIPTION:League Name: DOMINGO 11v11 (3/16)\nGame Type: Regular\nGame Sta
 tus: Complete\nHome Team: DA Welding FC\nAway Team: MR Los Chapines\nHome 
 Score: 2\nAway Score: 4
END:VEVENT
BEGIN:VEVENT
UID:16451261@ezleagues.ezfacility.com
DTSTAMP:20260422T171721Z
CREATED:20260422T171721Z
DTSTART:20250511T130000Z
DTEND:20250511T140000Z
LOCATION:11vs11 Field 4 BET/H
CONTACT:
SUMMARY:La Raza VS. DA Welding FC
DESCRIPTION:League Name: DOMINGO 11v11 (3/16)\nGame Type: Regular\nGame Sta
 tus: Complete\nHome Team: La Raza\nAway Team: DA Welding FC\nHome Score: 4
 \nAway Score: 0
END:VEVENT
BEGIN:VEVENT
UID:16451394@ezleagues.ezfacility.com
DTSTAMP:20260422T171721Z
CREATED:20260422T171721Z
DTSTART:20250518T150000Z
DTEND:20250518T160000Z
LOCATION:11vs11 Field 3 BET/H
CONTACT:
SUMMARY:Dptvo Moral VS. DA Welding FC
DESCRIPTION:League Name: DOMINGO 11v11 (3/16)\nGame Type: Regular\nGame Sta
 tus: Complete\nHome Team: Dptvo Moral\nAway Team: DA Welding FC\nHome Scor
 e: 2\nAway Score: 1
END:VEVENT
BEGIN:VEVENT
UID:16454642@ezleagues.ezfacility.com
DTSTAMP:20260422T171721Z
CREATED:20260422T171721Z
DTSTART:20250525T130000Z
DTEND:20250525T140000Z
LOCATION:11vs11 Field 2 BET/H
CONTACT:
SUMMARY:Pachuca VS. DA Welding FC
DESCRIPTION:League Name: DOMINGO 11v11 (3/16)\nGame Type: Regular\nGame Sta
 tus: Complete\nHome Team: Pachuca\nAway Team: DA Welding FC\nHome Score: 2
 \nAway Score: 0
END:VEVENT
BEGIN:VEVENT
UID:16484079@ezleagues.ezfacility.com
DTSTAMP:20260422T171721Z
CREATED:20260422T171721Z
DTSTART:20250601T130000Z
DTEND:20250601T140000Z
LOCATION:11vs11 Field 3 BET/H
CONTACT:
SUMMARY:DA Welding FC VS. Inter Caribe
DESCRIPTION:League Name: DOMINGO 11v11 (3/16)\nGame Type: Regular\nGame Sta
 tus: Complete\nHome Team: DA Welding FC\nAway Team: Inter Caribe\nHome Sco
 re: 1\nAway Score: 3
END:VEVENT
BEGIN:VEVENT
UID:16505832@ezleagues.ezfacility.com
DTSTAMP:20260422T171721Z
CREATED:20260422T171721Z
DTSTART:20250608T130000Z
DTEND:20250608T140000Z
LOCATION:11vs11 Field 4 BET/H
CONTACT:
SUMMARY:DA Welding FC VS. Atletico Marte
DESCRIPTION:League Name: DOMINGO 11v11 (3/16)\nGame Type: Regular\nGame Sta
 tus: Complete\nHome Team: DA Welding FC\nAway Team: Atletico Marte\nHome S
 core: 1\nAway Score: 6
END:VEVENT
END:VCALENDAR
