BEGIN:VCALENDAR
VERSION:2.0
PRODID:-//EZFacility.com, Inc.//EZL 2.5.5.28621
BEGIN:VEVENT
UID:16302083@ezleagues.ezfacility.com
DTSTAMP:20260424T043206Z
CREATED:20260424T043206Z
DTSTART:20250320T015000Z
DTEND:20250320T024500Z
LOCATION:Field 1
CONTACT:Esquerre
SUMMARY:Iberia FC VS. Samurai Kids
DESCRIPTION:League Name: Wednesday Men's Open Spring 2025\nGame Type: Regul
 ar\nGame Status: Complete\nHome Team: Iberia FC\nAway Team: Samurai Kids\n
 Home Score: 7\nAway Score: 9
END:VEVENT
BEGIN:VEVENT
UID:16302087@ezleagues.ezfacility.com
DTSTAMP:20260424T043206Z
CREATED:20260424T043206Z
DTSTART:20250327T000000Z
DTEND:20250327T005500Z
LOCATION:Field 1
CONTACT:Esquerre
SUMMARY:Samurai Kids VS. Athletico
DESCRIPTION:League Name: Wednesday Men's Open Spring 2025\nGame Type: Regul
 ar\nGame Status: Complete\nHome Team: Samurai Kids\nAway Team: Athletico\n
 Home Score: 19\nAway Score: 7
END:VEVENT
BEGIN:VEVENT
UID:16302090@ezleagues.ezfacility.com
DTSTAMP:20260424T043206Z
CREATED:20260424T043206Z
DTSTART:20250403T015000Z
DTEND:20250403T024500Z
LOCATION:Field 1
CONTACT:Esquerre
SUMMARY:Impact Premier VS. Samurai Kids
DESCRIPTION:League Name: Wednesday Men's Open Spring 2025\nGame Type: Regul
 ar\nGame Status: Complete\nHome Team: Impact Premier\nAway Team: Samurai K
 ids\nHome Score: 7\nAway Score: 6
END:VEVENT
BEGIN:VEVENT
UID:16302100@ezleagues.ezfacility.com
DTSTAMP:20260424T043206Z
CREATED:20260424T043206Z
DTSTART:20250417T000000Z
DTEND:20250417T005500Z
LOCATION:Field 1
CONTACT:Esquerre
SUMMARY:Colombia VS. Samurai Kids
DESCRIPTION:League Name: Wednesday Men's Open Spring 2025\nGame Type: Regul
 ar\nGame Status: Complete\nHome Team: Colombia\nAway Team: Samurai Kids\nH
 ome Score: 10\nAway Score: 5
END:VEVENT
BEGIN:VEVENT
UID:16302104@ezleagues.ezfacility.com
DTSTAMP:20260424T043206Z
CREATED:20260424T043206Z
DTSTART:20250424T015000Z
DTEND:20250424T024500Z
LOCATION:Field 1
CONTACT:Esquerre
SUMMARY:Samurai Kids VS. FC Mantis
DESCRIPTION:League Name: Wednesday Men's Open Spring 2025\nGame Type: Regul
 ar\nGame Status: Complete\nHome Team: Samurai Kids\nAway Team: FC Mantis\n
 Home Score: 5\nAway Score: 5
END:VEVENT
BEGIN:VEVENT
UID:16302108@ezleagues.ezfacility.com
DTSTAMP:20260424T043206Z
CREATED:20260424T043206Z
DTSTART:20250501T005500Z
DTEND:20250501T015000Z
LOCATION:Field 1
CONTACT:Esquerre
SUMMARY:Samurai Kids VS. Warriors Of God
DESCRIPTION:League Name: Wednesday Men's Open Spring 2025\nGame Type: Regul
 ar\nGame Status: Complete\nHome Team: Samurai Kids\nAway Team: Warriors Of
  God\nHome Score: 6\nAway Score: 7
END:VEVENT
BEGIN:VEVENT
UID:16337372@ezleagues.ezfacility.com
DTSTAMP:20260424T043206Z
CREATED:20260424T043206Z
DTSTART:20250508T000000Z
DTEND:20250508T005500Z
LOCATION:Field 1
CONTACT:Esquerre
SUMMARY:Warriors Of God VS. Samurai Kids
DESCRIPTION:League Name: Wednesday Men's Open Spring 2025\nGame Type: Posts
 eason\nGame Status: Complete\nHome Team: Warriors Of God\nAway Team: Samur
 ai Kids\nHome Score: 13\nAway Score: 14
END:VEVENT
BEGIN:VEVENT
UID:16337496@ezleagues.ezfacility.com
DTSTAMP:20260424T043206Z
CREATED:20260424T043206Z
DTSTART:20250515T005500Z
DTEND:20250515T015000Z
LOCATION:Field 1
CONTACT:Esquerre
SUMMARY:Samurai Kids VS. Iberia FC
DESCRIPTION:League Name: Wednesday Men's Open Spring 2025\nGame Type: Posts
 eason\nGame Status: Complete\nHome Team: Samurai Kids\nAway Team: Iberia F
 C\nHome Score: 6\nAway Score: 8
END:VEVENT
END:VCALENDAR
