BEGIN:VCALENDAR
VERSION:2.0
PRODID:-//EZFacility.com, Inc.//EZL 2.5.5.28621
BEGIN:VEVENT
UID:16353707@ezleagues.ezfacility.com
DTSTAMP:20260424T044403Z
CREATED:20260424T044403Z
DTSTART:20250323T230000Z
DTEND:20250324T000000Z
LOCATION:7vs7 Field 1 TRU
CONTACT:
SUMMARY:Tre 4 City VS. Holanda
DESCRIPTION:League Name: DOMINGO Libre\nGame Type: Regular\nGame Status: Co
 mplete\nHome Team: Tre 4 City\nAway Team: Holanda\nHome Score: 3\nAway Sco
 re: 1
END:VEVENT
BEGIN:VEVENT
UID:16354244@ezleagues.ezfacility.com
DTSTAMP:20260424T044403Z
CREATED:20260424T044403Z
DTSTART:20250330T230000Z
DTEND:20250331T000000Z
LOCATION:Field 5 BLD
CONTACT:
SUMMARY:Holanda VS. Red Bull
DESCRIPTION:League Name: DOMINGO Libre\nGame Type: Regular\nGame Status: Co
 mplete\nHome Team: Holanda\nAway Team: Red Bull\nHome Score: 8\nAway Score
 : 7
END:VEVENT
BEGIN:VEVENT
UID:16370337@ezleagues.ezfacility.com
DTSTAMP:20260424T044403Z
CREATED:20260424T044403Z
DTSTART:20250406T230000Z
DTEND:20250407T000000Z
LOCATION:7vs7 Field 1 TRU
CONTACT:
SUMMARY:Dptvo Xicay VS. Holanda
DESCRIPTION:League Name: DOMINGO Libre\nGame Type: Regular\nGame Status: Co
 mplete\nHome Team: Dptvo Xicay\nAway Team: Holanda\nHome Score: 4\nAway Sc
 ore: 3
END:VEVENT
BEGIN:VEVENT
UID:16392523@ezleagues.ezfacility.com
DTSTAMP:20260424T044403Z
CREATED:20260424T044403Z
DTSTART:20250413T230000Z
DTEND:20250414T000000Z
LOCATION:7vs7 Field 1 TRU
CONTACT:
SUMMARY:Cruz Grande OUT VS. Holanda
DESCRIPTION:League Name: DOMINGO Libre\nGame Type: Regular\nGame Status: Co
 mplete\nHome Team: Cruz Grande OUT\nAway Team: Holanda\nHome Score: 9\nAwa
 y Score: 0
END:VEVENT
BEGIN:VEVENT
UID:16394440@ezleagues.ezfacility.com
DTSTAMP:20260424T044403Z
CREATED:20260424T044403Z
DTSTART:20250420T230000Z
DTEND:20250421T000000Z
LOCATION:7vs7 Field 1 TRU
CONTACT:
SUMMARY:San Jeronimo VS. Holanda
DESCRIPTION:League Name: DOMINGO Libre\nGame Type: Regular\nGame Status: Co
 mplete\nHome Team: San Jeronimo\nAway Team: Holanda\nHome Score: 4\nAway S
 core: 2
END:VEVENT
BEGIN:VEVENT
UID:16426108@ezleagues.ezfacility.com
DTSTAMP:20260424T044403Z
CREATED:20260424T044403Z
DTSTART:20250504T230000Z
DTEND:20250505T000000Z
LOCATION:7vs7 Field 1 TRU
CONTACT:
SUMMARY:Gallos Blancos VS. Holanda
DESCRIPTION:League Name: DOMINGO Libre\nGame Type: Regular\nGame Status: Co
 mplete\nHome Team: Gallos Blancos\nAway Team: Holanda\nHome Score: 2\nAway
  Score: 2
END:VEVENT
BEGIN:VEVENT
UID:16451326@ezleagues.ezfacility.com
DTSTAMP:20260424T044403Z
CREATED:20260424T044403Z
DTSTART:20250519T000000Z
DTEND:20250519T010000Z
LOCATION:7vs7 Field 1 TRU
CONTACT:
SUMMARY:PH United VS. Holanda
DESCRIPTION:League Name: DOMINGO Libre\nGame Type: Regular\nGame Status: Co
 mplete\nHome Team: PH United\nAway Team: Holanda\nHome Score: 3\nAway Scor
 e: 4
END:VEVENT
BEGIN:VEVENT
UID:16454622@ezleagues.ezfacility.com
DTSTAMP:20260424T044403Z
CREATED:20260424T044403Z
DTSTART:20250525T220000Z
DTEND:20250525T230000Z
LOCATION:7vs7 Field 1 TRU
CONTACT:
SUMMARY:AFC VS. Holanda
DESCRIPTION:League Name: DOMINGO Libre\nGame Type: Regular\nGame Status: Co
 mplete\nHome Team: AFC\nAway Team: Holanda\nHome Score: 2\nAway Score: 1
END:VEVENT
BEGIN:VEVENT
UID:16484096@ezleagues.ezfacility.com
DTSTAMP:20260424T044403Z
CREATED:20260424T044403Z
DTSTART:20250602T000000Z
DTEND:20250602T010000Z
LOCATION:7vs7 Field 1 TRU
CONTACT:
SUMMARY:Guanajuato VS. Holanda
DESCRIPTION:League Name: DOMINGO Libre\nGame Type: Regular\nGame Status: Co
 mplete\nHome Team: Guanajuato\nAway Team: Holanda\nHome Score: 6\nAway Sco
 re: 5
END:VEVENT
BEGIN:VEVENT
UID:16499253@ezleagues.ezfacility.com
DTSTAMP:20260424T044403Z
CREATED:20260424T044403Z
DTSTART:20250608T220000Z
DTEND:20250608T230000Z
LOCATION:Field 6 BLD Outdoor
CONTACT:
SUMMARY:Holanda VS. San Jeronimo
DESCRIPTION:League Name: DOMINGO Libre\nGame Type: Regular\nGame Status: Co
 mplete\nHome Team: Holanda\nAway Team: San Jeronimo\nHome Score: 2\nAway S
 core: 3
END:VEVENT
END:VCALENDAR
