BEGIN:VCALENDAR
VERSION:2.0
PRODID:-//EZFacility.com, Inc.//EZL 2.5.5.28621
BEGIN:VEVENT
UID:16305437@ezleagues.ezfacility.com
DTSTAMP:20260421T080844Z
CREATED:20260421T080844Z
DTSTART:20250405T150000Z
DTEND:20250405T160000Z
LOCATION:North Gym
CONTACT:
SUMMARY:Japan VS. Germany
DESCRIPTION:League Name: Youth Indoor Soccer 2025\nGame Type: Regular\nGame
  Status: Pending\nHome Team: Japan\nAway Team: Germany\n
END:VEVENT
BEGIN:VEVENT
UID:16305439@ezleagues.ezfacility.com
DTSTAMP:20260421T080844Z
CREATED:20260421T080844Z
DTSTART:20250412T150000Z
DTEND:20250412T160000Z
LOCATION:North Gym
CONTACT:
SUMMARY:Germany VS. Brazil
DESCRIPTION:League Name: Youth Indoor Soccer 2025\nGame Type: Regular\nGame
  Status: Pending\nHome Team: Germany\nAway Team: Brazil\n
END:VEVENT
BEGIN:VEVENT
UID:16305440@ezleagues.ezfacility.com
DTSTAMP:20260421T080844Z
CREATED:20260421T080844Z
DTSTART:20250419T140000Z
DTEND:20250419T150000Z
LOCATION:North Gym
CONTACT:
SUMMARY:Australia VS. Germany
DESCRIPTION:League Name: Youth Indoor Soccer 2025\nGame Type: Regular\nGame
  Status: Pending\nHome Team: Australia\nAway Team: Germany\n
END:VEVENT
BEGIN:VEVENT
UID:16305443@ezleagues.ezfacility.com
DTSTAMP:20260421T080844Z
CREATED:20260421T080844Z
DTSTART:20250503T140000Z
DTEND:20250503T150000Z
LOCATION:North Gym
CONTACT:
SUMMARY:Germany VS. Japan
DESCRIPTION:League Name: Youth Indoor Soccer 2025\nGame Type: Regular\nGame
  Status: Pending\nHome Team: Germany\nAway Team: Japan\n
END:VEVENT
BEGIN:VEVENT
UID:16305445@ezleagues.ezfacility.com
DTSTAMP:20260421T080844Z
CREATED:20260421T080844Z
DTSTART:20250510T140000Z
DTEND:20250510T150000Z
LOCATION:North Gym
CONTACT:
SUMMARY:Brazil VS. Germany
DESCRIPTION:League Name: Youth Indoor Soccer 2025\nGame Type: Regular\nGame
  Status: Pending\nHome Team: Brazil\nAway Team: Germany\n
END:VEVENT
BEGIN:VEVENT
UID:16305446@ezleagues.ezfacility.com
DTSTAMP:20260421T080844Z
CREATED:20260421T080844Z
DTSTART:20250517T150000Z
DTEND:20250517T160000Z
LOCATION:North Gym
CONTACT:
SUMMARY:Germany VS. Australia
DESCRIPTION:League Name: Youth Indoor Soccer 2025\nGame Type: Regular\nGame
  Status: Pending\nHome Team: Germany\nAway Team: Australia\n
END:VEVENT
END:VCALENDAR
