BEGIN:VCALENDAR
VERSION:2.0
PRODID:-//EZFacility.com, Inc.//EZL 2.5.5.28621
BEGIN:VEVENT
UID:16308933@ezleagues.ezfacility.com
DTSTAMP:20260422T225647Z
CREATED:20260422T225647Z
DTSTART:20250323T190000Z
DTEND:20250323T200000Z
LOCATION:Field 1
CONTACT:
SUMMARY:Team 22 VS. Team 25
DESCRIPTION:League Name: Summer/ Spring 2025\nGame Type: Regular\nGame Stat
 us: Pending\nHome Team: Team 22\nAway Team: Team 25\n
END:VEVENT
BEGIN:VEVENT
UID:16309053@ezleagues.ezfacility.com
DTSTAMP:20260422T225647Z
CREATED:20260422T225647Z
DTSTART:20250330T160000Z
DTEND:20250330T170000Z
LOCATION:Field 2
CONTACT:
SUMMARY:Team 18 VS. Team 25
DESCRIPTION:League Name: Summer/ Spring 2025\nGame Type: Regular\nGame Stat
 us: Pending\nHome Team: Team 18\nAway Team: Team 25\n
END:VEVENT
BEGIN:VEVENT
UID:16309179@ezleagues.ezfacility.com
DTSTAMP:20260422T225647Z
CREATED:20260422T225647Z
DTSTART:20250406T170000Z
DTEND:20250406T180000Z
LOCATION:Court 2
CONTACT:
SUMMARY:Team 25 VS. Team 14
DESCRIPTION:League Name: Summer/ Spring 2025\nGame Type: Regular\nGame Stat
 us: Pending\nHome Team: Team 25\nAway Team: Team 14\n
END:VEVENT
BEGIN:VEVENT
UID:16309007@ezleagues.ezfacility.com
DTSTAMP:20260422T225647Z
CREATED:20260422T225647Z
DTSTART:20250415T223000Z
DTEND:20250415T233000Z
LOCATION:Field 1
CONTACT:
SUMMARY:Team 25 VS. Team 10
DESCRIPTION:League Name: Summer/ Spring 2025\nGame Type: Regular\nGame Stat
 us: Pending\nHome Team: Team 25\nAway Team: Team 10\n
END:VEVENT
BEGIN:VEVENT
UID:16309308@ezleagues.ezfacility.com
DTSTAMP:20260422T225647Z
CREATED:20260422T225647Z
DTSTART:20250415T223000Z
DTEND:20250415T233000Z
LOCATION:Field 1
CONTACT:
SUMMARY:Team 25 VS. Team 10
DESCRIPTION:League Name: Summer/ Spring 2025\nGame Type: Regular\nGame Stat
 us: Pending\nHome Team: Team 25\nAway Team: Team 10\n
END:VEVENT
BEGIN:VEVENT
UID:16309425@ezleagues.ezfacility.com
DTSTAMP:20260422T225647Z
CREATED:20260422T225647Z
DTSTART:20250420T180000Z
DTEND:20250420T190000Z
LOCATION:Court 1
CONTACT:
SUMMARY:Team 25 VS. Team 06
DESCRIPTION:League Name: Summer/ Spring 2025\nGame Type: Regular\nGame Stat
 us: Pending\nHome Team: Team 25\nAway Team: Team 06\n
END:VEVENT
BEGIN:VEVENT
UID:16309146@ezleagues.ezfacility.com
DTSTAMP:20260422T225647Z
CREATED:20260422T225647Z
DTSTART:20250420T180000Z
DTEND:20250420T190000Z
LOCATION:Court 1
CONTACT:
SUMMARY:Team 25 VS. Team 06
DESCRIPTION:League Name: Summer/ Spring 2025\nGame Type: Regular\nGame Stat
 us: Pending\nHome Team: Team 25\nAway Team: Team 06\n
END:VEVENT
BEGIN:VEVENT
UID:16309268@ezleagues.ezfacility.com
DTSTAMP:20260422T225647Z
CREATED:20260422T225647Z
DTSTART:20250429T223000Z
DTEND:20250429T233000Z
LOCATION:Court 2
CONTACT:
SUMMARY:Team 25 VS. Team 02
DESCRIPTION:League Name: Summer/ Spring 2025\nGame Type: Regular\nGame Stat
 us: Pending\nHome Team: Team 25\nAway Team: Team 02\n
END:VEVENT
BEGIN:VEVENT
UID:16309561@ezleagues.ezfacility.com
DTSTAMP:20260422T225647Z
CREATED:20260422T225647Z
DTSTART:20250429T223000Z
DTEND:20250429T233000Z
LOCATION:Court 2
CONTACT:
SUMMARY:Team 25 VS. Team 02
DESCRIPTION:League Name: Summer/ Spring 2025\nGame Type: Regular\nGame Stat
 us: Pending\nHome Team: Team 25\nAway Team: Team 02\n
END:VEVENT
BEGIN:VEVENT
UID:16309407@ezleagues.ezfacility.com
DTSTAMP:20260422T225647Z
CREATED:20260422T225647Z
DTSTART:20250504T200000Z
DTEND:20250504T210000Z
LOCATION:Court 5
CONTACT:
SUMMARY:Team 05 VS. Team 25
DESCRIPTION:League Name: Summer/ Spring 2025\nGame Type: Regular\nGame Stat
 us: Pending\nHome Team: Team 05\nAway Team: Team 25\n
END:VEVENT
BEGIN:VEVENT
UID:16309699@ezleagues.ezfacility.com
DTSTAMP:20260422T225647Z
CREATED:20260422T225647Z
DTSTART:20250504T200000Z
DTEND:20250504T210000Z
LOCATION:Court 5
CONTACT:
SUMMARY:Team 05 VS. Team 25
DESCRIPTION:League Name: Summer/ Spring 2025\nGame Type: Regular\nGame Stat
 us: Pending\nHome Team: Team 05\nAway Team: Team 25\n
END:VEVENT
BEGIN:VEVENT
UID:16309529@ezleagues.ezfacility.com
DTSTAMP:20260422T225647Z
CREATED:20260422T225647Z
DTSTART:20250511T233000Z
DTEND:20250512T003000Z
LOCATION:Court 4
CONTACT:
SUMMARY:Team 09 VS. Team 25
DESCRIPTION:League Name: Summer/ Spring 2025\nGame Type: Regular\nGame Stat
 us: Pending\nHome Team: Team 09\nAway Team: Team 25\n
END:VEVENT
BEGIN:VEVENT
UID:16309773@ezleagues.ezfacility.com
DTSTAMP:20260422T225647Z
CREATED:20260422T225647Z
DTSTART:20250511T233000Z
DTEND:20250512T003000Z
LOCATION:Court 4
CONTACT:
SUMMARY:Team 09 VS. Team 25
DESCRIPTION:League Name: Summer/ Spring 2025\nGame Type: Regular\nGame Stat
 us: Pending\nHome Team: Team 09\nAway Team: Team 25\n
END:VEVENT
END:VCALENDAR
