BEGIN:VCALENDAR
VERSION:2.0
PRODID:-//EZFacility.com, Inc.//EZL 2.5.5.28621
BEGIN:VEVENT
UID:16308998@ezleagues.ezfacility.com
DTSTAMP:20260419T140212Z
CREATED:20260419T140212Z
DTSTART:20250323T223000Z
DTEND:20250323T233000Z
LOCATION:Court 4
CONTACT:
SUMMARY:Team 90 VS. Team 93
DESCRIPTION:League Name: Summer/ Spring 2025\nGame Type: Regular\nGame Stat
 us: Pending\nHome Team: Team 90\nAway Team: Team 93\n
END:VEVENT
BEGIN:VEVENT
UID:16309116@ezleagues.ezfacility.com
DTSTAMP:20260419T140212Z
CREATED:20260419T140212Z
DTSTART:20250330T200000Z
DTEND:20250330T210000Z
LOCATION:Court 3
CONTACT:
SUMMARY:Team 86 VS. Team 93
DESCRIPTION:League Name: Summer/ Spring 2025\nGame Type: Regular\nGame Stat
 us: Pending\nHome Team: Team 86\nAway Team: Team 93\n
END:VEVENT
BEGIN:VEVENT
UID:16308942@ezleagues.ezfacility.com
DTSTAMP:20260419T140212Z
CREATED:20260419T140212Z
DTSTART:20250406T160000Z
DTEND:20250406T170000Z
LOCATION:Court 5
CONTACT:
SUMMARY:Team 93 VS. Team 82
DESCRIPTION:League Name: Summer/ Spring 2025\nGame Type: Regular\nGame Stat
 us: Pending\nHome Team: Team 93\nAway Team: Team 82\n
END:VEVENT
BEGIN:VEVENT
UID:16309246@ezleagues.ezfacility.com
DTSTAMP:20260419T140212Z
CREATED:20260419T140212Z
DTSTART:20250406T160000Z
DTEND:20250406T170000Z
LOCATION:Court 5
CONTACT:
SUMMARY:Team 93 VS. Team 82
DESCRIPTION:League Name: Summer/ Spring 2025\nGame Type: Regular\nGame Stat
 us: Pending\nHome Team: Team 93\nAway Team: Team 82\n
END:VEVENT
BEGIN:VEVENT
UID:16309083@ezleagues.ezfacility.com
DTSTAMP:20260419T140212Z
CREATED:20260419T140212Z
DTSTART:20250413T170000Z
DTEND:20250413T180000Z
LOCATION:Court 2
CONTACT:
SUMMARY:Team 93 VS. Team 78
DESCRIPTION:League Name: Summer/ Spring 2025\nGame Type: Regular\nGame Stat
 us: Pending\nHome Team: Team 93\nAway Team: Team 78\n
END:VEVENT
BEGIN:VEVENT
UID:16309369@ezleagues.ezfacility.com
DTSTAMP:20260419T140212Z
CREATED:20260419T140212Z
DTSTART:20250413T170000Z
DTEND:20250413T180000Z
LOCATION:Court 2
CONTACT:
SUMMARY:Team 93 VS. Team 78
DESCRIPTION:League Name: Summer/ Spring 2025\nGame Type: Regular\nGame Stat
 us: Pending\nHome Team: Team 93\nAway Team: Team 78\n
END:VEVENT
BEGIN:VEVENT
UID:16309499@ezleagues.ezfacility.com
DTSTAMP:20260419T140212Z
CREATED:20260419T140212Z
DTSTART:20250420T180000Z
DTEND:20250420T190000Z
LOCATION:Field 2
CONTACT:
SUMMARY:Team 93 VS. Team 74
DESCRIPTION:League Name: Summer/ Spring 2025\nGame Type: Regular\nGame Stat
 us: Pending\nHome Team: Team 93\nAway Team: Team 74\n
END:VEVENT
BEGIN:VEVENT
UID:16309211@ezleagues.ezfacility.com
DTSTAMP:20260419T140212Z
CREATED:20260419T140212Z
DTSTART:20250420T180000Z
DTEND:20250420T190000Z
LOCATION:Field 2
CONTACT:
SUMMARY:Team 93 VS. Team 74
DESCRIPTION:League Name: Summer/ Spring 2025\nGame Type: Regular\nGame Stat
 us: Pending\nHome Team: Team 93\nAway Team: Team 74\n
END:VEVENT
BEGIN:VEVENT
UID:16309342@ezleagues.ezfacility.com
DTSTAMP:20260419T140212Z
CREATED:20260419T140212Z
DTSTART:20250427T233000Z
DTEND:20250428T003000Z
LOCATION:Court 2
CONTACT:
SUMMARY:Team 93 VS. Team 70
DESCRIPTION:League Name: Summer/ Spring 2025\nGame Type: Regular\nGame Stat
 us: Pending\nHome Team: Team 93\nAway Team: Team 70\n
END:VEVENT
BEGIN:VEVENT
UID:16309631@ezleagues.ezfacility.com
DTSTAMP:20260419T140212Z
CREATED:20260419T140212Z
DTSTART:20250427T233000Z
DTEND:20250428T003000Z
LOCATION:Court 2
CONTACT:
SUMMARY:Team 93 VS. Team 70
DESCRIPTION:League Name: Summer/ Spring 2025\nGame Type: Regular\nGame Stat
 us: Pending\nHome Team: Team 93\nAway Team: Team 70\n
END:VEVENT
BEGIN:VEVENT
UID:16309471@ezleagues.ezfacility.com
DTSTAMP:20260419T140212Z
CREATED:20260419T140212Z
DTSTART:20250505T003000Z
DTEND:20250505T013000Z
LOCATION:Field 1
CONTACT:
SUMMARY:Team 66 VS. Team 93
DESCRIPTION:League Name: Summer/ Spring 2025\nGame Type: Regular\nGame Stat
 us: Pending\nHome Team: Team 66\nAway Team: Team 93\n
END:VEVENT
BEGIN:VEVENT
UID:16309743@ezleagues.ezfacility.com
DTSTAMP:20260419T140212Z
CREATED:20260419T140212Z
DTSTART:20250505T003000Z
DTEND:20250505T013000Z
LOCATION:Field 1
CONTACT:
SUMMARY:Team 66 VS. Team 93
DESCRIPTION:League Name: Summer/ Spring 2025\nGame Type: Regular\nGame Stat
 us: Pending\nHome Team: Team 66\nAway Team: Team 93\n
END:VEVENT
BEGIN:VEVENT
UID:16309595@ezleagues.ezfacility.com
DTSTAMP:20260419T140212Z
CREATED:20260419T140212Z
DTSTART:20250511T190000Z
DTEND:20250511T200000Z
LOCATION:Court 1
CONTACT:
SUMMARY:Team 62 VS. Team 93
DESCRIPTION:League Name: Summer/ Spring 2025\nGame Type: Regular\nGame Stat
 us: Pending\nHome Team: Team 62\nAway Team: Team 93\n
END:VEVENT
BEGIN:VEVENT
UID:16309807@ezleagues.ezfacility.com
DTSTAMP:20260419T140212Z
CREATED:20260419T140212Z
DTSTART:20250511T190000Z
DTEND:20250511T200000Z
LOCATION:Court 1
CONTACT:
SUMMARY:Team 62 VS. Team 93
DESCRIPTION:League Name: Summer/ Spring 2025\nGame Type: Regular\nGame Stat
 us: Pending\nHome Team: Team 62\nAway Team: Team 93\n
END:VEVENT
END:VCALENDAR
