BEGIN:VCALENDAR
VERSION:2.0
PRODID:-//EZFacility.com, Inc.//EZL 2.5.5.28621
BEGIN:VEVENT
UID:16309841@ezleagues.ezfacility.com
DTSTAMP:20260424T044024Z
CREATED:20260424T044024Z
DTSTART:20250325T210000Z
DTEND:20250325T220000Z
LOCATION:Court 2
CONTACT:
SUMMARY:Team 12 VS. Team 15
DESCRIPTION:League Name: 1  1  2\nGame Type: Regular\nGame Status: Pending\
 nHome Team: Team 12\nAway Team: Team 15\n
END:VEVENT
BEGIN:VEVENT
UID:16309892@ezleagues.ezfacility.com
DTSTAMP:20260424T044024Z
CREATED:20260424T044024Z
DTSTART:20250401T190000Z
DTEND:20250401T200000Z
LOCATION:Field 1
CONTACT:
SUMMARY:Team 12 VS. Team 19
DESCRIPTION:League Name: 1  1  2\nGame Type: Regular\nGame Status: Pending\
 nHome Team: Team 12\nAway Team: Team 19\n
END:VEVENT
BEGIN:VEVENT
UID:16309943@ezleagues.ezfacility.com
DTSTAMP:20260424T044024Z
CREATED:20260424T044024Z
DTSTART:20250408T180000Z
DTEND:20250408T190000Z
LOCATION:Court 4
CONTACT:
SUMMARY:Team 23 VS. Team 12
DESCRIPTION:League Name: 1  1  2\nGame Type: Regular\nGame Status: Pending\
 nHome Team: Team 23\nAway Team: Team 12\n
END:VEVENT
BEGIN:VEVENT
UID:16309994@ezleagues.ezfacility.com
DTSTAMP:20260424T044024Z
CREATED:20260424T044024Z
DTSTART:20250415T170000Z
DTEND:20250415T180000Z
LOCATION:Court 5
CONTACT:
SUMMARY:Team 27 VS. Team 12
DESCRIPTION:League Name: 1  1  2\nGame Type: Regular\nGame Status: Pending\
 nHome Team: Team 27\nAway Team: Team 12\n
END:VEVENT
BEGIN:VEVENT
UID:16310045@ezleagues.ezfacility.com
DTSTAMP:20260424T044024Z
CREATED:20260424T044024Z
DTSTART:20250422T200000Z
DTEND:20250422T210000Z
LOCATION:Court 6
CONTACT:
SUMMARY:Team 31 VS. Team 12
DESCRIPTION:League Name: 1  1  2\nGame Type: Regular\nGame Status: Pending\
 nHome Team: Team 31\nAway Team: Team 12\n
END:VEVENT
BEGIN:VEVENT
UID:16310097@ezleagues.ezfacility.com
DTSTAMP:20260424T044024Z
CREATED:20260424T044024Z
DTSTART:20250429T180000Z
DTEND:20250429T190000Z
LOCATION:Court 7
CONTACT:
SUMMARY:Team 35 VS. Team 12
DESCRIPTION:League Name: 1  1  2\nGame Type: Regular\nGame Status: Pending\
 nHome Team: Team 35\nAway Team: Team 12\n
END:VEVENT
BEGIN:VEVENT
UID:16310148@ezleagues.ezfacility.com
DTSTAMP:20260424T044024Z
CREATED:20260424T044024Z
DTSTART:20250506T170000Z
DTEND:20250506T180000Z
LOCATION:Court 1
CONTACT:
SUMMARY:Team 12 VS. Team 39
DESCRIPTION:League Name: 1  1  2\nGame Type: Regular\nGame Status: Pending\
 nHome Team: Team 12\nAway Team: Team 39\n
END:VEVENT
BEGIN:VEVENT
UID:16310199@ezleagues.ezfacility.com
DTSTAMP:20260424T044024Z
CREATED:20260424T044024Z
DTSTART:20250513T190000Z
DTEND:20250513T200000Z
LOCATION:Court 5
CONTACT:
SUMMARY:Team 12 VS. Team 43
DESCRIPTION:League Name: 1  1  2\nGame Type: Regular\nGame Status: Pending\
 nHome Team: Team 12\nAway Team: Team 43\n
END:VEVENT
END:VCALENDAR
