BEGIN:VCALENDAR
VERSION:2.0
PRODID:-//EZFacility.com, Inc.//EZL 2.5.5.28621
BEGIN:VEVENT
UID:16309870@ezleagues.ezfacility.com
DTSTAMP:20260420T190103Z
CREATED:20260420T190103Z
DTSTART:20250325T190000Z
DTEND:20250325T200000Z
LOCATION:Court 7
CONTACT:
SUMMARY:Team 70 VS. Team 73
DESCRIPTION:League Name: 1  1  2\nGame Type: Regular\nGame Status: Pending\
 nHome Team: Team 70\nAway Team: Team 73\n
END:VEVENT
BEGIN:VEVENT
UID:16309919@ezleagues.ezfacility.com
DTSTAMP:20260420T190103Z
CREATED:20260420T190103Z
DTSTART:20250401T210000Z
DTEND:20250401T220000Z
LOCATION:Court 6
CONTACT:
SUMMARY:Team 66 VS. Team 73
DESCRIPTION:League Name: 1  1  2\nGame Type: Regular\nGame Status: Pending\
 nHome Team: Team 66\nAway Team: Team 73\n
END:VEVENT
BEGIN:VEVENT
UID:16309968@ezleagues.ezfacility.com
DTSTAMP:20260420T190103Z
CREATED:20260420T190103Z
DTSTART:20250408T170000Z
DTEND:20250408T180000Z
LOCATION:Court 5
CONTACT:
SUMMARY:Team 73 VS. Team 62
DESCRIPTION:League Name: 1  1  2\nGame Type: Regular\nGame Status: Pending\
 nHome Team: Team 73\nAway Team: Team 62\n
END:VEVENT
BEGIN:VEVENT
UID:16310017@ezleagues.ezfacility.com
DTSTAMP:20260420T190103Z
CREATED:20260420T190103Z
DTSTART:20250415T180000Z
DTEND:20250415T190000Z
LOCATION:Court 8
CONTACT:
SUMMARY:Team 73 VS. Team 58
DESCRIPTION:League Name: 1  1  2\nGame Type: Regular\nGame Status: Pending\
 nHome Team: Team 73\nAway Team: Team 58\n
END:VEVENT
BEGIN:VEVENT
UID:16310066@ezleagues.ezfacility.com
DTSTAMP:20260420T190103Z
CREATED:20260420T190103Z
DTSTART:20250422T200000Z
DTEND:20250422T210000Z
LOCATION:Court 3
CONTACT:
SUMMARY:Team 73 VS. Team 54
DESCRIPTION:League Name: 1  1  2\nGame Type: Regular\nGame Status: Pending\
 nHome Team: Team 73\nAway Team: Team 54\n
END:VEVENT
BEGIN:VEVENT
UID:16310116@ezleagues.ezfacility.com
DTSTAMP:20260420T190103Z
CREATED:20260420T190103Z
DTSTART:20250429T170000Z
DTEND:20250429T180000Z
LOCATION:Court 2
CONTACT:
SUMMARY:Team 73 VS. Team 50
DESCRIPTION:League Name: 1  1  2\nGame Type: Regular\nGame Status: Pending\
 nHome Team: Team 73\nAway Team: Team 50\n
END:VEVENT
BEGIN:VEVENT
UID:16310165@ezleagues.ezfacility.com
DTSTAMP:20260420T190103Z
CREATED:20260420T190103Z
DTSTART:20250506T210000Z
DTEND:20250506T220000Z
LOCATION:Court 1
CONTACT:
SUMMARY:Team 46 VS. Team 73
DESCRIPTION:League Name: 1  1  2\nGame Type: Regular\nGame Status: Pending\
 nHome Team: Team 46\nAway Team: Team 73\n
END:VEVENT
BEGIN:VEVENT
UID:16310221@ezleagues.ezfacility.com
DTSTAMP:20260420T190103Z
CREATED:20260420T190103Z
DTSTART:20250513T180000Z
DTEND:20250513T190000Z
LOCATION:Field 1
CONTACT:
SUMMARY:Team 42 VS. Team 73
DESCRIPTION:League Name: 1  1  2\nGame Type: Regular\nGame Status: Pending\
 nHome Team: Team 42\nAway Team: Team 73\n
END:VEVENT
END:VCALENDAR
