BEGIN:VCALENDAR
VERSION:2.0
PRODID:-//EZFacility.com, Inc.//EZL 2.5.5.28621
BEGIN:VEVENT
UID:16414064@ezleagues.ezfacility.com
DTSTAMP:20260419T234021Z
CREATED:20260419T234021Z
DTSTART:20250504T020000Z
DTEND:20250504T030000Z
LOCATION:Jessup Premier Field #2
CONTACT:
SUMMARY:Arsenal VS. Internacional
DESCRIPTION:League Name: Sat Mens Open 1st div \nGame Type: Regular\nGame S
 tatus: Complete\nHome Team: Arsenal\nAway Team: Internacional\nHome Score:
  0\nAway Score: 8
END:VEVENT
BEGIN:VEVENT
UID:16414073@ezleagues.ezfacility.com
DTSTAMP:20260419T234021Z
CREATED:20260419T234021Z
DTSTART:20250511T010000Z
DTEND:20250511T020000Z
LOCATION:Jessup Premier Field #2
CONTACT:
SUMMARY:Deportivo Palestina VS. Arsenal
DESCRIPTION:League Name: Sat Mens Open 1st div \nGame Type: Regular\nGame S
 tatus: Complete\nHome Team: Deportivo Palestina\nAway Team: Arsenal\nHome 
 Score: 2\nAway Score: 6
END:VEVENT
BEGIN:VEVENT
UID:16414084@ezleagues.ezfacility.com
DTSTAMP:20260419T234021Z
CREATED:20260419T234021Z
DTSTART:20250517T230000Z
DTEND:20250518T000000Z
LOCATION:Jessup Premier Field #1
CONTACT:
SUMMARY:Arsenal VS. Insufribles 1202
DESCRIPTION:League Name: Sat Mens Open 1st div \nGame Type: Regular\nGame S
 tatus: Complete\nHome Team: Arsenal\nAway Team: Insufribles 1202\nHome Sco
 re: 7\nAway Score: 4
END:VEVENT
BEGIN:VEVENT
UID:16414095@ezleagues.ezfacility.com
DTSTAMP:20260419T234021Z
CREATED:20260419T234021Z
DTSTART:20250525T010000Z
DTEND:20250525T020000Z
LOCATION:Jessup Premier Field #1
CONTACT:
SUMMARY:Arsenal VS. Chelsea
DESCRIPTION:League Name: Sat Mens Open 1st div \nGame Type: Regular\nGame S
 tatus: Complete\nHome Team: Arsenal\nAway Team: Chelsea\nHome Score: 8\nAw
 ay Score: 4
END:VEVENT
BEGIN:VEVENT
UID:16414105@ezleagues.ezfacility.com
DTSTAMP:20260419T234021Z
CREATED:20260419T234021Z
DTSTART:20250601T020000Z
DTEND:20250601T030000Z
LOCATION:Jessup Premier Field #2
CONTACT:
SUMMARY:SONSONATE VS. Arsenal
DESCRIPTION:League Name: Sat Mens Open 1st div \nGame Type: Regular\nGame S
 tatus: Complete\nHome Team: SONSONATE\nAway Team: Arsenal\nHome Score: 2\n
 Away Score: 6
END:VEVENT
BEGIN:VEVENT
UID:16414114@ezleagues.ezfacility.com
DTSTAMP:20260419T234021Z
CREATED:20260419T234021Z
DTSTART:20250608T030000Z
DTEND:20250608T040000Z
LOCATION:Jessup Premier Field #1
CONTACT:
SUMMARY:Internacional VS. Arsenal
DESCRIPTION:League Name: Sat Mens Open 1st div \nGame Type: Regular\nGame S
 tatus: Complete\nHome Team: Internacional\nAway Team: Arsenal\nHome Score:
  5\nAway Score: 6
END:VEVENT
BEGIN:VEVENT
UID:16414123@ezleagues.ezfacility.com
DTSTAMP:20260419T234021Z
CREATED:20260419T234021Z
DTSTART:20250615T010000Z
DTEND:20250615T020000Z
LOCATION:Jessup Premier Field #1
CONTACT:
SUMMARY:Arsenal VS. Deportivo Palestina
DESCRIPTION:League Name: Sat Mens Open 1st div \nGame Type: Regular\nGame S
 tatus: Complete\nHome Team: Arsenal\nAway Team: Deportivo Palestina\nHome 
 Score: 3\nAway Score: 0
END:VEVENT
BEGIN:VEVENT
UID:16520002@ezleagues.ezfacility.com
DTSTAMP:20260419T234021Z
CREATED:20260419T234021Z
DTSTART:20250622T010000Z
DTEND:20250622T014800Z
LOCATION:Jessup Premier Field #1
CONTACT:
SUMMARY:Arsenal VS. Chelsea
DESCRIPTION:League Name: Sat Mens Open 1st div \nGame Type: Regular\nGame S
 tatus: Complete\nHome Team: Arsenal\nAway Team: Chelsea\nHome Score: 6\nAw
 ay Score: 0
END:VEVENT
BEGIN:VEVENT
UID:16533196@ezleagues.ezfacility.com
DTSTAMP:20260419T234021Z
CREATED:20260419T234021Z
DTSTART:20250629T010000Z
DTEND:20250629T014800Z
LOCATION:Jessup Premier Field #1
CONTACT:
SUMMARY:Insufribles 1202 VS. Arsenal
DESCRIPTION:League Name: Sat Mens Open 1st div \nGame Type: Regular\nGame S
 tatus: Complete\nHome Team: Insufribles 1202\nAway Team: Arsenal\nHome Sco
 re: 4\nAway Score: 3
END:VEVENT
END:VCALENDAR
