BEGIN:VCALENDAR
VERSION:2.0
PRODID:-//EZFacility.com, Inc.//EZL 2.5.5.28621
BEGIN:VEVENT
UID:16431110@ezleagues.ezfacility.com
DTSTAMP:20260424T044340Z
CREATED:20260424T044340Z
DTSTART:20250520T031000Z
DTEND:20250520T040000Z
LOCATION:Harmans Premier Field #4
CONTACT:
SUMMARY:Chelsea FC VS. Madrid FC
DESCRIPTION:League Name: Mon Mens Open 1st div \nGame Type: Regular\nGame S
 tatus: Complete\nHome Team: Chelsea FC\nAway Team: Madrid FC\nHome Score: 
 7\nAway Score: 7
END:VEVENT
BEGIN:VEVENT
UID:16431135@ezleagues.ezfacility.com
DTSTAMP:20260424T044340Z
CREATED:20260424T044340Z
DTSTART:20250603T031000Z
DTEND:20250603T040000Z
LOCATION:Harmans Premier Field #5
CONTACT:
SUMMARY:Class XI VS. Madrid FC
DESCRIPTION:League Name: Mon Mens Open 1st div \nGame Type: Regular\nGame S
 tatus: Complete\nHome Team: Class XI\nAway Team: Madrid FC\nHome Score: 4\
 nAway Score: 2
END:VEVENT
BEGIN:VEVENT
UID:16431146@ezleagues.ezfacility.com
DTSTAMP:20260424T044340Z
CREATED:20260424T044340Z
DTSTART:20250610T031000Z
DTEND:20250610T040000Z
LOCATION:Harmans Premier Field #5
CONTACT:
SUMMARY:Los Reales 2.0 VS. Madrid FC
DESCRIPTION:League Name: Mon Mens Open 1st div \nGame Type: Regular\nGame S
 tatus: Complete\nHome Team: Los Reales 2.0\nAway Team: Madrid FC\nHome Sco
 re: 10\nAway Score: 4
END:VEVENT
BEGIN:VEVENT
UID:16431157@ezleagues.ezfacility.com
DTSTAMP:20260424T044340Z
CREATED:20260424T044340Z
DTSTART:20250617T031000Z
DTEND:20250617T040000Z
LOCATION:Harmans Premier Field #4
CONTACT:
SUMMARY:Madrid FC VS. Leon
DESCRIPTION:League Name: Mon Mens Open 1st div \nGame Type: Regular\nGame S
 tatus: Complete\nHome Team: Madrid FC\nAway Team: Leon\nHome Score: 9\nAwa
 y Score: 3
END:VEVENT
BEGIN:VEVENT
UID:16431170@ezleagues.ezfacility.com
DTSTAMP:20260424T044340Z
CREATED:20260424T044340Z
DTSTART:20250624T031000Z
DTEND:20250624T040000Z
LOCATION:Harmans Premier Field #4
CONTACT:
SUMMARY:Madrid FC VS. Chelsea FC
DESCRIPTION:League Name: Mon Mens Open 1st div \nGame Type: Regular\nGame S
 tatus: Complete\nHome Team: Madrid FC\nAway Team: Chelsea FC\nHome Score: 
 2\nAway Score: 5
END:VEVENT
BEGIN:VEVENT
UID:16431183@ezleagues.ezfacility.com
DTSTAMP:20260424T044340Z
CREATED:20260424T044340Z
DTSTART:20250701T031000Z
DTEND:20250701T040000Z
LOCATION:Harmans Premier Field #4
CONTACT:
SUMMARY:Madrid FC VS. LDU
DESCRIPTION:League Name: Mon Mens Open 1st div \nGame Type: Regular\nGame S
 tatus: Complete\nHome Team: Madrid FC\nAway Team: LDU\nHome Score: 4\nAway
  Score: 5
END:VEVENT
BEGIN:VEVENT
UID:16431123@ezleagues.ezfacility.com
DTSTAMP:20260424T044340Z
CREATED:20260424T044340Z
DTSTART:20250708T031000Z
DTEND:20250708T040000Z
LOCATION:Harmans Premier Field #4
CONTACT:
SUMMARY:LDU VS. Madrid FC
DESCRIPTION:League Name: Mon Mens Open 1st div \nGame Type: Regular\nGame S
 tatus: Complete\nHome Team: LDU\nAway Team: Madrid FC\nHome Score: 4\nAway
  Score: 2
END:VEVENT
BEGIN:VEVENT
UID:16553113@ezleagues.ezfacility.com
DTSTAMP:20260424T044340Z
CREATED:20260424T044340Z
DTSTART:20250715T031000Z
DTEND:20250715T040000Z
LOCATION:Harmans Premier Field #4
CONTACT:
SUMMARY:Madrid FC VS. Leon
DESCRIPTION:League Name: Mon Mens Open 1st div \nGame Type: Regular\nGame S
 tatus: Complete\nHome Team: Madrid FC\nAway Team: Leon\nHome Score: 8\nAwa
 y Score: 4
END:VEVENT
BEGIN:VEVENT
UID:16557027@ezleagues.ezfacility.com
DTSTAMP:20260424T044340Z
CREATED:20260424T044340Z
DTSTART:20250722T031000Z
DTEND:20250722T040000Z
LOCATION:Harmans Premier Field #4
CONTACT:
SUMMARY:LDU VS. Madrid FC
DESCRIPTION:League Name: Mon Mens Open 1st div \nGame Type: Regular\nGame S
 tatus: Complete\nHome Team: LDU\nAway Team: Madrid FC\nHome Score: 1\nAway
  Score: 5
END:VEVENT
END:VCALENDAR
