BEGIN:VCALENDAR
VERSION:2.0
PRODID:-//EZFacility.com, Inc.//EZL 2.5.5.28621
BEGIN:VEVENT
UID:16431119@ezleagues.ezfacility.com
DTSTAMP:20260426T033811Z
CREATED:20260426T033811Z
DTSTART:20250520T031000Z
DTEND:20250520T040000Z
LOCATION:Harmans Premier Field #5
CONTACT:
SUMMARY:Average Joe's FC VS. Estilo Mino
DESCRIPTION:League Name: Mon Mens Open 3rd div \nGame Type: Regular\nGame S
 tatus: Complete\nHome Team: Average Joe's FC\nAway Team: Estilo Mino\nHome
  Score: 7\nAway Score: 5
END:VEVENT
BEGIN:VEVENT
UID:16431141@ezleagues.ezfacility.com
DTSTAMP:20260426T033811Z
CREATED:20260426T033811Z
DTSTART:20250603T031000Z
DTEND:20250603T040000Z
LOCATION:Harmans Premier Field #4
CONTACT:
SUMMARY:Estilo Mino VS. Sporting FC
DESCRIPTION:League Name: Mon Mens Open 3rd div \nGame Type: Regular\nGame S
 tatus: Complete\nHome Team: Estilo Mino\nAway Team: Sporting FC\nHome Scor
 e: 2\nAway Score: 10
END:VEVENT
BEGIN:VEVENT
UID:16431154@ezleagues.ezfacility.com
DTSTAMP:20260426T033811Z
CREATED:20260426T033811Z
DTSTART:20250610T031000Z
DTEND:20250610T040000Z
LOCATION:Harmans Premier Field #4
CONTACT:
SUMMARY:Estilo Mino VS. Allstars FC
DESCRIPTION:League Name: Mon Mens Open 3rd div \nGame Type: Regular\nGame S
 tatus: Complete\nHome Team: Estilo Mino\nAway Team: Allstars FC\nHome Scor
 e: 2\nAway Score: 7
END:VEVENT
BEGIN:VEVENT
UID:16431167@ezleagues.ezfacility.com
DTSTAMP:20260426T033811Z
CREATED:20260426T033811Z
DTSTART:20250617T031000Z
DTEND:20250617T040000Z
LOCATION:Harmans Premier Field #5
CONTACT:
SUMMARY:Estilo Mino VS. El Chal FC
DESCRIPTION:League Name: Mon Mens Open 3rd div \nGame Type: Regular\nGame S
 tatus: Complete\nHome Team: Estilo Mino\nAway Team: El Chal FC\nHome Score
 : 1\nAway Score: 5
END:VEVENT
BEGIN:VEVENT
UID:16431180@ezleagues.ezfacility.com
DTSTAMP:20260426T033811Z
CREATED:20260426T033811Z
DTSTART:20250624T031000Z
DTEND:20250624T040000Z
LOCATION:Harmans Premier Field #5
CONTACT:
SUMMARY:Estilo Mino VS. Dirty Dena FC
DESCRIPTION:League Name: Mon Mens Open 3rd div \nGame Type: Regular\nGame S
 tatus: Complete\nHome Team: Estilo Mino\nAway Team: Dirty Dena FC\nHome Sc
 ore: 2\nAway Score: 9
END:VEVENT
BEGIN:VEVENT
UID:16431192@ezleagues.ezfacility.com
DTSTAMP:20260426T033811Z
CREATED:20260426T033811Z
DTSTART:20250701T031000Z
DTEND:20250701T040000Z
LOCATION:Harmans Premier Field #5
CONTACT:
SUMMARY:Solteros y Casados VS. Estilo Mino
DESCRIPTION:League Name: Mon Mens Open 3rd div \nGame Type: Regular\nGame S
 tatus: Complete\nHome Team: Solteros y Casados\nAway Team: Estilo Mino\nHo
 me Score: 6\nAway Score: 5
END:VEVENT
BEGIN:VEVENT
UID:16431130@ezleagues.ezfacility.com
DTSTAMP:20260426T033811Z
CREATED:20260426T033811Z
DTSTART:20250708T031000Z
DTEND:20250708T040000Z
LOCATION:Harmans Premier Field #5
CONTACT:
SUMMARY:S.O.L. VS. Estilo Mino
DESCRIPTION:League Name: Mon Mens Open 3rd div \nGame Type: Regular\nGame S
 tatus: Complete\nHome Team: S.O.L.\nAway Team: Estilo Mino\nHome Score: 8\
 nAway Score: 3
END:VEVENT
BEGIN:VEVENT
UID:16553123@ezleagues.ezfacility.com
DTSTAMP:20260426T033811Z
CREATED:20260426T033811Z
DTSTART:20250715T031000Z
DTEND:20250715T040000Z
LOCATION:Harmans Premier Field #5
CONTACT:
SUMMARY:Solteros y Casados VS. Estilo Mino
DESCRIPTION:League Name: Mon Mens Open 3rd div \nGame Type: Regular\nGame S
 tatus: Complete\nHome Team: Solteros y Casados\nAway Team: Estilo Mino\nHo
 me Score: 5\nAway Score: 3
END:VEVENT
BEGIN:VEVENT
UID:16557034@ezleagues.ezfacility.com
DTSTAMP:20260426T033811Z
CREATED:20260426T033811Z
DTSTART:20250722T031000Z
DTEND:20250722T040000Z
LOCATION:Harmans Premier Field #5
CONTACT:
SUMMARY:Sporting FC VS. Estilo Mino
DESCRIPTION:League Name: Mon Mens Open 3rd div \nGame Type: Regular\nGame S
 tatus: Complete\nHome Team: Sporting FC\nAway Team: Estilo Mino\nHome Scor
 e: 3\nAway Score: 0
END:VEVENT
END:VCALENDAR
