BEGIN:VCALENDAR
VERSION:2.0
PRODID:-//EZFacility.com, Inc.//EZL 2.5.5.28621
BEGIN:VEVENT
UID:16424243@ezleagues.ezfacility.com
DTSTAMP:20260423T083842Z
CREATED:20260423T083842Z
DTSTART:20250515T012000Z
DTEND:20250515T021000Z
LOCATION:Harmans Premier Field #4
CONTACT:
SUMMARY:Magnolia and Chill VS. Strikers
DESCRIPTION:League Name: Wed Coed Open 3rd div\nGame Type: Regular\nGame St
 atus: Complete\nHome Team: Magnolia and Chill\nAway Team: Strikers\nHome S
 core: 2\nAway Score: 6
END:VEVENT
BEGIN:VEVENT
UID:16424250@ezleagues.ezfacility.com
DTSTAMP:20260423T083842Z
CREATED:20260423T083842Z
DTSTART:20250522T012000Z
DTEND:20250522T021000Z
LOCATION:Harmans Premier Field #4
CONTACT:
SUMMARY:Golden Retrievers VS. Magnolia and Chill
DESCRIPTION:League Name: Wed Coed Open 3rd div\nGame Type: Regular\nGame St
 atus: Complete\nHome Team: Golden Retrievers\nAway Team: Magnolia and Chil
 l\nHome Score: 5\nAway Score: 4
END:VEVENT
BEGIN:VEVENT
UID:16424259@ezleagues.ezfacility.com
DTSTAMP:20260423T083842Z
CREATED:20260423T083842Z
DTSTART:20250529T021000Z
DTEND:20250529T030000Z
LOCATION:Harmans Premier Field #4
CONTACT:
SUMMARY:Magnolia and Chill VS. Baltimore Warriors
DESCRIPTION:League Name: Wed Coed Open 3rd div\nGame Type: Regular\nGame St
 atus: Complete\nHome Team: Magnolia and Chill\nAway Team: Baltimore Warrio
 rs\nHome Score: 6\nAway Score: 6
END:VEVENT
BEGIN:VEVENT
UID:16424268@ezleagues.ezfacility.com
DTSTAMP:20260423T083842Z
CREATED:20260423T083842Z
DTSTART:20250605T030000Z
DTEND:20250605T035000Z
LOCATION:Harmans Premier Field #4
CONTACT:
SUMMARY:Magnolia and Chill VS. Riverhawks
DESCRIPTION:League Name: Wed Coed Open 3rd div\nGame Type: Regular\nGame St
 atus: Complete\nHome Team: Magnolia and Chill\nAway Team: Riverhawks\nHome
  Score: 5\nAway Score: 5
END:VEVENT
BEGIN:VEVENT
UID:16424276@ezleagues.ezfacility.com
DTSTAMP:20260423T083842Z
CREATED:20260423T083842Z
DTSTART:20250612T003000Z
DTEND:20250612T012000Z
LOCATION:Harmans Premier Field #4
CONTACT:
SUMMARY:FC United VS. Magnolia and Chill
DESCRIPTION:League Name: Wed Coed Open 3rd div\nGame Type: Regular\nGame St
 atus: Complete\nHome Team: FC United\nAway Team: Magnolia and Chill\nHome 
 Score: 1\nAway Score: 2
END:VEVENT
BEGIN:VEVENT
UID:16424283@ezleagues.ezfacility.com
DTSTAMP:20260423T083842Z
CREATED:20260423T083842Z
DTSTART:20250619T003000Z
DTEND:20250619T012000Z
LOCATION:Harmans Premier Field #4
CONTACT:
SUMMARY:Strikers VS. Magnolia and Chill
DESCRIPTION:League Name: Wed Coed Open 3rd div\nGame Type: Regular\nGame St
 atus: Complete\nHome Team: Strikers\nAway Team: Magnolia and Chill\nHome S
 core: 7\nAway Score: 4
END:VEVENT
BEGIN:VEVENT
UID:16424290@ezleagues.ezfacility.com
DTSTAMP:20260423T083842Z
CREATED:20260423T083842Z
DTSTART:20250626T021000Z
DTEND:20250626T030000Z
LOCATION:Harmans Premier Field #4
CONTACT:
SUMMARY:Magnolia and Chill VS. Golden Retrievers
DESCRIPTION:League Name: Wed Coed Open 3rd div\nGame Type: Regular\nGame St
 atus: Complete\nHome Team: Magnolia and Chill\nAway Team: Golden Retriever
 s\nHome Score: 2\nAway Score: 4
END:VEVENT
BEGIN:VEVENT
UID:16535009@ezleagues.ezfacility.com
DTSTAMP:20260423T083842Z
CREATED:20260423T083842Z
DTSTART:20250702T070000Z
DTEND:20250702T080000Z
LOCATION:Harmans Premier Field #5
CONTACT:
SUMMARY:Magnolia and Chill VS. FC United
DESCRIPTION:League Name: Wed Coed Open 3rd div\nGame Type: Regular\nGame St
 atus: Complete\nHome Team: Magnolia and Chill\nAway Team: FC United\nHome 
 Score: 3\nAway Score: 0
END:VEVENT
BEGIN:VEVENT
UID:16541459@ezleagues.ezfacility.com
DTSTAMP:20260423T083842Z
CREATED:20260423T083842Z
DTSTART:20250710T021000Z
DTEND:20250710T030000Z
LOCATION:Harmans Premier Field #4
CONTACT:
SUMMARY:Riverhawks VS. Magnolia and Chill
DESCRIPTION:League Name: Wed Coed Open 3rd div\nGame Type: Regular\nGame St
 atus: Complete\nHome Team: Riverhawks\nAway Team: Magnolia and Chill\nHome
  Score: 4\nAway Score: 2
END:VEVENT
END:VCALENDAR
