BEGIN:VCALENDAR
VERSION:2.0
PRODID:-//EZFacility.com, Inc.//EZL 2.5.5.28621
BEGIN:VEVENT
UID:16312431@ezleagues.ezfacility.com
DTSTAMP:20260420T190650Z
CREATED:20260420T190650Z
DTSTART:20250325T032500Z
DTEND:20250325T042500Z
LOCATION:Field 5
CONTACT:
SUMMARY:Pepsters VS. Bird Gang
DESCRIPTION:League Name: S2 Mens BB Wood Bat Mar 24-25\nGame Type: Regular\
 nGame Status: Complete\nHome Team: Pepsters\nAway Team: Bird Gang\nHome Sc
 ore: 9\nAway Score: 4
END:VEVENT
BEGIN:VEVENT
UID:16312433@ezleagues.ezfacility.com
DTSTAMP:20260420T190650Z
CREATED:20260420T190650Z
DTSTART:20250402T020000Z
DTEND:20250402T030000Z
LOCATION:Field 5
CONTACT:
SUMMARY:Scared Hitless VS. Pepsters
DESCRIPTION:League Name: S2 Mens BB Wood Bat Mar 24-25\nGame Type: Regular\
 nGame Status: Complete\nHome Team: Scared Hitless\nAway Team: Pepsters\nHo
 me Score: 2\nAway Score: 11
END:VEVENT
BEGIN:VEVENT
UID:16312442@ezleagues.ezfacility.com
DTSTAMP:20260420T190650Z
CREATED:20260420T190650Z
DTSTART:20250408T032500Z
DTEND:20250408T042500Z
LOCATION:Field 5
CONTACT:
SUMMARY:Pepsters VS. Wranglers
DESCRIPTION:League Name: S2 Mens BB Wood Bat Mar 24-25\nGame Type: Regular\
 nGame Status: Complete\nHome Team: Pepsters\nAway Team: Wranglers\nHome Sc
 ore: 12\nAway Score: 2
END:VEVENT
BEGIN:VEVENT
UID:16312445@ezleagues.ezfacility.com
DTSTAMP:20260420T190650Z
CREATED:20260420T190650Z
DTSTART:20250415T032500Z
DTEND:20250415T042500Z
LOCATION:Field 4
CONTACT:
SUMMARY:Pepsters VS. Sidewinders
DESCRIPTION:League Name: S2 Mens BB Wood Bat Mar 24-25\nGame Type: Regular\
 nGame Status: Complete\nHome Team: Pepsters\nAway Team: Sidewinders\nHome 
 Score: 4\nAway Score: 7
END:VEVENT
BEGIN:VEVENT
UID:16312449@ezleagues.ezfacility.com
DTSTAMP:20260420T190650Z
CREATED:20260420T190650Z
DTSTART:20250423T020000Z
DTEND:20250423T030000Z
LOCATION:Field 5
CONTACT:
SUMMARY:Rumble Ponies VS. Pepsters
DESCRIPTION:League Name: S2 Mens BB Wood Bat Mar 24-25\nGame Type: Regular\
 nGame Status: Complete\nHome Team: Rumble Ponies\nAway Team: Pepsters\nHom
 e Score: 5\nAway Score: 4
END:VEVENT
BEGIN:VEVENT
UID:16312455@ezleagues.ezfacility.com
DTSTAMP:20260420T190650Z
CREATED:20260420T190650Z
DTSTART:20250429T032500Z
DTEND:20250429T042500Z
LOCATION:Field 4
CONTACT:
SUMMARY:Diablos VS. Pepsters
DESCRIPTION:League Name: S2 Mens BB Wood Bat Mar 24-25\nGame Type: Regular\
 nGame Status: Complete\nHome Team: Diablos\nAway Team: Pepsters\nHome Scor
 e: 7\nAway Score: 6
END:VEVENT
BEGIN:VEVENT
UID:16312459@ezleagues.ezfacility.com
DTSTAMP:20260420T190650Z
CREATED:20260420T190650Z
DTSTART:20250507T011500Z
DTEND:20250507T021500Z
LOCATION:Field 5
CONTACT:
SUMMARY:Devils VS. Pepsters
DESCRIPTION:League Name: S2 Mens BB Wood Bat Mar 24-25\nGame Type: Regular\
 nGame Status: Rescheduled\nHome Team: Devils\nAway Team: Pepsters\n
END:VEVENT
BEGIN:VEVENT
UID:16418848@ezleagues.ezfacility.com
DTSTAMP:20260420T190650Z
CREATED:20260420T190650Z
DTSTART:20250514T011500Z
DTEND:20250514T021500Z
LOCATION:Field 5
CONTACT:
SUMMARY:Devils VS. Pepsters
DESCRIPTION:League Name: S2 Mens BB Wood Bat Mar 24-25\nGame Type: Regular\
 nGame Status: Complete\nHome Team: Devils\nAway Team: Pepsters\nHome Score
 : 6\nAway Score: 3
END:VEVENT
BEGIN:VEVENT
UID:16312466@ezleagues.ezfacility.com
DTSTAMP:20260420T190650Z
CREATED:20260420T190650Z
DTSTART:20250520T011500Z
DTEND:20250520T021500Z
LOCATION:Field 5
CONTACT:
SUMMARY:Dusters VS. Pepsters
DESCRIPTION:League Name: S2 Mens BB Wood Bat Mar 24-25\nGame Type: Postseas
 on\nGame Status: Complete\nHome Team: Dusters\nAway Team: Pepsters\nHome S
 core: 2\nAway Score: 4
END:VEVENT
BEGIN:VEVENT
UID:16312468@ezleagues.ezfacility.com
DTSTAMP:20260420T190650Z
CREATED:20260420T190650Z
DTSTART:20250604T030000Z
DTEND:20250604T040000Z
LOCATION:Field 5
CONTACT:
SUMMARY:Rumble Ponies VS. Pepsters
DESCRIPTION:League Name: S2 Mens BB Wood Bat Mar 24-25\nGame Type: Postseas
 on\nGame Status: Rescheduled\nHome Team: Rumble Ponies\nAway Team: Pepster
 s\n
END:VEVENT
BEGIN:VEVENT
UID:16485847@ezleagues.ezfacility.com
DTSTAMP:20260420T190650Z
CREATED:20260420T190650Z
DTSTART:20250611T030000Z
DTEND:20250611T040000Z
LOCATION:Field 5
CONTACT:
SUMMARY:Rumble Ponies VS. Pepsters
DESCRIPTION:League Name: S2 Mens BB Wood Bat Mar 24-25\nGame Type: Postseas
 on\nGame Status: Complete\nHome Team: Rumble Ponies\nAway Team: Pepsters\n
 Home Score: 1\nAway Score: 6
END:VEVENT
BEGIN:VEVENT
UID:16312475@ezleagues.ezfacility.com
DTSTAMP:20260420T190650Z
CREATED:20260420T190650Z
DTSTART:20250617T032500Z
DTEND:20250617T042500Z
LOCATION:Field 4
CONTACT:
SUMMARY:Diablos VS. Pepsters
DESCRIPTION:League Name: S2 Mens BB Wood Bat Mar 24-25\nGame Type: Postseas
 on\nGame Status: Complete\nHome Team: Diablos\nAway Team: Pepsters\nHome S
 core: 1\nAway Score: 2
END:VEVENT
END:VCALENDAR
