BEGIN:VCALENDAR
VERSION:2.0
PRODID:-//EZFacility.com, Inc.//EZL 2.5.5.28621
BEGIN:VEVENT
UID:16312703@ezleagues.ezfacility.com
DTSTAMP:20260422T004954Z
CREATED:20260422T004954Z
DTSTART:20250322T231000Z
DTEND:20250323T000500Z
LOCATION:Field 2
CONTACT:
SUMMARY:Oklahoma FC (Purple) VS. No Name Available (Light Blue)
DESCRIPTION:League Name: Saturday Coed OPEN COPPER - Spring\nGame Type: Reg
 ular\nGame Status: Complete\nHome Team: Oklahoma FC (Purple)\nAway Team: N
 o Name Available (Light Blue)\nHome Score: 6\nAway Score: 12
END:VEVENT
BEGIN:VEVENT
UID:16312706@ezleagues.ezfacility.com
DTSTAMP:20260422T004954Z
CREATED:20260422T004954Z
DTSTART:20250329T221500Z
DTEND:20250329T231000Z
LOCATION:Field 2
CONTACT:
SUMMARY:Fighting Unicorns (Maroon) VS. No Name Available (Light Blue)
DESCRIPTION:League Name: Saturday Coed OPEN COPPER - Spring\nGame Type: Reg
 ular\nGame Status: Complete\nHome Team: Fighting Unicorns (Maroon)\nAway T
 eam: No Name Available (Light Blue)\nHome Score: 3\nAway Score: 13
END:VEVENT
BEGIN:VEVENT
UID:16312718@ezleagues.ezfacility.com
DTSTAMP:20260422T004954Z
CREATED:20260422T004954Z
DTSTART:20250413T015500Z
DTEND:20250413T025000Z
LOCATION:Field 2
CONTACT:
SUMMARY:Puras Fallas (Black) VS. No Name Available (Light Blue)
DESCRIPTION:League Name: Saturday Coed OPEN COPPER - Spring\nGame Type: Reg
 ular\nGame Status: Complete\nHome Team: Puras Fallas (Black)\nAway Team: N
 o Name Available (Light Blue)\nHome Score: 7\nAway Score: 6
END:VEVENT
BEGIN:VEVENT
UID:16312728@ezleagues.ezfacility.com
DTSTAMP:20260422T004954Z
CREATED:20260422T004954Z
DTSTART:20250420T015500Z
DTEND:20250420T025000Z
LOCATION:Field 2
CONTACT:
SUMMARY:No Name Available (Light Blue) VS. Pulparindos (Black)
DESCRIPTION:League Name: Saturday Coed OPEN COPPER - Spring\nGame Type: Reg
 ular\nGame Status: Complete\nHome Team: No Name Available (Light Blue)\nAw
 ay Team: Pulparindos (Black)\nHome Score: 9\nAway Score: 7
END:VEVENT
BEGIN:VEVENT
UID:16370328@ezleagues.ezfacility.com
DTSTAMP:20260422T004954Z
CREATED:20260422T004954Z
DTSTART:20250426T221500Z
DTEND:20250426T231000Z
LOCATION:Field 3
CONTACT:
SUMMARY:La Familia (Blue) VS. No Name Available (Light Blue)
DESCRIPTION:League Name: Saturday Coed OPEN COPPER - Spring\nGame Type: Reg
 ular\nGame Status: Complete\nHome Team: La Familia (Blue)\nAway Team: No N
 ame Available (Light Blue)\nHome Score: 8\nAway Score: 3
END:VEVENT
BEGIN:VEVENT
UID:16312745@ezleagues.ezfacility.com
DTSTAMP:20260422T004954Z
CREATED:20260422T004954Z
DTSTART:20250503T221500Z
DTEND:20250503T231000Z
LOCATION:Field 2
CONTACT:
SUMMARY:Carpet Burn (Red) VS. No Name Available (Light Blue)
DESCRIPTION:League Name: Saturday Coed OPEN COPPER - Spring\nGame Type: Reg
 ular\nGame Status: Complete\nHome Team: Carpet Burn (Red)\nAway Team: No N
 ame Available (Light Blue)\nHome Score: 5\nAway Score: 5
END:VEVENT
BEGIN:VEVENT
UID:16370347@ezleagues.ezfacility.com
DTSTAMP:20260422T004954Z
CREATED:20260422T004954Z
DTSTART:20250504T015500Z
DTEND:20250504T025000Z
LOCATION:Field 2
CONTACT:
SUMMARY:No Name Available (Light Blue) VS. Old Red FC (Black)
DESCRIPTION:League Name: Saturday Coed OPEN COPPER - Spring\nGame Type: Reg
 ular\nGame Status: Complete\nHome Team: No Name Available (Light Blue)\nAw
 ay Team: Old Red FC (Black)\nHome Score: 5\nAway Score: 8
END:VEVENT
BEGIN:VEVENT
UID:16312748@ezleagues.ezfacility.com
DTSTAMP:20260422T004954Z
CREATED:20260422T004954Z
DTSTART:20250510T212000Z
DTEND:20250510T221500Z
LOCATION:Field 2
CONTACT:
SUMMARY:No Name Available (Light Blue) VS. Matrix (Black)
DESCRIPTION:League Name: Saturday Coed OPEN COPPER - Spring\nGame Type: Reg
 ular\nGame Status: Complete\nHome Team: No Name Available (Light Blue)\nAw
 ay Team: Matrix (Black)\nHome Score: 8\nAway Score: 3
END:VEVENT
END:VCALENDAR
