BEGIN:VCALENDAR
VERSION:2.0
PRODID:-//EZFacility.com, Inc.//EZL 2.5.5.28621
BEGIN:VEVENT
UID:16312698@ezleagues.ezfacility.com
DTSTAMP:20260420T090028Z
CREATED:20260420T090028Z
DTSTART:20250322T221500Z
DTEND:20250322T231000Z
LOCATION:Field 2
CONTACT:
SUMMARY:Pulparindos (Black) VS. Matrix (Black)
DESCRIPTION:League Name: Saturday Coed OPEN COPPER - Spring\nGame Type: Reg
 ular\nGame Status: Complete\nHome Team: Pulparindos (Black)\nAway Team: Ma
 trix (Black)\nHome Score: 9\nAway Score: 3
END:VEVENT
BEGIN:VEVENT
UID:16312707@ezleagues.ezfacility.com
DTSTAMP:20260420T090028Z
CREATED:20260420T090028Z
DTSTART:20250330T000500Z
DTEND:20250330T010000Z
LOCATION:Field 2
CONTACT:
SUMMARY:The Valley (Dark Green) VS. Pulparindos (Black)
DESCRIPTION:League Name: Saturday Coed OPEN COPPER - Spring\nGame Type: Reg
 ular\nGame Status: Complete\nHome Team: The Valley (Dark Green)\nAway Team
 : Pulparindos (Black)\nHome Score: 2\nAway Score: 9
END:VEVENT
BEGIN:VEVENT
UID:16312715@ezleagues.ezfacility.com
DTSTAMP:20260420T090028Z
CREATED:20260420T090028Z
DTSTART:20250406T015500Z
DTEND:20250406T025000Z
LOCATION:Field 2
CONTACT:
SUMMARY:Pulparindos (Black) VS. Oklahoma FC (Purple)
DESCRIPTION:League Name: Saturday Coed OPEN COPPER - Spring\nGame Type: Reg
 ular\nGame Status: Complete\nHome Team: Pulparindos (Black)\nAway Team: Ok
 lahoma FC (Purple)\nHome Score: 3\nAway Score: 13
END:VEVENT
BEGIN:VEVENT
UID:16312721@ezleagues.ezfacility.com
DTSTAMP:20260420T090028Z
CREATED:20260420T090028Z
DTSTART:20250412T231000Z
DTEND:20250413T000500Z
LOCATION:Field 1
CONTACT:
SUMMARY:Lil Green Gouls (White) VS. Pulparindos (Black)
DESCRIPTION:League Name: Saturday Coed OPEN COPPER - Spring\nGame Type: Reg
 ular\nGame Status: Complete\nHome Team: Lil Green Gouls (White)\nAway Team
 : Pulparindos (Black)\nHome Score: 9\nAway Score: 4
END:VEVENT
BEGIN:VEVENT
UID:16312728@ezleagues.ezfacility.com
DTSTAMP:20260420T090028Z
CREATED:20260420T090028Z
DTSTART:20250420T015500Z
DTEND:20250420T025000Z
LOCATION:Field 2
CONTACT:
SUMMARY:No Name Available (Light Blue) VS. Pulparindos (Black)
DESCRIPTION:League Name: Saturday Coed OPEN COPPER - Spring\nGame Type: Reg
 ular\nGame Status: Complete\nHome Team: No Name Available (Light Blue)\nAw
 ay Team: Pulparindos (Black)\nHome Score: 9\nAway Score: 7
END:VEVENT
BEGIN:VEVENT
UID:16312733@ezleagues.ezfacility.com
DTSTAMP:20260420T090028Z
CREATED:20260420T090028Z
DTSTART:20250426T221500Z
DTEND:20250426T231000Z
LOCATION:Field 2
CONTACT:
SUMMARY:Pulparindos (Black) VS. RealHousewives OfMadrid(White)
DESCRIPTION:League Name: Saturday Coed OPEN COPPER - Spring\nGame Type: Reg
 ular\nGame Status: Complete\nHome Team: Pulparindos (Black)\nAway Team: Re
 alHousewives OfMadrid(White)\nHome Score: 4\nAway Score: 7
END:VEVENT
BEGIN:VEVENT
UID:16312744@ezleagues.ezfacility.com
DTSTAMP:20260420T090028Z
CREATED:20260420T090028Z
DTSTART:20250504T015500Z
DTEND:20250504T025000Z
LOCATION:Field 3
CONTACT:
SUMMARY:Fireball Kickers (Black) VS. Pulparindos (Black)
DESCRIPTION:League Name: Saturday Coed OPEN COPPER - Spring\nGame Type: Reg
 ular\nGame Status: Complete\nHome Team: Fireball Kickers (Black)\nAway Tea
 m: Pulparindos (Black)\nHome Score: 9\nAway Score: 5
END:VEVENT
BEGIN:VEVENT
UID:16312747@ezleagues.ezfacility.com
DTSTAMP:20260420T090028Z
CREATED:20260420T090028Z
DTSTART:20250510T221500Z
DTEND:20250510T231000Z
LOCATION:Field 1
CONTACT:
SUMMARY:Pulparindos (Black) VS. La Familia (Blue)
DESCRIPTION:League Name: Saturday Coed OPEN COPPER - Spring\nGame Type: Reg
 ular\nGame Status: Complete\nHome Team: Pulparindos (Black)\nAway Team: La
  Familia (Blue)\nHome Score: 5\nAway Score: 9
END:VEVENT
END:VCALENDAR
