BEGIN:VCALENDAR
VERSION:2.0
PRODID:-//EZFacility.com, Inc.//EZL 2.5.5.28621
BEGIN:VEVENT
UID:16312700@ezleagues.ezfacility.com
DTSTAMP:20260423T060928Z
CREATED:20260423T060928Z
DTSTART:20250323T015500Z
DTEND:20250323T025000Z
LOCATION:Field 2
CONTACT:
SUMMARY:Old Red FC (Black) VS. The Valley (Dark Green)
DESCRIPTION:League Name: Saturday Coed OPEN COPPER - Spring\nGame Type: Reg
 ular\nGame Status: Complete\nHome Team: Old Red FC (Black)\nAway Team: The
  Valley (Dark Green)\nHome Score: 6\nAway Score: 5
END:VEVENT
BEGIN:VEVENT
UID:16312709@ezleagues.ezfacility.com
DTSTAMP:20260423T060928Z
CREATED:20260423T060928Z
DTSTART:20250329T212000Z
DTEND:20250329T221500Z
LOCATION:Field 2
CONTACT:
SUMMARY:Old Red FC (Black) VS. RealHousewives OfMadrid(White)
DESCRIPTION:League Name: Saturday Coed OPEN COPPER - Spring\nGame Type: Reg
 ular\nGame Status: Complete\nHome Team: Old Red FC (Black)\nAway Team: Rea
 lHousewives OfMadrid(White)\nHome Score: 4\nAway Score: 11
END:VEVENT
BEGIN:VEVENT
UID:16347714@ezleagues.ezfacility.com
DTSTAMP:20260423T060928Z
CREATED:20260423T060928Z
DTSTART:20250405T231000Z
DTEND:20250406T000500Z
LOCATION:Field 2
CONTACT:
SUMMARY:Old Red FC (Black) VS. La Familia (Blue)
DESCRIPTION:League Name: Saturday Coed OPEN COPPER - Spring\nGame Type: Reg
 ular\nGame Status: Complete\nHome Team: Old Red FC (Black)\nAway Team: La 
 Familia (Blue)\nHome Score: 7\nAway Score: 7
END:VEVENT
BEGIN:VEVENT
UID:16312726@ezleagues.ezfacility.com
DTSTAMP:20260423T060928Z
CREATED:20260423T060928Z
DTSTART:20250419T221500Z
DTEND:20250419T231000Z
LOCATION:Field 2
CONTACT:
SUMMARY:RealHousewives OfMadrid(White) VS. Old Red FC (Black)
DESCRIPTION:League Name: Saturday Coed OPEN COPPER - Spring\nGame Type: Reg
 ular\nGame Status: Complete\nHome Team: RealHousewives OfMadrid(White)\nAw
 ay Team: Old Red FC (Black)\nHome Score: 3\nAway Score: 6
END:VEVENT
BEGIN:VEVENT
UID:16312737@ezleagues.ezfacility.com
DTSTAMP:20260423T060928Z
CREATED:20260423T060928Z
DTSTART:20250427T015500Z
DTEND:20250427T025000Z
LOCATION:Field 2
CONTACT:
SUMMARY:Old Red FC (Black) VS. Fireball Kickers (Black)
DESCRIPTION:League Name: Saturday Coed OPEN COPPER - Spring\nGame Type: Reg
 ular\nGame Status: Complete\nHome Team: Old Red FC (Black)\nAway Team: Fir
 eball Kickers (Black)\nHome Score: 9\nAway Score: 5
END:VEVENT
BEGIN:VEVENT
UID:16370347@ezleagues.ezfacility.com
DTSTAMP:20260423T060928Z
CREATED:20260423T060928Z
DTSTART:20250504T015500Z
DTEND:20250504T025000Z
LOCATION:Field 2
CONTACT:
SUMMARY:No Name Available (Light Blue) VS. Old Red FC (Black)
DESCRIPTION:League Name: Saturday Coed OPEN COPPER - Spring\nGame Type: Reg
 ular\nGame Status: Complete\nHome Team: No Name Available (Light Blue)\nAw
 ay Team: Old Red FC (Black)\nHome Score: 5\nAway Score: 8
END:VEVENT
BEGIN:VEVENT
UID:16312740@ezleagues.ezfacility.com
DTSTAMP:20260423T060928Z
CREATED:20260423T060928Z
DTSTART:20250504T025000Z
DTEND:20250504T034500Z
LOCATION:Field 2
CONTACT:
SUMMARY:Los Centros (Baby Blue) VS. Old Red FC (Black)
DESCRIPTION:League Name: Saturday Coed OPEN COPPER - Spring\nGame Type: Reg
 ular\nGame Status: Complete\nHome Team: Los Centros (Baby Blue)\nAway Team
 : Old Red FC (Black)\nHome Score: 9\nAway Score: 7
END:VEVENT
BEGIN:VEVENT
UID:16370342@ezleagues.ezfacility.com
DTSTAMP:20260423T060928Z
CREATED:20260423T060928Z
DTSTART:20250511T015500Z
DTEND:20250511T025000Z
LOCATION:Field 3
CONTACT:
SUMMARY:Old Red FC (Black) VS. Puras Fallas (Black)
DESCRIPTION:League Name: Saturday Coed OPEN COPPER - Spring\nGame Type: Reg
 ular\nGame Status: Complete\nHome Team: Old Red FC (Black)\nAway Team: Pur
 as Fallas (Black)\nHome Score: 2\nAway Score: 5
END:VEVENT
END:VCALENDAR
