BEGIN:VCALENDAR
VERSION:2.0
PRODID:-//EZFacility.com, Inc.//EZL 2.5.5.28621
BEGIN:VEVENT
UID:16313702@ezleagues.ezfacility.com
DTSTAMP:20260424T011812Z
CREATED:20260424T011812Z
DTSTART:20250324T080000Z
DTEND:20250324T084000Z
LOCATION:008 Ibrox
CONTACT:Corey 
SUMMARY:Ball of Duty VS. Mixed Muppets
DESCRIPTION:League Name: AUTUMN LEAGUES 2025 Monday Mixed 5s Ligue Un\nGame
  Type: Regular\nGame Status: Complete\nHome Team: Ball of Duty\nAway Team:
  Mixed Muppets\nHome Score: 17\nAway Score: 7
END:VEVENT
BEGIN:VEVENT
UID:16313707@ezleagues.ezfacility.com
DTSTAMP:20260424T011812Z
CREATED:20260424T011812Z
DTSTART:20250331T080000Z
DTEND:20250331T084000Z
LOCATION:005 Nou Camp
CONTACT:Kirby
SUMMARY:SOHCAHTOA VS. Mixed Muppets
DESCRIPTION:League Name: AUTUMN LEAGUES 2025 Monday Mixed 5s Ligue Un\nGame
  Type: Regular\nGame Status: Complete\nHome Team: SOHCAHTOA\nAway Team: Mi
 xed Muppets\nHome Score: 16\nAway Score: 3
END:VEVENT
BEGIN:VEVENT
UID:16313712@ezleagues.ezfacility.com
DTSTAMP:20260424T011812Z
CREATED:20260424T011812Z
DTSTART:20250407T094500Z
DTEND:20250407T102500Z
LOCATION:007 Celtic Park
CONTACT:
SUMMARY:Snellem United VS. Mixed Muppets
DESCRIPTION:League Name: AUTUMN LEAGUES 2025 Monday Mixed 5s Ligue Un\nGame
  Type: Regular\nGame Status: Complete\nHome Team: Snellem United\nAway Tea
 m: Mixed Muppets\nHome Score: 13\nAway Score: 6
END:VEVENT
BEGIN:VEVENT
UID:16313717@ezleagues.ezfacility.com
DTSTAMP:20260424T011812Z
CREATED:20260424T011812Z
DTSTART:20250414T094500Z
DTEND:20250414T102500Z
LOCATION:006 Estadio do Dragao
CONTACT:
SUMMARY:PIPERS PEASENTS VS. Mixed Muppets
DESCRIPTION:League Name: AUTUMN LEAGUES 2025 Monday Mixed 5s Ligue Un\nGame
  Type: Regular\nGame Status: Complete\nHome Team: PIPERS PEASENTS\nAway Te
 am: Mixed Muppets\nHome Score: 0\nAway Score: 10
END:VEVENT
BEGIN:VEVENT
UID:16313724@ezleagues.ezfacility.com
DTSTAMP:20260424T011812Z
CREATED:20260424T011812Z
DTSTART:20250428T094500Z
DTEND:20250428T102500Z
LOCATION:008 Ibrox
CONTACT:Greg
SUMMARY:Mixed Muppets VS. Wet Fish and Chips
DESCRIPTION:League Name: AUTUMN LEAGUES 2025 Monday Mixed 5s Ligue Un\nGame
  Type: Regular\nGame Status: Complete\nHome Team: Mixed Muppets\nAway Team
 : Wet Fish and Chips\nHome Score: 6\nAway Score: 12
END:VEVENT
BEGIN:VEVENT
UID:16313727@ezleagues.ezfacility.com
DTSTAMP:20260424T011812Z
CREATED:20260424T011812Z
DTSTART:20250505T094500Z
DTEND:20250505T102500Z
LOCATION:007 Celtic Park
CONTACT:
SUMMARY:FACEBOOK FC  VS. Mixed Muppets
DESCRIPTION:League Name: AUTUMN LEAGUES 2025 Monday Mixed 5s Ligue Un\nGame
  Type: Regular\nGame Status: Complete\nHome Team: FACEBOOK FC \nAway Team:
  Mixed Muppets\nHome Score: 12\nAway Score: 17
END:VEVENT
BEGIN:VEVENT
UID:16313730@ezleagues.ezfacility.com
DTSTAMP:20260424T011812Z
CREATED:20260424T011812Z
DTSTART:20250512T081500Z
DTEND:20250512T085500Z
LOCATION:006 Estadio do Dragao
CONTACT:
SUMMARY:Mixed Muppets VS. Ball of Duty
DESCRIPTION:League Name: AUTUMN LEAGUES 2025 Monday Mixed 5s Ligue Un\nGame
  Type: Regular\nGame Status: Complete\nHome Team: Mixed Muppets\nAway Team
 : Ball of Duty\nHome Score: 4\nAway Score: 12
END:VEVENT
BEGIN:VEVENT
UID:16313735@ezleagues.ezfacility.com
DTSTAMP:20260424T011812Z
CREATED:20260424T011812Z
DTSTART:20250519T090000Z
DTEND:20250519T094000Z
LOCATION:007 Celtic Park
CONTACT:
SUMMARY:Mixed Muppets VS. SOHCAHTOA
DESCRIPTION:League Name: AUTUMN LEAGUES 2025 Monday Mixed 5s Ligue Un\nGame
  Type: Regular\nGame Status: Complete\nHome Team: Mixed Muppets\nAway Team
 : SOHCAHTOA\nHome Score: 3\nAway Score: 11
END:VEVENT
BEGIN:VEVENT
UID:16313740@ezleagues.ezfacility.com
DTSTAMP:20260424T011812Z
CREATED:20260424T011812Z
DTSTART:20250526T103000Z
DTEND:20250526T111000Z
LOCATION:003 San Siro
CONTACT:
SUMMARY:Mixed Muppets VS. Snellem United
DESCRIPTION:League Name: AUTUMN LEAGUES 2025 Monday Mixed 5s Ligue Un\nGame
  Type: Regular\nGame Status: Complete\nHome Team: Mixed Muppets\nAway Team
 : Snellem United\nHome Score: 20\nAway Score: 8
END:VEVENT
BEGIN:VEVENT
UID:16313745@ezleagues.ezfacility.com
DTSTAMP:20260424T011812Z
CREATED:20260424T011812Z
DTSTART:20250602T094500Z
DTEND:20250602T102500Z
LOCATION:007 Celtic Park
CONTACT:Reef
SUMMARY:Mixed Muppets VS. Donkey kongs
DESCRIPTION:League Name: AUTUMN LEAGUES 2025 Monday Mixed 5s Ligue Un\nGame
  Type: Regular\nGame Status: Complete\nHome Team: Mixed Muppets\nAway Team
 : Donkey kongs\nHome Score: 9\nAway Score: 9
END:VEVENT
BEGIN:VEVENT
UID:16313752@ezleagues.ezfacility.com
DTSTAMP:20260424T011812Z
CREATED:20260424T011812Z
DTSTART:20250616T090000Z
DTEND:20250616T094000Z
LOCATION:007 Celtic Park
CONTACT:
SUMMARY:Wet Fish and Chips VS. Mixed Muppets
DESCRIPTION:League Name: AUTUMN LEAGUES 2025 Monday Mixed 5s Ligue Un\nGame
  Type: Regular\nGame Status: Complete\nHome Team: Wet Fish and Chips\nAway
  Team: Mixed Muppets\nHome Score: 7\nAway Score: 4
END:VEVENT
BEGIN:VEVENT
UID:16313721@ezleagues.ezfacility.com
DTSTAMP:20260424T011812Z
CREATED:20260424T011812Z
DTSTART:20250623T094500Z
DTEND:20250623T102500Z
LOCATION:005 Nou Camp
CONTACT:
SUMMARY:Mixed Muppets VS. Pipers peasants 2.0
DESCRIPTION:League Name: AUTUMN LEAGUES 2025 Monday Mixed 5s Ligue Un\nGame
  Type: Regular\nGame Status: Complete\nHome Team: Mixed Muppets\nAway Team
 : Pipers peasants 2.0\nHome Score: 8\nAway Score: 19
END:VEVENT
BEGIN:VEVENT
UID:16313749@ezleagues.ezfacility.com
DTSTAMP:20260424T011812Z
CREATED:20260424T011812Z
DTSTART:20250630T090000Z
DTEND:20250630T094000Z
LOCATION:006 Estadio do Dragao
CONTACT:Oliver 
SUMMARY:Pipers peasants 2.0 VS. Mixed Muppets
DESCRIPTION:League Name: AUTUMN LEAGUES 2025 Monday Mixed 5s Ligue Un\nGame
  Type: Regular\nGame Status: Complete\nHome Team: Pipers peasants 2.0\nAwa
 y Team: Mixed Muppets\nHome Score: 8\nAway Score: 7
END:VEVENT
BEGIN:VEVENT
UID:16497096@ezleagues.ezfacility.com
DTSTAMP:20260424T011812Z
CREATED:20260424T011812Z
DTSTART:20250707T033000Z
DTEND:20250707T041000Z
LOCATION:008 Ibrox
CONTACT:AA
SUMMARY:Donkey kongs VS. Mixed Muppets
DESCRIPTION:League Name: AUTUMN LEAGUES 2025 Monday Mixed 5s Ligue Un\nGame
  Type: Postseason\nGame Status: Complete\nHome Team: Donkey kongs\nAway Te
 am: Mixed Muppets\nHome Score: 10\nAway Score: 0
END:VEVENT
END:VCALENDAR
