BEGIN:VCALENDAR
VERSION:2.0
PRODID:-//EZFacility.com, Inc.//EZL 2.5.5.28621
BEGIN:VEVENT
UID:16314080@ezleagues.ezfacility.com
DTSTAMP:20260423T180207Z
CREATED:20260423T180207Z
DTSTART:20250326T020000Z
DTEND:20250326T024000Z
LOCATION:007 Celtic Park
CONTACT:AA
SUMMARY:Not Sure VS. Fill in Wednesday
DESCRIPTION:League Name: AUTUMN LEAGUES 2025 Wednesday Men's 5s MLS\nGame T
 ype: Regular\nGame Status: Complete\nHome Team: Not Sure\nAway Team: Fill 
 in Wednesday\nHome Score: 0\nAway Score: 10
END:VEVENT
BEGIN:VEVENT
UID:16314086@ezleagues.ezfacility.com
DTSTAMP:20260423T180207Z
CREATED:20260423T180207Z
DTSTART:20250402T071500Z
DTEND:20250402T075500Z
LOCATION:008 Ibrox
CONTACT:
SUMMARY:The Fellas VS. Fill in Wednesday
DESCRIPTION:League Name: AUTUMN LEAGUES 2025 Wednesday Men's 5s MLS\nGame T
 ype: Regular\nGame Status: Complete\nHome Team: The Fellas\nAway Team: Fil
 l in Wednesday\nHome Score: 10\nAway Score: 4
END:VEVENT
BEGIN:VEVENT
UID:16314092@ezleagues.ezfacility.com
DTSTAMP:20260423T180207Z
CREATED:20260423T180207Z
DTSTART:20250409T103000Z
DTEND:20250409T111000Z
LOCATION:008 Ibrox
CONTACT:Greg
SUMMARY:Fill in Wednesday VS. Interyanan
DESCRIPTION:League Name: AUTUMN LEAGUES 2025 Wednesday Men's 5s MLS\nGame T
 ype: Regular\nGame Status: Complete\nHome Team: Fill in Wednesday\nAway Te
 am: Interyanan\nHome Score: 10\nAway Score: 14
END:VEVENT
BEGIN:VEVENT
UID:16314103@ezleagues.ezfacility.com
DTSTAMP:20260423T180207Z
CREATED:20260423T180207Z
DTSTART:20250423T081500Z
DTEND:20250423T085500Z
LOCATION:007 Celtic Park
CONTACT:
SUMMARY:Giroud Sandstorm VS. Fill in Wednesday
DESCRIPTION:League Name: AUTUMN LEAGUES 2025 Wednesday Men's 5s MLS\nGame T
 ype: Regular\nGame Status: Complete\nHome Team: Giroud Sandstorm\nAway Tea
 m: Fill in Wednesday\nHome Score: 10\nAway Score: 7
END:VEVENT
BEGIN:VEVENT
UID:16314107@ezleagues.ezfacility.com
DTSTAMP:20260423T180207Z
CREATED:20260423T180207Z
DTSTART:20250430T094500Z
DTEND:20250430T102500Z
LOCATION:008 Ibrox
CONTACT:
SUMMARY:Preppy Potato's 2.0 VS. Fill in Wednesday
DESCRIPTION:League Name: AUTUMN LEAGUES 2025 Wednesday Men's 5s MLS\nGame T
 ype: Regular\nGame Status: Complete\nHome Team: Preppy Potato's 2.0\nAway 
 Team: Fill in Wednesday\nHome Score: 12\nAway Score: 6
END:VEVENT
BEGIN:VEVENT
UID:16314111@ezleagues.ezfacility.com
DTSTAMP:20260423T180207Z
CREATED:20260423T180207Z
DTSTART:20250507T103000Z
DTEND:20250507T111000Z
LOCATION:007 Celtic Park
CONTACT:Kirby
SUMMARY:Fill in Wednesday VS. the inbetweeners
DESCRIPTION:League Name: AUTUMN LEAGUES 2025 Wednesday Men's 5s MLS\nGame T
 ype: Regular\nGame Status: Complete\nHome Team: Fill in Wednesday\nAway Te
 am: the inbetweeners\nHome Score: 16\nAway Score: 6
END:VEVENT
BEGIN:VEVENT
UID:16314115@ezleagues.ezfacility.com
DTSTAMP:20260423T180207Z
CREATED:20260423T180207Z
DTSTART:20250514T090000Z
DTEND:20250514T094000Z
LOCATION:008 Ibrox
CONTACT:
SUMMARY:FAMILY FRESH  VS. Fill in Wednesday
DESCRIPTION:League Name: AUTUMN LEAGUES 2025 Wednesday Men's 5s MLS\nGame T
 ype: Regular\nGame Status: Complete\nHome Team: FAMILY FRESH \nAway Team: 
 Fill in Wednesday\nHome Score: 4\nAway Score: 4
END:VEVENT
BEGIN:VEVENT
UID:16314119@ezleagues.ezfacility.com
DTSTAMP:20260423T180207Z
CREATED:20260423T180207Z
DTSTART:20250521T030000Z
DTEND:20250521T034000Z
LOCATION:007 Celtic Park
CONTACT:AA
SUMMARY:Fill in Wednesday VS. Father Figures
DESCRIPTION:League Name: AUTUMN LEAGUES 2025 Wednesday Men's 5s MLS\nGame T
 ype: Regular\nGame Status: Complete\nHome Team: Fill in Wednesday\nAway Te
 am: Father Figures\nHome Score: 0\nAway Score: 10
END:VEVENT
BEGIN:VEVENT
UID:16314125@ezleagues.ezfacility.com
DTSTAMP:20260423T180207Z
CREATED:20260423T180207Z
DTSTART:20250528T094500Z
DTEND:20250528T102500Z
LOCATION:008 Ibrox
CONTACT:
SUMMARY:Fill in Wednesday VS. Not Sure
DESCRIPTION:League Name: AUTUMN LEAGUES 2025 Wednesday Men's 5s MLS\nGame T
 ype: Regular\nGame Status: Complete\nHome Team: Fill in Wednesday\nAway Te
 am: Not Sure\nHome Score: 0\nAway Score: 10
END:VEVENT
BEGIN:VEVENT
UID:16314131@ezleagues.ezfacility.com
DTSTAMP:20260423T180207Z
CREATED:20260423T180207Z
DTSTART:20250604T090000Z
DTEND:20250604T094000Z
LOCATION:008 Ibrox
CONTACT:Greg
SUMMARY:Fill in Wednesday VS. The Fellas
DESCRIPTION:League Name: AUTUMN LEAGUES 2025 Wednesday Men's 5s MLS\nGame T
 ype: Regular\nGame Status: Complete\nHome Team: Fill in Wednesday\nAway Te
 am: The Fellas\nHome Score: 0\nAway Score: 10
END:VEVENT
BEGIN:VEVENT
UID:16314137@ezleagues.ezfacility.com
DTSTAMP:20260423T180207Z
CREATED:20260423T180207Z
DTSTART:20250611T033000Z
DTEND:20250611T041000Z
LOCATION:007 Celtic Park
CONTACT:AA
SUMMARY:Fill in Wednesday VS. Interyanan
DESCRIPTION:League Name: AUTUMN LEAGUES 2025 Wednesday Men's 5s MLS\nGame T
 ype: Regular\nGame Status: Complete\nHome Team: Fill in Wednesday\nAway Te
 am: Interyanan\nHome Score: 0\nAway Score: 10
END:VEVENT
END:VCALENDAR
