BEGIN:VCALENDAR
VERSION:2.0
PRODID:-//EZFacility.com, Inc.//EZL 2.5.5.28621
BEGIN:VEVENT
UID:16318923@ezleagues.ezfacility.com
DTSTAMP:20260422T091845Z
CREATED:20260422T091845Z
DTSTART:20250327T080000Z
DTEND:20250327T084000Z
LOCATION:007 Celtic Park
CONTACT:Oliver 
SUMMARY:Luis' Team VS. CONS\, POMS AND A BRAZILIAN FC
DESCRIPTION:League Name: AUTUMN LEAGUES 2025 Thursday Men's 5s Bundesliga\n
 Game Type: Regular\nGame Status: Complete\nHome Team: Luis' Team\nAway Tea
 m: CONS, POMS AND A BRAZILIAN FC\nHome Score: 14\nAway Score: 6
END:VEVENT
BEGIN:VEVENT
UID:16318928@ezleagues.ezfacility.com
DTSTAMP:20260422T091845Z
CREATED:20260422T091845Z
DTSTART:20250403T093000Z
DTEND:20250403T101000Z
LOCATION:009 Anfield
CONTACT:Corey 
SUMMARY:Wreckedhams VS. CONS\, POMS AND A BRAZILIAN FC
DESCRIPTION:League Name: AUTUMN LEAGUES 2025 Thursday Men's 5s Bundesliga\n
 Game Type: Regular\nGame Status: Complete\nHome Team: Wreckedhams\nAway Te
 am: CONS, POMS AND A BRAZILIAN FC\nHome Score: 7\nAway Score: 3
END:VEVENT
BEGIN:VEVENT
UID:16318933@ezleagues.ezfacility.com
DTSTAMP:20260422T091845Z
CREATED:20260422T091845Z
DTSTART:20250410T103000Z
DTEND:20250410T111000Z
LOCATION:010 Deepdale
CONTACT:
SUMMARY:Jas and the Band VS. CONS\, POMS AND A BRAZILIAN FC
DESCRIPTION:League Name: AUTUMN LEAGUES 2025 Thursday Men's 5s Bundesliga\n
 Game Type: Regular\nGame Status: Complete\nHome Team: Jas and the Band\nAw
 ay Team: CONS, POMS AND A BRAZILIAN FC\nHome Score: 8\nAway Score: 4
END:VEVENT
BEGIN:VEVENT
UID:16318937@ezleagues.ezfacility.com
DTSTAMP:20260422T091845Z
CREATED:20260422T091845Z
DTSTART:20250417T103000Z
DTEND:20250417T111000Z
LOCATION:003 San Siro
CONTACT:
SUMMARY:CONS\, POMS AND A BRAZILIAN FC VS. Iron Nuts
DESCRIPTION:League Name: AUTUMN LEAGUES 2025 Thursday Men's 5s Bundesliga\n
 Game Type: Regular\nGame Status: Complete\nHome Team: CONS, POMS AND A BRA
 ZILIAN FC\nAway Team: Iron Nuts\nHome Score: 8\nAway Score: 7
END:VEVENT
BEGIN:VEVENT
UID:16318940@ezleagues.ezfacility.com
DTSTAMP:20260422T091845Z
CREATED:20260422T091845Z
DTSTART:20250424T081500Z
DTEND:20250424T085500Z
LOCATION:008 Ibrox
CONTACT:
SUMMARY:CONS\, POMS AND A BRAZILIAN FC VS. Titans
DESCRIPTION:League Name: AUTUMN LEAGUES 2025 Thursday Men's 5s Bundesliga\n
 Game Type: Regular\nGame Status: Complete\nHome Team: CONS, POMS AND A BRA
 ZILIAN FC\nAway Team: Titans\nHome Score: 15\nAway Score: 0
END:VEVENT
BEGIN:VEVENT
UID:16318943@ezleagues.ezfacility.com
DTSTAMP:20260422T091845Z
CREATED:20260422T091845Z
DTSTART:20250501T094500Z
DTEND:20250501T102500Z
LOCATION:004 La Bombonera
CONTACT:
SUMMARY:CONS\, POMS AND A BRAZILIAN FC VS. Make it Rain
DESCRIPTION:League Name: AUTUMN LEAGUES 2025 Thursday Men's 5s Bundesliga\n
 Game Type: Regular\nGame Status: Complete\nHome Team: CONS, POMS AND A BRA
 ZILIAN FC\nAway Team: Make it Rain\nHome Score: 10\nAway Score: 13
END:VEVENT
BEGIN:VEVENT
UID:16318946@ezleagues.ezfacility.com
DTSTAMP:20260422T091845Z
CREATED:20260422T091845Z
DTSTART:20250508T081500Z
DTEND:20250508T085500Z
LOCATION:008 Ibrox
CONTACT:
SUMMARY:CONS\, POMS AND A BRAZILIAN FC VS. Bald and the Beautiful
DESCRIPTION:League Name: AUTUMN LEAGUES 2025 Thursday Men's 5s Bundesliga\n
 Game Type: Regular\nGame Status: Complete\nHome Team: CONS, POMS AND A BRA
 ZILIAN FC\nAway Team: Bald and the Beautiful\nHome Score: 9\nAway Score: 9
END:VEVENT
BEGIN:VEVENT
UID:16318951@ezleagues.ezfacility.com
DTSTAMP:20260422T091845Z
CREATED:20260422T091845Z
DTSTART:20250515T081500Z
DTEND:20250515T085500Z
LOCATION:009 Anfield
CONTACT:Greg
SUMMARY:CONS\, POMS AND A BRAZILIAN FC VS. Luis' Team
DESCRIPTION:League Name: AUTUMN LEAGUES 2025 Thursday Men's 5s Bundesliga\n
 Game Type: Regular\nGame Status: Complete\nHome Team: CONS, POMS AND A BRA
 ZILIAN FC\nAway Team: Luis' Team\nHome Score: 4\nAway Score: 4
END:VEVENT
BEGIN:VEVENT
UID:16318961@ezleagues.ezfacility.com
DTSTAMP:20260422T091845Z
CREATED:20260422T091845Z
DTSTART:20250529T094500Z
DTEND:20250529T102500Z
LOCATION:005 Nou Camp
CONTACT:Greg
SUMMARY:CONS\, POMS AND A BRAZILIAN FC VS. Jas and the Band
DESCRIPTION:League Name: AUTUMN LEAGUES 2025 Thursday Men's 5s Bundesliga\n
 Game Type: Regular\nGame Status: Complete\nHome Team: CONS, POMS AND A BRA
 ZILIAN FC\nAway Team: Jas and the Band\nHome Score: 4\nAway Score: 8
END:VEVENT
BEGIN:VEVENT
UID:16318965@ezleagues.ezfacility.com
DTSTAMP:20260422T091845Z
CREATED:20260422T091845Z
DTSTART:20250605T103000Z
DTEND:20250605T111000Z
LOCATION:003 San Siro
CONTACT:
SUMMARY:Iron Nuts VS. CONS\, POMS AND A BRAZILIAN FC
DESCRIPTION:League Name: AUTUMN LEAGUES 2025 Thursday Men's 5s Bundesliga\n
 Game Type: Regular\nGame Status: Complete\nHome Team: Iron Nuts\nAway Team
 : CONS, POMS AND A BRAZILIAN FC\nHome Score: 7\nAway Score: 9
END:VEVENT
BEGIN:VEVENT
UID:16318968@ezleagues.ezfacility.com
DTSTAMP:20260422T091845Z
CREATED:20260422T091845Z
DTSTART:20250612T033000Z
DTEND:20250612T041000Z
LOCATION:003 San Siro
CONTACT:AA
SUMMARY:Titans VS. CONS\, POMS AND A BRAZILIAN FC
DESCRIPTION:League Name: AUTUMN LEAGUES 2025 Thursday Men's 5s Bundesliga\n
 Game Type: Regular\nGame Status: Complete\nHome Team: Titans\nAway Team: C
 ONS, POMS AND A BRAZILIAN FC\nHome Score: 0\nAway Score: 10
END:VEVENT
BEGIN:VEVENT
UID:16318971@ezleagues.ezfacility.com
DTSTAMP:20260422T091845Z
CREATED:20260422T091845Z
DTSTART:20250619T094500Z
DTEND:20250619T102500Z
LOCATION:003 San Siro
CONTACT:Greg
SUMMARY:Make it Rain VS. CONS\, POMS AND A BRAZILIAN FC
DESCRIPTION:League Name: AUTUMN LEAGUES 2025 Thursday Men's 5s Bundesliga\n
 Game Type: Regular\nGame Status: Complete\nHome Team: Make it Rain\nAway T
 eam: CONS, POMS AND A BRAZILIAN FC\nHome Score: 8\nAway Score: 7
END:VEVENT
BEGIN:VEVENT
UID:16533572@ezleagues.ezfacility.com
DTSTAMP:20260422T091845Z
CREATED:20260422T091845Z
DTSTART:20250703T090000Z
DTEND:20250703T094000Z
LOCATION:008 Ibrox
CONTACT:Greg
SUMMARY:CONS\, POMS AND A BRAZILIAN FC VS. Titans
DESCRIPTION:League Name: AUTUMN LEAGUES 2025 Thursday Men's 5s Bundesliga\n
 Game Type: Postseason\nGame Status: Complete\nHome Team: CONS, POMS AND A 
 BRAZILIAN FC\nAway Team: Titans\nHome Score: 11\nAway Score: 9
END:VEVENT
BEGIN:VEVENT
UID:16533575@ezleagues.ezfacility.com
DTSTAMP:20260422T091845Z
CREATED:20260422T091845Z
DTSTART:20250710T100000Z
DTEND:20250710T104000Z
LOCATION:009 Anfield
CONTACT:Greg
SUMMARY:Bald and the Beautiful VS. CONS\, POMS AND A BRAZILIAN FC
DESCRIPTION:League Name: AUTUMN LEAGUES 2025 Thursday Men's 5s Bundesliga\n
 Game Type: Postseason\nGame Status: Complete\nHome Team: Bald and the Beau
 tiful\nAway Team: CONS, POMS AND A BRAZILIAN FC\nHome Score: 10\nAway Scor
 e: 0
END:VEVENT
END:VCALENDAR
